BEGIN:VCALENDAR
VERSION:2.0
PRODID:-//CB4 Manhattan Community Board - ECPv6.15.20//NONSGML v1.0//EN
CALSCALE:GREGORIAN
METHOD:PUBLISH
X-WR-CALNAME:CB4 Manhattan Community Board
X-ORIGINAL-URL:https://cbmanhattan.cityofnewyork.us/cb4
X-WR-CALDESC:Events for CB4 Manhattan Community Board
REFRESH-INTERVAL;VALUE=DURATION:PT1H
X-Robots-Tag:noindex
X-PUBLISHED-TTL:PT1H
BEGIN:VTIMEZONE
TZID:America/New_York
BEGIN:DAYLIGHT
TZOFFSETFROM:-0500
TZOFFSETTO:-0400
TZNAME:EDT
DTSTART:20210314T070000
END:DAYLIGHT
BEGIN:STANDARD
TZOFFSETFROM:-0400
TZOFFSETTO:-0500
TZNAME:EST
DTSTART:20211107T060000
END:STANDARD
BEGIN:DAYLIGHT
TZOFFSETFROM:-0500
TZOFFSETTO:-0400
TZNAME:EDT
DTSTART:20220313T070000
END:DAYLIGHT
BEGIN:STANDARD
TZOFFSETFROM:-0400
TZOFFSETTO:-0500
TZNAME:EST
DTSTART:20221106T060000
END:STANDARD
BEGIN:DAYLIGHT
TZOFFSETFROM:-0500
TZOFFSETTO:-0400
TZNAME:EDT
DTSTART:20230312T070000
END:DAYLIGHT
BEGIN:STANDARD
TZOFFSETFROM:-0400
TZOFFSETTO:-0500
TZNAME:EST
DTSTART:20231105T060000
END:STANDARD
END:VTIMEZONE
BEGIN:VEVENT
DTSTART;TZID=America/New_York:20220105T183000
DTEND;TZID=America/New_York:20220105T210000
DTSTAMP:20260421T233030
CREATED:20211123T204901Z
LAST-MODIFIED:20211123T204901Z
UID:10000776-1641407400-1641416400@cbmanhattan.cityofnewyork.us
SUMMARY:Full Board
DESCRIPTION:Zoom Registration Link \nCall-In Number: (646) 518-9805 \nWatch Livestream via Youtube
URL:https://cbmanhattan.cityofnewyork.us/cb4/meeting/full-board-15/
LOCATION:NY\, United States
END:VEVENT
BEGIN:VEVENT
DTSTART;TZID=America/New_York:20220110T183000
DTEND;TZID=America/New_York:20220110T210000
DTSTAMP:20260421T233030
CREATED:20211123T205026Z
LAST-MODIFIED:20211123T205026Z
UID:10000777-1641839400-1641848400@cbmanhattan.cityofnewyork.us
SUMMARY:Arts\, Culture\, Education\, & Street Life Committee (ACES)
DESCRIPTION:Zoom Registration Link \nConference Call-In Number: 646-518-9805 \nView Live Stream
URL:https://cbmanhattan.cityofnewyork.us/cb4/meeting/arts-culture-education-street-life-committee-aces-19/
LOCATION:NY\, United States
END:VEVENT
BEGIN:VEVENT
DTSTART;TZID=America/New_York:20220111T183000
DTEND;TZID=America/New_York:20220111T210000
DTSTAMP:20260421T233030
CREATED:20211123T205141Z
LAST-MODIFIED:20211123T205141Z
UID:10000778-1641925800-1641934800@cbmanhattan.cityofnewyork.us
SUMMARY:Business License & Permits Committee (BLP)
DESCRIPTION:Zoom Registration Link \nConference Call-In Number: 646-518-9805 \nView Live Stream
URL:https://cbmanhattan.cityofnewyork.us/cb4/meeting/business-license-permits-committee-blp-23/
LOCATION:NY\, United States
END:VEVENT
BEGIN:VEVENT
DTSTART;TZID=America/New_York:20220112T183000
DTEND;TZID=America/New_York:20220112T210000
DTSTAMP:20260421T233030
CREATED:20211123T205334Z
LAST-MODIFIED:20211123T205334Z
UID:10000779-1642012200-1642021200@cbmanhattan.cityofnewyork.us
SUMMARY:Clinton/Hell's Kitchen Land Use Committee (CHKLU)
DESCRIPTION:Zoom Registration Link \nCall-In Number: (646) 518-9805\nWebinar ID: 961 7200 0913 \nWatch Livestream via Youtube
URL:https://cbmanhattan.cityofnewyork.us/cb4/meeting/clinton-hells-kitchen-land-use-committee-chklu-20/
LOCATION:NY\, United States
END:VEVENT
BEGIN:VEVENT
DTSTART;TZID=America/New_York:20220113T183000
DTEND;TZID=America/New_York:20220113T210000
DTSTAMP:20260421T233030
CREATED:20211123T205509Z
LAST-MODIFIED:20211123T205509Z
UID:10000780-1642098600-1642107600@cbmanhattan.cityofnewyork.us
SUMMARY:Waterfront\, Parks & Environment Committee (WPE)
DESCRIPTION:Zoom Registration Link \nConference Call-In Number: 646-518-9805 \nView Live Stream
URL:https://cbmanhattan.cityofnewyork.us/cb4/meeting/waterfront-parks-environment-committee-wpe-20/
LOCATION:NY\, United States
END:VEVENT
BEGIN:VEVENT
DTSTART;VALUE=DATE:20220117
DTEND;VALUE=DATE:20220118
DTSTAMP:20260421T233030
CREATED:20211123T205729Z
LAST-MODIFIED:20211123T205815Z
UID:10000782-1642377600-1642463999@cbmanhattan.cityofnewyork.us
SUMMARY:OFFICE CLOSED - Martin Luther King\, Jr. Holiday
DESCRIPTION:
URL:https://cbmanhattan.cityofnewyork.us/cb4/meeting/martin-luther-king-jr-holiday-office-closed/
LOCATION:NY\, United States
END:VEVENT
BEGIN:VEVENT
DTSTART;TZID=America/New_York:20220118T183000
DTEND;TZID=America/New_York:20220118T210000
DTSTAMP:20260421T233030
CREATED:20211123T205641Z
LAST-MODIFIED:20211123T205641Z
UID:10000781-1642530600-1642539600@cbmanhattan.cityofnewyork.us
SUMMARY:Chelsea Land Use Committee (CLU)
DESCRIPTION:Zoom Registration Link \nConference Call-In Number: 646-518-9805 \nView Live Stream
URL:https://cbmanhattan.cityofnewyork.us/cb4/meeting/chelsea-land-use-committee-clu-21/
LOCATION:NY\, United States
END:VEVENT
BEGIN:VEVENT
DTSTART;TZID=America/New_York:20220119T183000
DTEND;TZID=America/New_York:20220119T210000
DTSTAMP:20260421T233030
CREATED:20211123T210046Z
LAST-MODIFIED:20211123T210046Z
UID:10000784-1642617000-1642626000@cbmanhattan.cityofnewyork.us
SUMMARY:Transportation Planning Committee (TRANS)
DESCRIPTION:Zoom Registration Link \nConference Call-In Number: 646-518-9805 \nView Live Stream
URL:https://cbmanhattan.cityofnewyork.us/cb4/meeting/transportation-planning-committee-trans-18/
LOCATION:NY\, United States
END:VEVENT
BEGIN:VEVENT
DTSTART;TZID=America/New_York:20220120T183000
DTEND;TZID=America/New_York:20220120T210000
DTSTAMP:20260421T233030
CREATED:20211123T210209Z
LAST-MODIFIED:20211123T210209Z
UID:10000785-1642703400-1642712400@cbmanhattan.cityofnewyork.us
SUMMARY:Housing\, Health & Human Services Committee (HHHS)
DESCRIPTION:Zoom Registration Link \nConference Call-In Number: 646-518-9805 \nView Live Stream
URL:https://cbmanhattan.cityofnewyork.us/cb4/meeting/housing-health-human-services-committee-hhhs-12/
LOCATION:NY\, United States
END:VEVENT
BEGIN:VEVENT
DTSTART;TZID=America/New_York:20220124T183000
DTEND;TZID=America/New_York:20220124T210000
DTSTAMP:20260421T233030
CREATED:20211123T210313Z
LAST-MODIFIED:20211123T210313Z
UID:10000786-1643049000-1643058000@cbmanhattan.cityofnewyork.us
SUMMARY:Executive Committee (EXEC)
DESCRIPTION:Zoom Registration Link \nConference Call-In Number: 646-518-9805 \nView Live Stream
URL:https://cbmanhattan.cityofnewyork.us/cb4/meeting/executive-committee-exec-20/
LOCATION:NY\, United States
END:VEVENT
BEGIN:VEVENT
DTSTART;TZID=America/New_York:20220125T183000
DTEND;TZID=America/New_York:20220125T210000
DTSTAMP:20260421T233030
CREATED:20211123T205938Z
LAST-MODIFIED:20211227T194706Z
UID:10000783-1643135400-1643144400@cbmanhattan.cityofnewyork.us
SUMMARY:Social & Racial Justice Task Force
DESCRIPTION:Zoom Registration Link \nConference Call-In Number: 646-918-9805 \nView Livestream
URL:https://cbmanhattan.cityofnewyork.us/cb4/meeting/social-racial-justice-task-force-6/
LOCATION:NY\, United States
END:VEVENT
END:VCALENDAR