BEGIN:VCALENDAR
VERSION:2.0
PRODID:-//CB4 Manhattan Community Board - ECPv6.15.20//NONSGML v1.0//EN
CALSCALE:GREGORIAN
METHOD:PUBLISH
X-ORIGINAL-URL:https://cbmanhattan.cityofnewyork.us/cb4
X-WR-CALDESC:Events for CB4 Manhattan Community Board
REFRESH-INTERVAL;VALUE=DURATION:PT1H
X-Robots-Tag:noindex
X-PUBLISHED-TTL:PT1H
BEGIN:VTIMEZONE
TZID:America/New_York
BEGIN:DAYLIGHT
TZOFFSETFROM:-0500
TZOFFSETTO:-0400
TZNAME:EDT
DTSTART:20200308T070000
END:DAYLIGHT
BEGIN:STANDARD
TZOFFSETFROM:-0400
TZOFFSETTO:-0500
TZNAME:EST
DTSTART:20201101T060000
END:STANDARD
BEGIN:DAYLIGHT
TZOFFSETFROM:-0500
TZOFFSETTO:-0400
TZNAME:EDT
DTSTART:20210314T070000
END:DAYLIGHT
BEGIN:STANDARD
TZOFFSETFROM:-0400
TZOFFSETTO:-0500
TZNAME:EST
DTSTART:20211107T060000
END:STANDARD
BEGIN:DAYLIGHT
TZOFFSETFROM:-0500
TZOFFSETTO:-0400
TZNAME:EDT
DTSTART:20220313T070000
END:DAYLIGHT
BEGIN:STANDARD
TZOFFSETFROM:-0400
TZOFFSETTO:-0500
TZNAME:EST
DTSTART:20221106T060000
END:STANDARD
END:VTIMEZONE
BEGIN:VEVENT
DTSTART;VALUE=DATE:20211102
DTEND;VALUE=DATE:20211103
DTSTAMP:20260422T151635
CREATED:20210324T170043Z
LAST-MODIFIED:20210324T170043Z
UID:10000773-1635811200-1635897599@cbmanhattan.cityofnewyork.us
SUMMARY:OFFICE CLOSED - Election Day
DESCRIPTION:
URL:https://cbmanhattan.cityofnewyork.us/cb4/meeting/office-closed-election-day-2/
LOCATION:NY\, United States
END:VEVENT
BEGIN:VEVENT
DTSTART;TZID=America/New_York:20211103T183000
DTEND;TZID=America/New_York:20211103T213000
DTSTAMP:20260422T151635
CREATED:20210323T200251Z
LAST-MODIFIED:20210923T153854Z
UID:10000695-1635964200-1635975000@cbmanhattan.cityofnewyork.us
SUMMARY:Full Board
DESCRIPTION:Zoom Registration Link \nCall-In Number: (646) 518-9805 \nWatch Livestream via Youtube
URL:https://cbmanhattan.cityofnewyork.us/cb4/meeting/full-board-20/
END:VEVENT
BEGIN:VEVENT
DTSTART;TZID=America/New_York:20211104T183000
DTEND;TZID=America/New_York:20211104T213000
DTSTAMP:20260422T151635
CREATED:20210323T202537Z
LAST-MODIFIED:20210323T202537Z
UID:10000710-1636050600-1636061400@cbmanhattan.cityofnewyork.us
SUMMARY:Waterfront\, Parks & Environment Committee (WPE)
DESCRIPTION:Zoom Registration Link \nConference Call-In Number: 646-518-9805 \nView Live Stream
URL:https://cbmanhattan.cityofnewyork.us/cb4/meeting/waterfront-parks-environment-committee-wpe-18/
LOCATION:NY\, United States
END:VEVENT
BEGIN:VEVENT
DTSTART;TZID=America/New_York:20211108T183000
DTEND;TZID=America/New_York:20211108T213000
DTSTAMP:20260422T151635
CREATED:20210323T203434Z
LAST-MODIFIED:20210323T203434Z
UID:10000720-1636396200-1636407000@cbmanhattan.cityofnewyork.us
SUMMARY:Arts\, Culture\, Education\, & Street Life Committee (ACES)
DESCRIPTION:Zoom Registration Link \nConference Call-In Number: 646-518-9805 \nView Live Stream
URL:https://cbmanhattan.cityofnewyork.us/cb4/meeting/arts-culture-education-street-life-committee-aces-18/
LOCATION:NY\, United States
END:VEVENT
BEGIN:VEVENT
DTSTART;TZID=America/New_York:20211109T183000
DTEND;TZID=America/New_York:20211109T213000
DTSTAMP:20260422T151635
CREATED:20210323T201716Z
LAST-MODIFIED:20210323T201716Z
UID:10000702-1636482600-1636493400@cbmanhattan.cityofnewyork.us
SUMMARY:Business License & Permits Committee (BLP)
DESCRIPTION:Zoom Registration Link \nConference Call-In Number: 646-518-9805 \nView Live Stream
URL:https://cbmanhattan.cityofnewyork.us/cb4/meeting/business-license-permits-committee-blp-21/
LOCATION:NY\, United States
END:VEVENT
BEGIN:VEVENT
DTSTART;TZID=America/New_York:20211110T183000
DTEND;TZID=America/New_York:20211110T213000
DTSTAMP:20260422T151635
CREATED:20210323T204909Z
LAST-MODIFIED:20211109T152531Z
UID:10000725-1636569000-1636579800@cbmanhattan.cityofnewyork.us
SUMMARY:CANCELED: Clinton/Hell's Kitchen Land Use Committee (CHKLU)
DESCRIPTION:
URL:https://cbmanhattan.cityofnewyork.us/cb4/meeting/clinton-hells-kitchen-land-use-committee-chklu-18/
LOCATION:NY\, United States
END:VEVENT
BEGIN:VEVENT
DTSTART;VALUE=DATE:20211111
DTEND;VALUE=DATE:20211112
DTSTAMP:20260422T151635
CREATED:20210324T170130Z
LAST-MODIFIED:20210324T170130Z
UID:10000604-1636588800-1636675199@cbmanhattan.cityofnewyork.us
SUMMARY:OFFICE CLOSED - Veteran's Day
DESCRIPTION:
URL:https://cbmanhattan.cityofnewyork.us/cb4/meeting/office-closed-veterans-day-2/
LOCATION:NY\, United States
END:VEVENT
BEGIN:VEVENT
DTSTART;TZID=America/New_York:20211115T183000
DTEND;TZID=America/New_York:20211115T213000
DTSTAMP:20260422T151635
CREATED:20210324T163732Z
LAST-MODIFIED:20211109T152610Z
UID:10000761-1637001000-1637011800@cbmanhattan.cityofnewyork.us
SUMMARY:CANCELED: Chelsea Land Use Committee (CLU)
DESCRIPTION:
URL:https://cbmanhattan.cityofnewyork.us/cb4/meeting/chelsea-land-use-committee-clu-19/
LOCATION:NY\, United States
END:VEVENT
BEGIN:VEVENT
DTSTART;TZID=America/New_York:20211116T183000
DTEND;TZID=America/New_York:20211116T213000
DTSTAMP:20260422T151635
CREATED:20210324T164717Z
LAST-MODIFIED:20210324T164717Z
UID:10000766-1637087400-1637098200@cbmanhattan.cityofnewyork.us
SUMMARY:Social & Racial Justice Task Force
DESCRIPTION:Zoom Registration Link \nConference Call-In Number: 646-518-9805 \nView Live Stream
URL:https://cbmanhattan.cityofnewyork.us/cb4/meeting/social-racial-justice-task-force-4/
LOCATION:NY\, United States
END:VEVENT
BEGIN:VEVENT
DTSTART;TZID=America/New_York:20211117T180000
DTEND;TZID=America/New_York:20211117T200000
DTSTAMP:20260422T151635
CREATED:20211109T184723Z
LAST-MODIFIED:20211109T184723Z
UID:10000775-1637172000-1637179200@cbmanhattan.cityofnewyork.us
SUMMARY:Proposed Paddy's Market National Register Historic District - Community Informational Meeting
DESCRIPTION:Join Clinton Housing Development Company\, Hudson Yards Hell’s Kitchen Alliance and Manhattan Community Board 4 for a community meeting to discuss the proposal to create a National Register Historic District in Hell’s Kitchen\, covering Ninth Avenue between West 35th and West 40th Streets and portions of surrounding blocks. This meeting is for neighborhood residents\, tenants\, property owners\, businesses\, and community leaders who would like to learn about new opportunities provided by National Register listing. \nPaddy’s Market Flyer \nProposed Boundary \nRegister via Zoom
URL:https://cbmanhattan.cityofnewyork.us/cb4/meeting/proposed-paddys-market-national-register-historic-district-community-informational-meeting/
LOCATION:NY\, United States
END:VEVENT
BEGIN:VEVENT
DTSTART;TZID=America/New_York:20211117T183000
DTEND;TZID=America/New_York:20211117T213000
DTSTAMP:20260422T151635
CREATED:20210323T205608Z
LAST-MODIFIED:20210323T205608Z
UID:10000729-1637173800-1637184600@cbmanhattan.cityofnewyork.us
SUMMARY:Transportation Planning Committee (TRANS)
DESCRIPTION:Zoom Registration Link \nConference Call-In Number: 646-518-9805 \nView Live Stream
URL:https://cbmanhattan.cityofnewyork.us/cb4/meeting/transportation-planning-committee-trans-19/
LOCATION:NY\, United States
END:VEVENT
BEGIN:VEVENT
DTSTART;TZID=America/New_York:20211118T183000
DTEND;TZID=America/New_York:20211118T213000
DTSTAMP:20260422T151635
CREATED:20210324T161920Z
LAST-MODIFIED:20210324T161920Z
UID:10000756-1637260200-1637271000@cbmanhattan.cityofnewyork.us
SUMMARY:Housing\, Health\, & Human Services Committee (HHHS)
DESCRIPTION:Zoom Registration Link \nConference Call-In Number: 646-518-9805 \nView Live Stream
URL:https://cbmanhattan.cityofnewyork.us/cb4/meeting/housing-health-human-services-committee-hhhs-10/
LOCATION:NY\, United States
END:VEVENT
BEGIN:VEVENT
DTSTART;TZID=America/New_York:20211122T183000
DTEND;TZID=America/New_York:20211122T213000
DTSTAMP:20260422T151635
CREATED:20210324T165320Z
LAST-MODIFIED:20210324T165320Z
UID:10000770-1637605800-1637616600@cbmanhattan.cityofnewyork.us
SUMMARY:Executive Committee (EXEC)
DESCRIPTION:Zoom Registration Link \nConference Call-In Number: 646-518-9805 \nView Live Stream
URL:https://cbmanhattan.cityofnewyork.us/cb4/meeting/executive-committee-exec-18/
LOCATION:NY\, United States
END:VEVENT
BEGIN:VEVENT
DTSTART;VALUE=DATE:20211125
DTEND;VALUE=DATE:20211126
DTSTAMP:20260422T151635
CREATED:20210324T170245Z
LAST-MODIFIED:20210324T170245Z
UID:10000606-1637798400-1637884799@cbmanhattan.cityofnewyork.us
SUMMARY:OFFICE CLOSED - Thanksgiving Day
DESCRIPTION:
URL:https://cbmanhattan.cityofnewyork.us/cb4/meeting/office-closed-thanksgiving-day-2/
LOCATION:NY\, United States
END:VEVENT
END:VCALENDAR