BEGIN:VCALENDAR
VERSION:2.0
PRODID:-//CB2 Manhattan Community Board - ECPv6.15.20//NONSGML v1.0//EN
CALSCALE:GREGORIAN
METHOD:PUBLISH
X-WR-CALNAME:CB2 Manhattan Community Board
X-ORIGINAL-URL:https://cbmanhattan.cityofnewyork.us/cb2
X-WR-CALDESC:Events for CB2 Manhattan Community Board
REFRESH-INTERVAL;VALUE=DURATION:PT1H
X-Robots-Tag:noindex
X-PUBLISHED-TTL:PT1H
BEGIN:VTIMEZONE
TZID:America/New_York
BEGIN:DAYLIGHT
TZOFFSETFROM:-0500
TZOFFSETTO:-0400
TZNAME:EDT
DTSTART:20220313T070000
END:DAYLIGHT
BEGIN:STANDARD
TZOFFSETFROM:-0400
TZOFFSETTO:-0500
TZNAME:EST
DTSTART:20221106T060000
END:STANDARD
BEGIN:DAYLIGHT
TZOFFSETFROM:-0500
TZOFFSETTO:-0400
TZNAME:EDT
DTSTART:20230312T070000
END:DAYLIGHT
BEGIN:STANDARD
TZOFFSETFROM:-0400
TZOFFSETTO:-0500
TZNAME:EST
DTSTART:20231105T060000
END:STANDARD
BEGIN:DAYLIGHT
TZOFFSETFROM:-0500
TZOFFSETTO:-0400
TZNAME:EDT
DTSTART:20240310T070000
END:DAYLIGHT
BEGIN:STANDARD
TZOFFSETFROM:-0400
TZOFFSETTO:-0500
TZNAME:EST
DTSTART:20241103T060000
END:STANDARD
END:VTIMEZONE
BEGIN:VEVENT
DTSTART;TZID=America/New_York:20230622T183000
DTEND;TZID=America/New_York:20230622T220000
DTSTAMP:20260423T005110
CREATED:20230524T173127Z
LAST-MODIFIED:20230622T185622Z
UID:10001084-1687458600-1687471200@cbmanhattan.cityofnewyork.us
SUMMARY:FULL BOARD - Susan Kent\, Chair
DESCRIPTION:Click HERE for the June 2023 Full Board Package \nClick here for May 2023 Full Board Minutes \nLimited In-Person Public Attendance at the CB2 June Full Board Meeting! \nCB2’s June Full Board Meeting will be held in person with a Zoom remote option. \nYou may also watch a Livestream of the Full Board meeting via YouTube by clicking here. \nThe meeting will take place on Thursday\, June 22nd\, at 6:30 pm. \nWhile the public will continue to be welcome to join the CB2 June Full Board meeting via Zoom\, there will be limited seating available at the in-person venue. Most of the CB2 Members will be required to attend in person. \nBecause public seating is severely limited at the venue\, members of the public who wish to attend in person must sign up and receive a “ticket” to be admitted to the in-person venue. Signing up and the “ticket” are free\, and tickets will be awarded on a first-come\, first-served basis. \nPlease note that\, because of limited space\, those without a pre-registered “ticket” will not be admitted to attend in person. \nPre-registration to attend in person will close at 5:00 pm on June 22\, 2023. \n\nPlease sign up to request a ticket to attend in person by 5:00 pm on June 22\, 2023.\n\nPlease visit the CB2 Manhattan online calendar for agenda updates: https://cbmanhattan.cityofnewyork.us/cb2/calendar/ \nWe accept both written testimony and live testimony at the beginning of our meeting\, but please note that public speakers will be limited to 2 minutes or less at the discretion of the Chair. We recommend submitting written testimony\, which will be summarized at the meeting\, to ensure an opportunity for your voice to be recognized.  \n\nSubmit written testimony by 5:00 p.m.\, June 22\, 2023 \nRegister to speak at the Full Board by 5:00 p.m.\, June 22\, 2023 \nRegister to attend virtually via zoom Despite the return to in-person meetings\, at least for the June Full Board meeting\, CB2 encourages the public to attend virtually via Zoom. If you want to speak\, you must separately register.
URL:https://cbmanhattan.cityofnewyork.us/cb2/event/full-board-susan-kent-chair-2/
LOCATION:The Jackie Robinson Foundation\, 75 Varick Street\, in the Foundation’s Office\, New York\, NY\, 10013\, United States
CATEGORIES:Board Meeting
END:VEVENT
END:VCALENDAR