BEGIN:VCALENDAR
VERSION:2.0
PRODID:-//CB2 Manhattan Community Board - ECPv6.15.20//NONSGML v1.0//EN
CALSCALE:GREGORIAN
METHOD:PUBLISH
X-ORIGINAL-URL:https://cbmanhattan.cityofnewyork.us/cb2
X-WR-CALDESC:Events for CB2 Manhattan Community Board
REFRESH-INTERVAL;VALUE=DURATION:PT1H
X-Robots-Tag:noindex
X-PUBLISHED-TTL:PT1H
BEGIN:VTIMEZONE
TZID:America/New_York
BEGIN:DAYLIGHT
TZOFFSETFROM:-0500
TZOFFSETTO:-0400
TZNAME:EDT
DTSTART:20250309T070000
END:DAYLIGHT
BEGIN:STANDARD
TZOFFSETFROM:-0400
TZOFFSETTO:-0500
TZNAME:EST
DTSTART:20251102T060000
END:STANDARD
BEGIN:DAYLIGHT
TZOFFSETFROM:-0500
TZOFFSETTO:-0400
TZNAME:EDT
DTSTART:20260308T070000
END:DAYLIGHT
BEGIN:STANDARD
TZOFFSETFROM:-0400
TZOFFSETTO:-0500
TZNAME:EST
DTSTART:20261101T060000
END:STANDARD
BEGIN:DAYLIGHT
TZOFFSETFROM:-0500
TZOFFSETTO:-0400
TZNAME:EDT
DTSTART:20270314T070000
END:DAYLIGHT
BEGIN:STANDARD
TZOFFSETFROM:-0400
TZOFFSETTO:-0500
TZNAME:EST
DTSTART:20271107T060000
END:STANDARD
END:VTIMEZONE
BEGIN:VEVENT
DTSTART;TZID=America/New_York:20260423T183000
DTEND;TZID=America/New_York:20260423T223000
DTSTAMP:20260423T050647
CREATED:20260205T010253Z
LAST-MODIFIED:20260423T030429Z
UID:10001571-1776969000-1776983400@cbmanhattan.cityofnewyork.us
SUMMARY:FULL BOARD  - Valerie De La Rosa\, Chair
DESCRIPTION:Thursday\, April 23rd @ 6:30 PM– In Person at the Gould Welcome Center at NYU\, 50 West 4th Street (enter off West 4th) (Map) – and via Zoom videoconference.  \nPlease visit CB2 Manhattan’s online calendar for agenda updates by clicking here. \nTo Register to attend via Zoom\, please click here. \nIf you wish to attend in person\, it will speed up entry to the meeting if you let us know you are coming by filling in your name here.  \nWe accept both written testimony and live testimony at the beginning of our meeting\, but please note that public speakers will be limited to 2 minutes or less at the discretion of the Chair. We recommend submitting written testimony\, which will be summarized at the meeting\, to ensure an opportunity for your voice to be recognized. \nAgenda to include: \n1. Public Session\n2. Adoption of the Agenda\n3. Reports to the Public \n\nElected Officials’ Reports\nBorough President’s Report\nChair’s Report\nDistrict Manager’s Report\n\n4. Business Session\n5. Approval of the Previous Full Board Minutes\n6. Resolutions from Standing Committees\n7. New Business \nFor the latest version of the Full Board Package\, please click here. \nFor the draft minutes from the March Full Board meeting\, please click here. \nSubmit written testimony by 4:00 p.m.\, April 23\, 2026 \nRegister to speak at the Full Board by 4:00 p.m.\, April 23\, 2026
URL:https://cbmanhattan.cityofnewyork.us/cb2/event/full-board-valerie-de-la-rosa-chair-7/
LOCATION:Gould Welcome Center\, 50 West 4th Street\, New York\, NY 10012\, 50 West 4th Street\, New York\, NY\, 10012\, United States
CATEGORIES:Board Meeting
END:VEVENT
BEGIN:VEVENT
DTSTART;TZID=America/New_York:20260521T183000
DTEND;TZID=America/New_York:20260521T223000
DTSTAMP:20260423T050647
CREATED:20260309T214712Z
LAST-MODIFIED:20260309T214712Z
UID:10001582-1779388200-1779402600@cbmanhattan.cityofnewyork.us
SUMMARY:FULL BOARD - Valerie De La Rosa\, Chair
DESCRIPTION:SAVE THE DATE: \nThursday\, May 21st @ 6:30 PM– In Person at the Gould Welcome Center at NYU\, 50 West 4th Street (enter off West 4th) (Map) – and via Zoom videoconference.  \nPlease visit CB2 Manhattan’s online calendar for agenda updates by clicking here. [TBD] \nTo Register to attend via Zoom\, please click here.  [TBD] \nIf you wish to attend in person\, it will speed up entry to the meeting if you let us know you are coming by filling in your name here.  [TBD] \nWe accept both written testimony and live testimony at the beginning of our meeting\, but please note that public speakers will be limited to 2 minutes or less at the discretion of the Chair. We recommend submitting written testimony\, which will be summarized at the meeting\, to ensure an opportunity for your voice to be recognized. \nAgenda to include: \n1. Public Session\n2. Adoption of the Agenda\n3. Reports to the Public \n\nElected Officials’ Reports\nBorough President’s Report\nChair’s Report\nDistrict Manager’s Report\n\n4. Business Session\n5. Approval of the Previous Full Board Minutes\n6. Resolutions from Standing Committees\n7. New Business \nFor the latest version of the Full Board Package\, please click here. [TBD] \nFor the draft minutes from the March Full Board meeting\, please click here.  [TBD] \nSubmit written testimony by 4:00 p.m.\, May 21\, 2026  [TBD]
URL:https://cbmanhattan.cityofnewyork.us/cb2/event/full-board-valerie-de-la-rosa-chair-8/
LOCATION:Gould Welcome Center\, 50 West 4th Street\, New York\, NY 10012\, 50 West 4th Street\, New York\, NY\, 10012\, United States
CATEGORIES:Board Meeting
END:VEVENT
BEGIN:VEVENT
DTSTART;TZID=America/New_York:20260618T183000
DTEND;TZID=America/New_York:20260618T220000
DTSTAMP:20260423T050647
CREATED:20260415T004102Z
LAST-MODIFIED:20260415T004113Z
UID:10001589-1781807400-1781820000@cbmanhattan.cityofnewyork.us
SUMMARY:FULL BOARD - Valerie De La Rosa\, Chair
DESCRIPTION:Thursday\, June 18th @ 6:30 PM– In Person at the Gould Welcome Center at NYU\, 50 West 4th Street (enter off West 4th) (Map) – and via Zoom videoconference.  \nPlease visit CB2 Manhattan’s online calendar for agenda updates by clicking here. \nTo Register to attend via Zoom\, please click here. \nIf you wish to attend in person\, it will speed up entry to the meeting if you let us know you are coming by filling in your name here.  \nWe accept both written testimony and live testimony at the beginning of our meeting\, but please note that public speakers will be limited to 2 minutes or less at the discretion of the Chair. We recommend submitting written testimony\, which will be summarized at the meeting\, to ensure an opportunity for your voice to be recognized. \nAgenda to include: \n1. Public Session\n2. Adoption of the Agenda\n3. Reports to the Public \n\nElected Officials’ Reports\nBorough President’s Report\nChair’s Report\nDistrict Manager’s Report\n\n4. Business Session\n5. Approval of the Previous Full Board Minutes\n6. Resolutions from Standing Committees\n7. New Business \nFor the latest version of the Full Board Package\, please click here. [TBD] \nFor the draft minutes from the March Full Board meeting\, please click here.  [TBD] \nSubmit written testimony by 4:00 p.m.\, June 18\, 2026 \nRegister to speak at the Full Board by 4:00 p.m.\, June 18\, 2026
URL:https://cbmanhattan.cityofnewyork.us/cb2/event/full-board-valerie-de-la-rosa-chair-9/
LOCATION:Gould Welcome Center\, 50 West 4th Street\, New York\, NY 10012\, 50 West 4th Street\, New York\, NY\, 10012\, United States
CATEGORIES:Board Meeting
END:VEVENT
END:VCALENDAR