BEGIN:VCALENDAR
VERSION:2.0
PRODID:-//CB2 Manhattan Community Board - ECPv6.15.20//NONSGML v1.0//EN
CALSCALE:GREGORIAN
METHOD:PUBLISH
X-WR-CALNAME:CB2 Manhattan Community Board
X-ORIGINAL-URL:https://cbmanhattan.cityofnewyork.us/cb2
X-WR-CALDESC:Events for CB2 Manhattan Community Board
REFRESH-INTERVAL;VALUE=DURATION:PT1H
X-Robots-Tag:noindex
X-PUBLISHED-TTL:PT1H
BEGIN:VTIMEZONE
TZID:America/New_York
BEGIN:DAYLIGHT
TZOFFSETFROM:-0500
TZOFFSETTO:-0400
TZNAME:EDT
DTSTART:20200308T070000
END:DAYLIGHT
BEGIN:STANDARD
TZOFFSETFROM:-0400
TZOFFSETTO:-0500
TZNAME:EST
DTSTART:20201101T060000
END:STANDARD
BEGIN:DAYLIGHT
TZOFFSETFROM:-0500
TZOFFSETTO:-0400
TZNAME:EDT
DTSTART:20210314T070000
END:DAYLIGHT
BEGIN:STANDARD
TZOFFSETFROM:-0400
TZOFFSETTO:-0500
TZNAME:EST
DTSTART:20211107T060000
END:STANDARD
BEGIN:DAYLIGHT
TZOFFSETFROM:-0500
TZOFFSETTO:-0400
TZNAME:EDT
DTSTART:20220313T070000
END:DAYLIGHT
BEGIN:STANDARD
TZOFFSETFROM:-0400
TZOFFSETTO:-0500
TZNAME:EST
DTSTART:20221106T060000
END:STANDARD
END:VTIMEZONE
BEGIN:VEVENT
DTSTART;TZID=America/New_York:20210607T170000
DTEND;TZID=America/New_York:20210607T170000
DTSTAMP:20260420T050317
CREATED:20210526T161345Z
LAST-MODIFIED:20210607T203555Z
UID:10000742-1623085200-1623085200@cbmanhattan.cityofnewyork.us
SUMMARY:QUALITY OF LIFE Joseph Gallagher\, Chair
DESCRIPTION:1.* Street Activities: \n\n6/14/21 – 6/29/21 – NYC Pride – Production Event (Heritage of Pride\, Inc.): Christopher St. between Greenwich St. and Washington St. (Note: The area is less of a curb lane and is mostly diagonal parking spots) [curb lane closure only]\n6/18/21 – Juneteenth Gathering (Greenwich House Inc.): Barrow St. between 7th Ave. South and W. 4th St. (note: This event will take place in front of Greenwich House at 27 Barrow St.) \n6/22/21 – 6/23/21 – TENURE EXPERIENTIAL – Pride 2021: 7th Ave. South between W. 4th St. and W. 10th St. [curb lane only]\n6/27/21 – ACT Up Health Fair: Sullivan St. between Washington Square South and West 3rd St. [full street closure]\n6/27/21 – PrideFest 2021 (Heritage of Pride Inc.): 1) 4th Ave. between E. 10th St. and E. 9th St. 2) E. 10th St. between 4th Ave. and Broadway 3) E. 12th St. between 4th Ave. and Broadway 4) E. 13th St. between 4th Ave. and Broadway [full street closure]\n6/28/21 – Broome Street Academy 2021 Graduation Ceremony: Broome St. between 6th Ave. and Varick St. [sidewalk and street closure]\n6/30/21 – Anonymous Gallery (136 Baxter St.) Public Neighborhood Gathering: Baxter St. between Hester St. and Grand St. [sidewalk and street closure -both sides]\n7/7/21 – 7/11/21 – Summer Popsicle Statue: Gansevoort Plaza [Pedestrian Plaza Street Closure] (withdrawn)\n10/16/21 – Waverly Place Festival plan B (Greenwich House): Washington Square North between Washington Square West and 5th Ave. [full street closure] (laid over)\n\nFYI/Street Activities Renewal: \n\n8/22/21 (1pm – 7pm)  132nd Feast of St. Rocco Block Party (Baxter St. between Hester and Canal Sts.)\n10/16/21 (9:00am (set-up) – 4pm) The Marco Polo Festival (Grand St between Mulberry & Mott Sts.)\n\nPlease register at the following link:\nhttps://zoom.us/webinar/register/WN_jK9cw6ygQcm6e74q_JyiNg
URL:https://cbmanhattan.cityofnewyork.us/cb2/event/quality-of-life-joseph-gallagher-chair-11/
LOCATION:NY\, United States
CATEGORIES:Board Meeting
END:VEVENT
END:VCALENDAR