BEGIN:VCALENDAR
VERSION:2.0
PRODID:-//CB2 Manhattan Community Board - ECPv6.15.20//NONSGML v1.0//EN
CALSCALE:GREGORIAN
METHOD:PUBLISH
X-WR-CALNAME:CB2 Manhattan Community Board
X-ORIGINAL-URL:https://cbmanhattan.cityofnewyork.us/cb2
X-WR-CALDESC:Events for CB2 Manhattan Community Board
REFRESH-INTERVAL;VALUE=DURATION:PT1H
X-Robots-Tag:noindex
X-PUBLISHED-TTL:PT1H
BEGIN:VTIMEZONE
TZID:America/New_York
BEGIN:DAYLIGHT
TZOFFSETFROM:-0500
TZOFFSETTO:-0400
TZNAME:EDT
DTSTART:20200308T070000
END:DAYLIGHT
BEGIN:STANDARD
TZOFFSETFROM:-0400
TZOFFSETTO:-0500
TZNAME:EST
DTSTART:20201101T060000
END:STANDARD
BEGIN:DAYLIGHT
TZOFFSETFROM:-0500
TZOFFSETTO:-0400
TZNAME:EDT
DTSTART:20210314T070000
END:DAYLIGHT
BEGIN:STANDARD
TZOFFSETFROM:-0400
TZOFFSETTO:-0500
TZNAME:EST
DTSTART:20211107T060000
END:STANDARD
BEGIN:DAYLIGHT
TZOFFSETFROM:-0500
TZOFFSETTO:-0400
TZNAME:EDT
DTSTART:20220313T070000
END:DAYLIGHT
BEGIN:STANDARD
TZOFFSETFROM:-0400
TZOFFSETTO:-0500
TZNAME:EST
DTSTART:20221106T060000
END:STANDARD
END:VTIMEZONE
BEGIN:VEVENT
DTSTART;TZID=America/New_York:20210616T183000
DTEND;TZID=America/New_York:20210616T183000
DTSTAMP:20260422T103021
CREATED:20210526T161056Z
LAST-MODIFIED:20210604T174035Z
UID:10000732-1623868200-1623868200@cbmanhattan.cityofnewyork.us
SUMMARY:[MEETING CANCELLED] JOINT: LAND USE Frederica Sigel\, Chair and REOPENING WORKING GROUP Valerie De La Rosa\, Chair
DESCRIPTION: Joint meeting of Land Use and Reopening Working Group: Open Restaurants Text Amendment. Presentation by Department of City Planning (DCP) on the Open Restaurants Zoning Text Amendment.: DCP is partnering with the Department of Transportation (DOT) and other City agencies to review and remove zoning limitations that would hinder permanent outdoor dining in the roadbed; this includes an overall review of sidewalk cafe regulations which have been suspended since the temporary Open Restaurants Program was enacted last June.\n\nPlease register at the following link:\nhttps://zoom.us/webinar/register/WN_kxvsB-k_SO61rkdvO_ATXg
URL:https://cbmanhattan.cityofnewyork.us/cb2/event/joint-land-use-frederica-sigel-chair-and-reopening-working-group-valerie-de-la-rosa-chair/
LOCATION:NY\, United States
CATEGORIES:Board Meeting
END:VEVENT
BEGIN:VEVENT
DTSTART;TZID=America/New_York:20210603T183000
DTEND;TZID=America/New_York:20210603T183000
DTSTAMP:20260422T103021
CREATED:20210526T161335Z
LAST-MODIFIED:20210604T000821Z
UID:10000741-1622745000-1622745000@cbmanhattan.cityofnewyork.us
SUMMARY:SLA LICENSING 2 Robert Ely\, Co-Chair and Donna Raftery\, Co-Chair
DESCRIPTION:1a.*     Applications to the New York State Liquor Authority (SLA) for Corporate Change to existing Restaurant Wine (RW)\, Tavern Wine (TW) or Full Liquor On-Premise (OP) Licenses: \n\nMoz Restaurant\, Inc. d/b/a Meme\, 581 Hudson St. 10014 (OP-Restaurant) (Sidewalk Café) (laid over)\n\n1b.*    Review of Method of Operation to existing Full Liquor On-Premise (OP) Licenses and to Address Complaints: \n\nElmhurst 3\,  Inc.\, d/b/a The Village Tavern\, 46 Bedford St. 10014 (OP)\nDen NoHo\, LLC\, d/b/a Bandits\, 44 Bedford St. 10014 (OP)\n\n1c. Applications to the New York State Liquor Authority (SLA) for Alteration Application to existing Restaurant Wine (RW)\, Tavern Wine (TW) or Full Liquor On-Premise (OP) Licenses: \n1d.* Apps. to the SLA for New License for New Beer and Cider license (RBC): \n1e.* Apps. to the SLA for New License for New Beer and Wine license (RW/TW): \n\nSanyou West\, LLC\, 47 8th Ave. 10014 (RW-Sushi Restaurant) (withdrawn)\n131 7AV S\, LLC d/b/a Flip Sigi\, 131 7th Ave. So. 10014 (RW-Restaurant) (Sidewalk Café) (laid over)\n\n1f.* Apps. to the SLA for New License for Full Liquor On-Premise (OP) (Sidewalk Café)  \n\nUno Nove Otto Corp. fka Allen Chan or Entity to be Formed 117 Perry St. (OP-Restaurant) (Sidewalk Café) \nMembers Only Experience\, LLC d/b/a Members Only\, 53 W. 8th St. 10011 (OP-Bar/Tavern) (Live Music-Jazz (Individual Singer or Band) (laid over)\nEntity to be Formed by Curt Huegel d/b/a TBD\, 225 W. 4th St. 10014 (OP-Restaurant) (Live Music-TBD) (Open Restaurants Program) (withdrawn)\nL’Antica Pizzeria da Michele NYC\, LLC d/b/a Pending\, 81 Greenwich Ave. aka 2 Bank St. 10014 (OP-Restaurant) (Live Music-Acoustic) (Sidewalk Café) \nHappiness Eating\, LLC\, 556 Hudson St. 10014 (OP-Restaurant) (withdrawn)\nOC W14\, LLC d/b/a Olde City Cheesesteak & Brew\, 202 W. 14th 10011 (OP-Restaurant)\nCorp. to be Formed by Andrew Nelson d/b/a Death by Pizza\, LLC\, 240 W. 14th St. 10011 (OP-Restaurant) (DJ) (Live Music) (Patron Dancing) (Patio or Deck) (Sidewalk Café) (laid over)\n518 Hudson Street\, LLC d/b/a Justine’s\, 518 Hudson St. 10014 (OP-Restaurant) (Sidewalk Café) (Previously unlicensed location) \nFerdi Restaurant\, LLC d/b/a Ferdi’s\, 15 7th 10014 (OP-Restaurant) (Sidewalk Café) (laid over)\n\n1g. Applications to the New York State Liquor Authority (SLA) for Removal and Relocation Application to existing Restaurant Wine (RW)\, Tavern Wine (TW) or Full Liquor On-Premise (OP) Licenses: \n1h. Applications to the New York State Liquor Authority (SLA) for a Temporary/Seasonal Restaurant Wine (RW)\, Tavern Wine (TW) or Full Liquor On-Premise (OP) License: \nPlease register at the following link:\nhttps://zoom.us/webinar/register/WN_JBbfrmZOQm-qteezkrhy7g
URL:https://cbmanhattan.cityofnewyork.us/cb2/event/sla-licensing-2-robert-ely-co-chair-and-donna-raftery-co-chair-7/
LOCATION:NY\, United States
CATEGORIES:Board Meeting
END:VEVENT
END:VCALENDAR