BEGIN:VCALENDAR
VERSION:2.0
PRODID:-//CB2 Manhattan Community Board - ECPv6.15.20//NONSGML v1.0//EN
CALSCALE:GREGORIAN
METHOD:PUBLISH
X-ORIGINAL-URL:https://cbmanhattan.cityofnewyork.us/cb2
X-WR-CALDESC:Events for CB2 Manhattan Community Board
REFRESH-INTERVAL;VALUE=DURATION:PT1H
X-Robots-Tag:noindex
X-PUBLISHED-TTL:PT1H
BEGIN:VTIMEZONE
TZID:America/New_York
BEGIN:DAYLIGHT
TZOFFSETFROM:-0500
TZOFFSETTO:-0400
TZNAME:EDT
DTSTART:20190310T070000
END:DAYLIGHT
BEGIN:STANDARD
TZOFFSETFROM:-0400
TZOFFSETTO:-0500
TZNAME:EST
DTSTART:20191103T060000
END:STANDARD
BEGIN:DAYLIGHT
TZOFFSETFROM:-0500
TZOFFSETTO:-0400
TZNAME:EDT
DTSTART:20200308T070000
END:DAYLIGHT
BEGIN:STANDARD
TZOFFSETFROM:-0400
TZOFFSETTO:-0500
TZNAME:EST
DTSTART:20201101T060000
END:STANDARD
BEGIN:DAYLIGHT
TZOFFSETFROM:-0500
TZOFFSETTO:-0400
TZNAME:EDT
DTSTART:20210314T070000
END:DAYLIGHT
BEGIN:STANDARD
TZOFFSETFROM:-0400
TZOFFSETTO:-0500
TZNAME:EST
DTSTART:20211107T060000
END:STANDARD
END:VTIMEZONE
BEGIN:VEVENT
DTSTART;TZID=America/New_York:20201130T173000
DTEND;TZID=America/New_York:20201130T193000
DTSTAMP:20260422T060848
CREATED:20201026T214403Z
LAST-MODIFIED:20201110T191528Z
UID:10000588-1606757400-1606764600@cbmanhattan.cityofnewyork.us
SUMMARY:EQUITY WORKING GROUP Patricia Laraia\, Co-Chair & Mar Fitzgerald\, Co-Chair
DESCRIPTION:Presentation:\n\nCB2 Committees Processes & Protocols: The purpose\, participants\, laws and City policies that inform the work of each of our committees. \n     2. *Discussion of CB2 Processes through an Equity Lens. \nDo you have questions about whom we are? Our responsibilities\, actions\, decisions? Are you a business or individual that has previously appeared or has plans to appear before one of our committees? We want to hear from you! Please email us at hello@cb2manhattan.org \nPlease register at the following link:\nhttps://zoom.us/webinar/register/WN_j7lmO1-oQwWi7yEx0Z15sg
URL:https://cbmanhattan.cityofnewyork.us/cb2/event/equity-working-group-patricia-laraia-co-chair-mar-fitzgerald-co-chair-2/
LOCATION:NY\, United States
CATEGORIES:Board Meeting
END:VEVENT
END:VCALENDAR