BEGIN:VCALENDAR
VERSION:2.0
PRODID:-//CB2 Manhattan Community Board - ECPv6.15.20//NONSGML v1.0//EN
CALSCALE:GREGORIAN
METHOD:PUBLISH
X-ORIGINAL-URL:https://cbmanhattan.cityofnewyork.us/cb2
X-WR-CALDESC:Events for CB2 Manhattan Community Board
REFRESH-INTERVAL;VALUE=DURATION:PT1H
X-Robots-Tag:noindex
X-PUBLISHED-TTL:PT1H
BEGIN:VTIMEZONE
TZID:America/New_York
BEGIN:DAYLIGHT
TZOFFSETFROM:-0500
TZOFFSETTO:-0400
TZNAME:EDT
DTSTART:20190310T070000
END:DAYLIGHT
BEGIN:STANDARD
TZOFFSETFROM:-0400
TZOFFSETTO:-0500
TZNAME:EST
DTSTART:20191103T060000
END:STANDARD
BEGIN:DAYLIGHT
TZOFFSETFROM:-0500
TZOFFSETTO:-0400
TZNAME:EDT
DTSTART:20200308T070000
END:DAYLIGHT
BEGIN:STANDARD
TZOFFSETFROM:-0400
TZOFFSETTO:-0500
TZNAME:EST
DTSTART:20201101T060000
END:STANDARD
BEGIN:DAYLIGHT
TZOFFSETFROM:-0500
TZOFFSETTO:-0400
TZNAME:EDT
DTSTART:20210314T070000
END:DAYLIGHT
BEGIN:STANDARD
TZOFFSETFROM:-0400
TZOFFSETTO:-0500
TZNAME:EST
DTSTART:20211107T060000
END:STANDARD
END:VTIMEZONE
BEGIN:VEVENT
DTSTART;TZID=America/New_York:20200820T183000
DTEND;TZID=America/New_York:20200820T213000
DTSTAMP:20260421T231908
CREATED:20200729T194715Z
LAST-MODIFIED:20200820T205407Z
UID:10000555-1597948200-1597959000@cbmanhattan.cityofnewyork.us
SUMMARY:FULL BOARD Carter Booth\, Chair (Full Board package now available)
DESCRIPTION:Download the August 2020 Full Board package. \nWritten testimony and/or virtual speaker cards can be submitted by email before 5:00 p.m. August 20\, 2020 to info@cb2manhattan.org. [Please note that registering for the Zoom meeting does not register you to speak.] Please submit your name\, agenda topic\, and address. Public speakers will be limited to 2 minutes or less at the discretion of the Chair. We recommend submitting written testimony\, which will be summarized at the meeting\, to ensure an opportunity for your voice to be recognized.
URL:https://cbmanhattan.cityofnewyork.us/cb2/event/full-board-carter-booth-chair-3/
LOCATION:NY\, United States
END:VEVENT
END:VCALENDAR