BEGIN:VCALENDAR
VERSION:2.0
PRODID:-//CB2 Manhattan Community Board - ECPv6.15.20//NONSGML v1.0//EN
CALSCALE:GREGORIAN
METHOD:PUBLISH
X-ORIGINAL-URL:https://cbmanhattan.cityofnewyork.us/cb2
X-WR-CALDESC:Events for CB2 Manhattan Community Board
REFRESH-INTERVAL;VALUE=DURATION:PT1H
X-Robots-Tag:noindex
X-PUBLISHED-TTL:PT1H
BEGIN:VTIMEZONE
TZID:America/New_York
BEGIN:DAYLIGHT
TZOFFSETFROM:-0500
TZOFFSETTO:-0400
TZNAME:EDT
DTSTART:20190310T070000
END:DAYLIGHT
BEGIN:STANDARD
TZOFFSETFROM:-0400
TZOFFSETTO:-0500
TZNAME:EST
DTSTART:20191103T060000
END:STANDARD
BEGIN:DAYLIGHT
TZOFFSETFROM:-0500
TZOFFSETTO:-0400
TZNAME:EDT
DTSTART:20200308T070000
END:DAYLIGHT
BEGIN:STANDARD
TZOFFSETFROM:-0400
TZOFFSETTO:-0500
TZNAME:EST
DTSTART:20201101T060000
END:STANDARD
BEGIN:DAYLIGHT
TZOFFSETFROM:-0500
TZOFFSETTO:-0400
TZNAME:EDT
DTSTART:20210314T070000
END:DAYLIGHT
BEGIN:STANDARD
TZOFFSETFROM:-0400
TZOFFSETTO:-0500
TZNAME:EST
DTSTART:20211107T060000
END:STANDARD
END:VTIMEZONE
BEGIN:VEVENT
DTSTART;TZID=America/New_York:20200813T183000
DTEND;TZID=America/New_York:20200813T193000
DTSTAMP:20260420T210806
CREATED:20200729T193954Z
LAST-MODIFIED:20200813T160709Z
UID:10000551-1597343400-1597347000@cbmanhattan.cityofnewyork.us
SUMMARY:LANDMARKS Chenault Spence\, Chair
DESCRIPTION:*462 Broadway (120-132 Grand St.) – Application is to modify the wood door/wood window infill at two storefront bays (1 on Broadway\, 1 on Grand St.) to accommodate one ATM in each location.  \n*121 W. 11th St. – Application is to replace windows at the front facade\, install a rooftop addition and a rear addition\, and rear yard and cellar excavation.\n*247 W. 10th St. – Application is to install new windows.\n*257 W. 4th St. – Application is to construct an extension at the rear cellar.
URL:https://cbmanhattan.cityofnewyork.us/cb2/event/landmarks-chenault-spence-chair-3/
LOCATION:NY\, United States
END:VEVENT
END:VCALENDAR