BEGIN:VCALENDAR
VERSION:2.0
PRODID:-//Community Board 12-Manhattan - ECPv6.15.20//NONSGML v1.0//EN
CALSCALE:GREGORIAN
METHOD:PUBLISH
X-WR-CALNAME:Community Board 12-Manhattan
X-ORIGINAL-URL:https://cbmanhattan.cityofnewyork.us/cb12
X-WR-CALDESC:Events for Community Board 12-Manhattan
REFRESH-INTERVAL;VALUE=DURATION:PT1H
X-Robots-Tag:noindex
X-PUBLISHED-TTL:PT1H
BEGIN:VTIMEZONE
TZID:America/New_York
BEGIN:DAYLIGHT
TZOFFSETFROM:-0500
TZOFFSETTO:-0400
TZNAME:EDT
DTSTART:20220313T070000
END:DAYLIGHT
BEGIN:STANDARD
TZOFFSETFROM:-0400
TZOFFSETTO:-0500
TZNAME:EST
DTSTART:20221106T060000
END:STANDARD
BEGIN:DAYLIGHT
TZOFFSETFROM:-0500
TZOFFSETTO:-0400
TZNAME:EDT
DTSTART:20230312T070000
END:DAYLIGHT
BEGIN:STANDARD
TZOFFSETFROM:-0400
TZOFFSETTO:-0500
TZNAME:EST
DTSTART:20231105T060000
END:STANDARD
BEGIN:DAYLIGHT
TZOFFSETFROM:-0500
TZOFFSETTO:-0400
TZNAME:EDT
DTSTART:20240310T070000
END:DAYLIGHT
BEGIN:STANDARD
TZOFFSETFROM:-0400
TZOFFSETTO:-0500
TZNAME:EST
DTSTART:20241103T060000
END:STANDARD
BEGIN:DAYLIGHT
TZOFFSETFROM:-0500
TZOFFSETTO:-0400
TZNAME:EDT
DTSTART:20250309T070000
END:DAYLIGHT
BEGIN:STANDARD
TZOFFSETFROM:-0400
TZOFFSETTO:-0500
TZNAME:EST
DTSTART:20251102T060000
END:STANDARD
BEGIN:DAYLIGHT
TZOFFSETFROM:-0500
TZOFFSETTO:-0400
TZNAME:EDT
DTSTART:20260308T070000
END:DAYLIGHT
BEGIN:STANDARD
TZOFFSETFROM:-0400
TZOFFSETTO:-0500
TZNAME:EST
DTSTART:20261101T060000
END:STANDARD
BEGIN:DAYLIGHT
TZOFFSETFROM:-0500
TZOFFSETTO:-0400
TZNAME:EDT
DTSTART:20270314T070000
END:DAYLIGHT
BEGIN:STANDARD
TZOFFSETFROM:-0400
TZOFFSETTO:-0500
TZNAME:EST
DTSTART:20271107T060000
END:STANDARD
END:VTIMEZONE
BEGIN:VEVENT
DTSTART;TZID=America/New_York:20260316T183000
DTEND;TZID=America/New_York:20260316T210000
DTSTAMP:20260423T022124
CREATED:20251117T183534Z
LAST-MODIFIED:20260220T174840Z
UID:10005027-1773685800-1773694800@cbmanhattan.cityofnewyork.us
SUMMARY:Executive Committee Meeting
DESCRIPTION:Topic: CB12M Executive Committee meeting \nThis meeting will occur in person at the CB12 Office on 530 W 166th Street\, New York\, NY\, and remotely via Zoom. A quorum of Committee Members will gather in person\, with some exceptions. \nRegister in advance for this webinar: \nhttps://us02web.zoom.us/webinar/register/WN_nyTcH4iTT3CNFsNEpl9AZw \nAfter registering\, you will receive a confirmation email containing information about joining the webinar. \nMeeting agenda \n  \n  \n 
URL:https://cbmanhattan.cityofnewyork.us/cb12/calendar/executive-committee-meeting-4-3-3/
LOCATION:CB12 Manhattan Office\, 530 W. 166th Street\, 6th floor\, NEW YORK CITY\, NY\, 10032\, United States
ORGANIZER;CN="Community Board #12%2C Manhattan":MAILTO:ebsmith@cb.nyc.gov
END:VEVENT
BEGIN:VEVENT
DTSTART;TZID=America/New_York:20260217T183000
DTEND;TZID=America/New_York:20260217T210000
DTSTAMP:20260423T022124
CREATED:20251212T185603Z
LAST-MODIFIED:20260217T220650Z
UID:10005028-1771353000-1771362000@cbmanhattan.cityofnewyork.us
SUMMARY:Executive Committee Meeting
DESCRIPTION:Topic: CB12M Executive Committee meeting – VIA ZOOM ONLY\nRegister in advance for this webinar: \nhttps://us02web.zoom.us/webinar/register/WN_nyTcH4iTT3CNFsNEpl9AZw \nAfter registering\, you will receive a confirmation email containing information about joining the webinar. \nMeeting information and agenda \n  \n  \n 
URL:https://cbmanhattan.cityofnewyork.us/cb12/calendar/executive-committee-meeting-4-3-4/
LOCATION:CB12 Manhattan Office\, 530 W. 166th Street\, 6th floor\, NEW YORK CITY\, NY\, 10032\, United States
ORGANIZER;CN="Community Board #12%2C Manhattan":MAILTO:ebsmith@cb.nyc.gov
END:VEVENT
BEGIN:VEVENT
DTSTART;TZID=America/New_York:20251020T183000
DTEND;TZID=America/New_York:20251020T210000
DTSTAMP:20260423T022124
CREATED:20251020T152431Z
LAST-MODIFIED:20251020T152431Z
UID:10005026-1760985000-1760994000@cbmanhattan.cityofnewyork.us
SUMMARY:Executive Committee Meeting
DESCRIPTION:Topic: CB12M Executive Committee meeting\nRegister in advance for this webinar: \nhttps://us02web.zoom.us/webinar/register/WN_nyTcH4iTT3CNFsNEpl9AZw \nAfter registering\, you will receive a confirmation email containing information about joining the webinar. \n  \nMeeting agenda \n  \n 
URL:https://cbmanhattan.cityofnewyork.us/cb12/calendar/executive-committee-meeting-4-3-2/
LOCATION:CB12 Manhattan Office\, 530 W. 166th Street\, 6th floor\, NEW YORK CITY\, NY\, 10032\, United States
ORGANIZER;CN="Community Board #12%2C Manhattan":MAILTO:ebsmith@cb.nyc.gov
END:VEVENT
BEGIN:VEVENT
DTSTART;TZID=America/New_York:20250818T183000
DTEND;TZID=America/New_York:20250818T210000
DTSTAMP:20260423T022124
CREATED:20250327T152250Z
LAST-MODIFIED:20250423T145854Z
UID:10005173-1755541800-1755550800@cbmanhattan.cityofnewyork.us
SUMMARY:Executive Committee Meeting
DESCRIPTION:Topic: CB12M Executive Committee meeting\nRegister in advance for this webinar: \nhttps://us02web.zoom.us/webinar/register/WN_nyTcH4iTT3CNFsNEpl9AZw \nAfter registering\, you will receive a confirmation email containing information about joining the webinar. \n  \n  \n  \n 
URL:https://cbmanhattan.cityofnewyork.us/cb12/calendar/executive-committee-meeting-2-3-2-2-2-2-4-3-2/2025-08-18/
LOCATION:CB12 Manhattan Office\, 530 W. 166th Street\, 6th floor\, NEW YORK CITY\, NY\, 10032\, United States
ORGANIZER;CN="Community Board #12%2C Manhattan":MAILTO:ebsmith@cb.nyc.gov
END:VEVENT
BEGIN:VEVENT
DTSTART;TZID=America/New_York:20250721T183000
DTEND;TZID=America/New_York:20250721T210000
DTSTAMP:20260423T022124
CREATED:20250327T152250Z
LAST-MODIFIED:20250423T145854Z
UID:10005172-1753122600-1753131600@cbmanhattan.cityofnewyork.us
SUMMARY:Executive Committee Meeting
DESCRIPTION:Topic: CB12M Executive Committee meeting\nRegister in advance for this webinar: \nhttps://us02web.zoom.us/webinar/register/WN_nyTcH4iTT3CNFsNEpl9AZw \nAfter registering\, you will receive a confirmation email containing information about joining the webinar. \n  \n  \n  \n 
URL:https://cbmanhattan.cityofnewyork.us/cb12/calendar/executive-committee-meeting-2-3-2-2-2-2-4-3-2/2025-07-21/
LOCATION:CB12 Manhattan Office\, 530 W. 166th Street\, 6th floor\, NEW YORK CITY\, NY\, 10032\, United States
ORGANIZER;CN="Community Board #12%2C Manhattan":MAILTO:ebsmith@cb.nyc.gov
END:VEVENT
BEGIN:VEVENT
DTSTART;TZID=America/New_York:20250414T183000
DTEND;TZID=America/New_York:20250414T210000
DTSTAMP:20260423T022124
CREATED:20250411T180833Z
LAST-MODIFIED:20250411T180834Z
UID:10004942-1744655400-1744664400@cbmanhattan.cityofnewyork.us
SUMMARY:Executive Committee Meeting
DESCRIPTION:Topic: CB12M Executive Committee meeting\nRegister in advance for this webinar: \nhttps://us02web.zoom.us/webinar/register/WN_nyTcH4iTT3CNFsNEpl9AZw \nAfter registering\, you will receive a confirmation email containing information about joining the webinar. \nMeeting agenda \n  \n  \n 
URL:https://cbmanhattan.cityofnewyork.us/cb12/calendar/executive-committee-meeting-2-3-2-2-2-2-4-3-2-2/
LOCATION:CB12 Manhattan Office\, 530 W. 166th Street\, 6th floor\, NEW YORK CITY\, NY\, 10032\, United States
ORGANIZER;CN="Community Board #12%2C Manhattan":MAILTO:ebsmith@cb.nyc.gov
END:VEVENT
BEGIN:VEVENT
DTSTART;TZID=America/New_York:20250218T183000
DTEND;TZID=America/New_York:20250218T210000
DTSTAMP:20260423T022124
CREATED:20250123T200838Z
LAST-MODIFIED:20250123T201112Z
UID:10003258-1739903400-1739912400@cbmanhattan.cityofnewyork.us
SUMMARY:Executive Committee Meeting
DESCRIPTION:Topic: CB12M Executive Committee meeting\nRegister in advance for this webinar: \nhttps://us02web.zoom.us/webinar/register/WN_nyTcH4iTT3CNFsNEpl9AZw \nAfter registering\, you will receive a confirmation email containing information about joining the webinar. \n  \n  \n  \n 
URL:https://cbmanhattan.cityofnewyork.us/cb12/calendar/executive-committee-meeting-2-3-2-2-2-2-4-3/
LOCATION:CB12 Manhattan Office\, 530 W. 166th Street\, 6th floor\, NEW YORK CITY\, NY\, 10032\, United States
ORGANIZER;CN="Community Board #12%2C Manhattan":MAILTO:ebsmith@cb.nyc.gov
END:VEVENT
BEGIN:VEVENT
DTSTART;TZID=America/New_York:20250121T183000
DTEND;TZID=America/New_York:20250121T210000
DTSTAMP:20260423T022124
CREATED:20250115T151857Z
LAST-MODIFIED:20250115T151858Z
UID:10004239-1737484200-1737493200@cbmanhattan.cityofnewyork.us
SUMMARY:Executive Committee Meeting
DESCRIPTION:Topic: CB12M Executive Committee meeting\nRegister in advance for this webinar: \nhttps://us02web.zoom.us/webinar/register/WN_nyTcH4iTT3CNFsNEpl9AZw \nAfter registering\, you will receive a confirmation email containing information about joining the webinar. \n  \n  \n  \n 
URL:https://cbmanhattan.cityofnewyork.us/cb12/calendar/executive-committee-meeting-4-2/
LOCATION:CB12 Manhattan Office\, 530 W. 166th Street\, 6th floor\, NEW YORK CITY\, NY\, 10032\, United States
ORGANIZER;CN="Community Board #12%2C Manhattan":MAILTO:ebsmith@cb.nyc.gov
END:VEVENT
BEGIN:VEVENT
DTSTART;TZID=America/New_York:20241118T183000
DTEND;TZID=America/New_York:20241118T210000
DTSTAMP:20260423T022124
CREATED:20241118T191902Z
LAST-MODIFIED:20241118T191902Z
UID:10003255-1731954600-1731963600@cbmanhattan.cityofnewyork.us
SUMMARY:Executive Committee Meeting
DESCRIPTION:Topic: CB12M Executive Committee meeting\nRegister in advance for this webinar: \nhttps://us02web.zoom.us/webinar/register/WN_nyTcH4iTT3CNFsNEpl9AZw \nAfter registering\, you will receive a confirmation email containing information about joining the webinar. \nMeeting information and agenda \n  \n  \n  \n 
URL:https://cbmanhattan.cityofnewyork.us/cb12/calendar/executive-committee-meeting-2-3-2-2-2-2-4-2/
LOCATION:CB12 Manhattan Office\, 530 W. 166th Street\, 6th floor\, NEW YORK CITY\, NY\, 10032\, United States
ORGANIZER;CN="Community Board #12%2C Manhattan":MAILTO:ebsmith@cb.nyc.gov
END:VEVENT
BEGIN:VEVENT
DTSTART;TZID=America/New_York:20241015T183000
DTEND;TZID=America/New_York:20241015T210000
DTSTAMP:20260423T022124
CREATED:20241010T213308Z
LAST-MODIFIED:20241010T213308Z
UID:10004236-1729017000-1729026000@cbmanhattan.cityofnewyork.us
SUMMARY:Executive Committee Meeting
DESCRIPTION:Topic: CB12M Executive Committee meeting\nRegister in advance for this webinar: \nhttps://us02web.zoom.us/webinar/register/WN_nyTcH4iTT3CNFsNEpl9AZw \nAfter registering\, you will receive a confirmation email containing information about joining the webinar. \n  \n  \n  \n 
URL:https://cbmanhattan.cityofnewyork.us/cb12/calendar/executive-committee-meeting-4/
LOCATION:CB12 Manhattan Office\, 530 W. 166th Street\, 6th floor\, NEW YORK CITY\, NY\, 10032\, United States
ORGANIZER;CN="Community Board #12%2C Manhattan":MAILTO:ebsmith@cb.nyc.gov
END:VEVENT
BEGIN:VEVENT
DTSTART;TZID=America/New_York:20240617T183000
DTEND;TZID=America/New_York:20240617T210000
DTSTAMP:20260423T022124
CREATED:20231201T205400Z
LAST-MODIFIED:20231201T205504Z
UID:10003252-1718649000-1718658000@cbmanhattan.cityofnewyork.us
SUMMARY:Executive Committee Meeting
DESCRIPTION:Topic: CB12M Executive Committee meeting\nRegister in advance for this webinar: \nhttps://us02web.zoom.us/webinar/register/WN_nyTcH4iTT3CNFsNEpl9AZw \nAfter registering\, you will receive a confirmation email containing information about joining the webinar. \n  \n  \n  \n 
URL:https://cbmanhattan.cityofnewyork.us/cb12/calendar/executive-committee-meeting-2-3-2-2-2-2/2024-06-17/
LOCATION:CB12 Manhattan Office\, 530 W. 166th Street\, 6th floor\, NEW YORK CITY\, NY\, 10032\, United States
ORGANIZER;CN="Community Board #12%2C Manhattan":MAILTO:ebsmith@cb.nyc.gov
END:VEVENT
BEGIN:VEVENT
DTSTART;TZID=America/New_York:20240520T183000
DTEND;TZID=America/New_York:20240520T210000
DTSTAMP:20260423T022124
CREATED:20231201T205400Z
LAST-MODIFIED:20231201T205504Z
UID:10003251-1716229800-1716238800@cbmanhattan.cityofnewyork.us
SUMMARY:Executive Committee Meeting
DESCRIPTION:Topic: CB12M Executive Committee meeting\nRegister in advance for this webinar: \nhttps://us02web.zoom.us/webinar/register/WN_nyTcH4iTT3CNFsNEpl9AZw \nAfter registering\, you will receive a confirmation email containing information about joining the webinar. \n  \n  \n  \n 
URL:https://cbmanhattan.cityofnewyork.us/cb12/calendar/executive-committee-meeting-2-3-2-2-2-2/2024-05-20/
LOCATION:CB12 Manhattan Office\, 530 W. 166th Street\, 6th floor\, NEW YORK CITY\, NY\, 10032\, United States
ORGANIZER;CN="Community Board #12%2C Manhattan":MAILTO:ebsmith@cb.nyc.gov
END:VEVENT
BEGIN:VEVENT
DTSTART;TZID=America/New_York:20240415T183000
DTEND;TZID=America/New_York:20240415T210000
DTSTAMP:20260423T022124
CREATED:20240412T203101Z
LAST-MODIFIED:20240412T203102Z
UID:10003250-1713205800-1713214800@cbmanhattan.cityofnewyork.us
SUMMARY:Executive Committee Meeting
DESCRIPTION:Topic: CB12M Executive Committee meeting\nRegister in advance for this webinar: \nhttps://us02web.zoom.us/webinar/register/WN_nyTcH4iTT3CNFsNEpl9AZw \nAfter registering\, you will receive a confirmation email containing information about joining the webinar. \nMeeting information and agenda \n  \n  \n  \n 
URL:https://cbmanhattan.cityofnewyork.us/cb12/calendar/executive-committee-meeting-2-3-2-2-2-2-3/
LOCATION:CB12 Manhattan Office\, 530 W. 166th Street\, 6th floor\, NEW YORK CITY\, NY\, 10032\, United States
ORGANIZER;CN="Community Board #12%2C Manhattan":MAILTO:ebsmith@cb.nyc.gov
END:VEVENT
BEGIN:VEVENT
DTSTART;TZID=America/New_York:20240318T183000
DTEND;TZID=America/New_York:20240318T210000
DTSTAMP:20260423T022124
CREATED:20231201T205400Z
LAST-MODIFIED:20231201T205504Z
UID:10003249-1710786600-1710795600@cbmanhattan.cityofnewyork.us
SUMMARY:Executive Committee Meeting
DESCRIPTION:Topic: CB12M Executive Committee meeting\nRegister in advance for this webinar: \nhttps://us02web.zoom.us/webinar/register/WN_nyTcH4iTT3CNFsNEpl9AZw \nAfter registering\, you will receive a confirmation email containing information about joining the webinar. \n  \n  \n  \n 
URL:https://cbmanhattan.cityofnewyork.us/cb12/calendar/executive-committee-meeting-2-3-2-2-2-2/2024-03-18/
LOCATION:CB12 Manhattan Office\, 530 W. 166th Street\, 6th floor\, NEW YORK CITY\, NY\, 10032\, United States
ORGANIZER;CN="Community Board #12%2C Manhattan":MAILTO:ebsmith@cb.nyc.gov
END:VEVENT
BEGIN:VEVENT
DTSTART;TZID=America/New_York:20240219T183000
DTEND;TZID=America/New_York:20240219T210000
DTSTAMP:20260423T022124
CREATED:20231201T205400Z
LAST-MODIFIED:20231201T205504Z
UID:10003248-1708367400-1708376400@cbmanhattan.cityofnewyork.us
SUMMARY:Executive Committee Meeting
DESCRIPTION:Topic: CB12M Executive Committee meeting\nRegister in advance for this webinar: \nhttps://us02web.zoom.us/webinar/register/WN_nyTcH4iTT3CNFsNEpl9AZw \nAfter registering\, you will receive a confirmation email containing information about joining the webinar. \n  \n  \n  \n 
URL:https://cbmanhattan.cityofnewyork.us/cb12/calendar/executive-committee-meeting-2-3-2-2-2-2/2024-02-19/
LOCATION:CB12 Manhattan Office\, 530 W. 166th Street\, 6th floor\, NEW YORK CITY\, NY\, 10032\, United States
ORGANIZER;CN="Community Board #12%2C Manhattan":MAILTO:ebsmith@cb.nyc.gov
END:VEVENT
BEGIN:VEVENT
DTSTART;TZID=America/New_York:20240115T183000
DTEND;TZID=America/New_York:20240115T210000
DTSTAMP:20260423T022124
CREATED:20231201T205400Z
LAST-MODIFIED:20231201T205504Z
UID:10003247-1705343400-1705352400@cbmanhattan.cityofnewyork.us
SUMMARY:Executive Committee Meeting
DESCRIPTION:Topic: CB12M Executive Committee meeting\nRegister in advance for this webinar: \nhttps://us02web.zoom.us/webinar/register/WN_nyTcH4iTT3CNFsNEpl9AZw \nAfter registering\, you will receive a confirmation email containing information about joining the webinar. \n  \n  \n  \n 
URL:https://cbmanhattan.cityofnewyork.us/cb12/calendar/executive-committee-meeting-2-3-2-2-2-2/2024-01-15/
LOCATION:CB12 Manhattan Office\, 530 W. 166th Street\, 6th floor\, NEW YORK CITY\, NY\, 10032\, United States
ORGANIZER;CN="Community Board #12%2C Manhattan":MAILTO:ebsmith@cb.nyc.gov
END:VEVENT
BEGIN:VEVENT
DTSTART;TZID=America/New_York:20231214T183000
DTEND;TZID=America/New_York:20231214T210000
DTSTAMP:20260423T022124
CREATED:20231211T211827Z
LAST-MODIFIED:20231211T212145Z
UID:10003879-1702578600-1702587600@cbmanhattan.cityofnewyork.us
SUMMARY:Executive Committee Meeting
DESCRIPTION:Topic: CB12M Executive Committee meeting\nRegister in advance for this webinar: \nhttps://us02web.zoom.us/webinar/register/WN_nyTcH4iTT3CNFsNEpl9AZw \nAfter registering\, you will receive a confirmation email containing information about joining the webinar. \nMeeting Materials \nDecember 2023 Executive Committee Agenda \n  \n 
URL:https://cbmanhattan.cityofnewyork.us/cb12/calendar/executive-committee-meeting-2-3-2-2-2-2-2/
LOCATION:CB12 Manhattan Office\, 530 W. 166th Street\, 6th floor\, NEW YORK CITY\, NY\, 10032\, United States
ORGANIZER;CN="Community Board #12%2C Manhattan":MAILTO:ebsmith@cb.nyc.gov
END:VEVENT
BEGIN:VEVENT
DTSTART;TZID=America/New_York:20231120T183000
DTEND;TZID=America/New_York:20231120T210000
DTSTAMP:20260423T022124
CREATED:20231201T205400Z
LAST-MODIFIED:20231201T205504Z
UID:10003877-1700505000-1700514000@cbmanhattan.cityofnewyork.us
SUMMARY:Executive Committee Meeting
DESCRIPTION:Topic: CB12M Executive Committee meeting\nRegister in advance for this webinar: \nhttps://us02web.zoom.us/webinar/register/WN_nyTcH4iTT3CNFsNEpl9AZw \nAfter registering\, you will receive a confirmation email containing information about joining the webinar. \n  \n  \n  \n 
URL:https://cbmanhattan.cityofnewyork.us/cb12/calendar/executive-committee-meeting-2-3-2-2-2-2/2023-11-20/
LOCATION:CB12 Manhattan Office\, 530 W. 166th Street\, 6th floor\, NEW YORK CITY\, NY\, 10032\, United States
ORGANIZER;CN="Community Board #12%2C Manhattan":MAILTO:ebsmith@cb.nyc.gov
END:VEVENT
BEGIN:VEVENT
DTSTART;TZID=America/New_York:20231120T183000
DTEND;TZID=America/New_York:20231120T210000
DTSTAMP:20260423T022124
CREATED:20230818T143949Z
LAST-MODIFIED:20230914T151019Z
UID:10003245-1700505000-1700514000@cbmanhattan.cityofnewyork.us
SUMMARY:Executive Committee Meeting
DESCRIPTION:When: Sep 18\, 2023 06:30 PM Eastern Time (US and Canada)\nTopic: CB12M Executive Committee meeting\nRegister in advance for this webinar:\nhttps://us06web.zoom.us/webinar/register/WN_7t_CO2DeTL-210PSxK8FLA \nAfter registering\, you will receive a confirmation email containing information about joining the webinar. \n  \n  \n  \n 
URL:https://cbmanhattan.cityofnewyork.us/cb12/calendar/executive-committee-meeting-2-3-2-2/2023-11-20/
LOCATION:CB12 Manhattan Office\, 530 W. 166th Street\, 6th floor\, NEW YORK CITY\, NY\, 10032\, United States
ORGANIZER;CN="Community Board #12%2C Manhattan":MAILTO:ebsmith@cb.nyc.gov
END:VEVENT
BEGIN:VEVENT
DTSTART;TZID=America/New_York:20231019T183000
DTEND;TZID=America/New_York:20231019T200000
DTSTAMP:20260423T022124
CREATED:20230929T173915Z
LAST-MODIFIED:20231018T143720Z
UID:10003573-1697740200-1697745600@cbmanhattan.cityofnewyork.us
SUMMARY:Budget Ranking FY25 Public Hearing
DESCRIPTION:This meeting will take place both in person at the CB12 Office on 530 W 166th Street\, New York\, NY\, and remotely via Zoom. A quorum of Committee Members will gather in person\, with some exceptions. \nWhen: Oct 19\, 2023 06:30 PM Eastern Time (US and Canada)\nTopic: Budget Ranking FY 25 Public Hearing\nRegister in advance for this webinar:\nhttps://us06web.zoom.us/webinar/register/WN_8iZc2fCjQlGE8ejnUhUAJQ \nAfter registering\, you will receive a confirmation email containing information about joining the webinar. \n 
URL:https://cbmanhattan.cityofnewyork.us/cb12/calendar/budget-ranking-fy25-public-hearing/
LOCATION:Main Office\, 530 W 166th Street\, 6th Fl\, New York\, NY\, 10032\, United States
ORGANIZER;CN="Community Board #12%2C Manhattan":MAILTO:ebsmith@cb.nyc.gov
END:VEVENT
BEGIN:VEVENT
DTSTART;TZID=America/New_York:20231016T183000
DTEND;TZID=America/New_York:20231016T210000
DTSTAMP:20260423T022124
CREATED:20230818T143949Z
LAST-MODIFIED:20230914T151019Z
UID:10003244-1697481000-1697490000@cbmanhattan.cityofnewyork.us
SUMMARY:Executive Committee Meeting
DESCRIPTION:When: Sep 18\, 2023 06:30 PM Eastern Time (US and Canada)\nTopic: CB12M Executive Committee meeting\nRegister in advance for this webinar:\nhttps://us06web.zoom.us/webinar/register/WN_7t_CO2DeTL-210PSxK8FLA \nAfter registering\, you will receive a confirmation email containing information about joining the webinar. \n  \n  \n  \n 
URL:https://cbmanhattan.cityofnewyork.us/cb12/calendar/executive-committee-meeting-2-3-2-2/2023-10-16/
LOCATION:CB12 Manhattan Office\, 530 W. 166th Street\, 6th floor\, NEW YORK CITY\, NY\, 10032\, United States
ORGANIZER;CN="Community Board #12%2C Manhattan":MAILTO:ebsmith@cb.nyc.gov
END:VEVENT
BEGIN:VEVENT
DTSTART;TZID=America/New_York:20230918T183000
DTEND;TZID=America/New_York:20230918T210000
DTSTAMP:20260423T022124
CREATED:20230818T143949Z
LAST-MODIFIED:20230914T151019Z
UID:10003065-1695061800-1695070800@cbmanhattan.cityofnewyork.us
SUMMARY:Executive Committee Meeting
DESCRIPTION:When: Sep 18\, 2023 06:30 PM Eastern Time (US and Canada)\nTopic: CB12M Executive Committee meeting\nRegister in advance for this webinar:\nhttps://us06web.zoom.us/webinar/register/WN_7t_CO2DeTL-210PSxK8FLA \nAfter registering\, you will receive a confirmation email containing information about joining the webinar. \n  \n  \n  \n 
URL:https://cbmanhattan.cityofnewyork.us/cb12/calendar/executive-committee-meeting-2-3-2-2/2023-09-18/
LOCATION:CB12 Manhattan Office\, 530 W. 166th Street\, 6th floor\, NEW YORK CITY\, NY\, 10032\, United States
ORGANIZER;CN="Community Board #12%2C Manhattan":MAILTO:ebsmith@cb.nyc.gov
END:VEVENT
BEGIN:VEVENT
DTSTART;TZID=America/New_York:20230620T183000
DTEND;TZID=America/New_York:20230620T210000
DTSTAMP:20260423T022124
CREATED:20230616T195502Z
LAST-MODIFIED:20230629T183447Z
UID:10002447-1687285800-1687294800@cbmanhattan.cityofnewyork.us
SUMMARY:Executive Committee Meeting
DESCRIPTION:  \n  \n  \n  \n 
URL:https://cbmanhattan.cityofnewyork.us/cb12/calendar/executive-committee-meeting-2-3-2/
LOCATION:CB12 Manhattan Office\, 530 W. 166th Street\, 6th floor\, NEW YORK CITY\, NY\, 10032\, United States
ORGANIZER;CN="Community Board #12%2C Manhattan":MAILTO:ebsmith@cb.nyc.gov
END:VEVENT
BEGIN:VEVENT
DTSTART;TZID=America/New_York:20230604T200000
DTEND;TZID=America/New_York:20230604T213000
DTSTAMP:20260423T022124
CREATED:20230526T163050Z
LAST-MODIFIED:20230605T163521Z
UID:10002836-1685908800-1685914200@cbmanhattan.cityofnewyork.us
SUMMARY:Cannabis Task Force Meeting
DESCRIPTION:
URL:https://cbmanhattan.cityofnewyork.us/cb12/calendar/cannabis-task-force-meeting/
ORGANIZER;CN="Community Board #12%2C Manhattan":MAILTO:ebsmith@cb.nyc.gov
END:VEVENT
BEGIN:VEVENT
DTSTART;TZID=America/New_York:20230515T183000
DTEND;TZID=America/New_York:20230515T210000
DTSTAMP:20260423T022124
CREATED:20230314T145438Z
LAST-MODIFIED:20230616T155117Z
UID:10002446-1684175400-1684184400@cbmanhattan.cityofnewyork.us
SUMMARY:Executive Committee Meeting
DESCRIPTION:When: Jun 20\, 2023\, 06:30 PM Eastern Time (US and Canada)\nTopic: CB12M Executive Committee meeting \nRegister in advance for this webinar:\nhttps://us06web.zoom.us/webinar/register/WN_7t_CO2DeTL-210PSxK8FLA \nAfter registering\, you will receive a confirmation email containing information about joining the webinar. \n  \n  \n  \n  \n 
URL:https://cbmanhattan.cityofnewyork.us/cb12/calendar/executive-committee-meeting-2-3/2023-05-15/
LOCATION:CB12 Manhattan Office\, 530 W. 166th Street\, 6th floor\, NEW YORK CITY\, NY\, 10032\, United States
ORGANIZER;CN="Community Board #12%2C Manhattan":MAILTO:ebsmith@cb.nyc.gov
END:VEVENT
BEGIN:VEVENT
DTSTART;TZID=America/New_York:20230417T183000
DTEND;TZID=America/New_York:20230417T210000
DTSTAMP:20260423T022124
CREATED:20230314T145438Z
LAST-MODIFIED:20230616T155117Z
UID:10002445-1681756200-1681765200@cbmanhattan.cityofnewyork.us
SUMMARY:Executive Committee Meeting
DESCRIPTION:When: Jun 20\, 2023\, 06:30 PM Eastern Time (US and Canada)\nTopic: CB12M Executive Committee meeting \nRegister in advance for this webinar:\nhttps://us06web.zoom.us/webinar/register/WN_7t_CO2DeTL-210PSxK8FLA \nAfter registering\, you will receive a confirmation email containing information about joining the webinar. \n  \n  \n  \n  \n 
URL:https://cbmanhattan.cityofnewyork.us/cb12/calendar/executive-committee-meeting-2-3/2023-04-17/
LOCATION:CB12 Manhattan Office\, 530 W. 166th Street\, 6th floor\, NEW YORK CITY\, NY\, 10032\, United States
ORGANIZER;CN="Community Board #12%2C Manhattan":MAILTO:ebsmith@cb.nyc.gov
END:VEVENT
BEGIN:VEVENT
DTSTART;TZID=America/New_York:20230320T183000
DTEND;TZID=America/New_York:20230320T210000
DTSTAMP:20260423T022124
CREATED:20230314T145438Z
LAST-MODIFIED:20230616T155117Z
UID:10002444-1679337000-1679346000@cbmanhattan.cityofnewyork.us
SUMMARY:Executive Committee Meeting
DESCRIPTION:When: Jun 20\, 2023\, 06:30 PM Eastern Time (US and Canada)\nTopic: CB12M Executive Committee meeting \nRegister in advance for this webinar:\nhttps://us06web.zoom.us/webinar/register/WN_7t_CO2DeTL-210PSxK8FLA \nAfter registering\, you will receive a confirmation email containing information about joining the webinar. \n  \n  \n  \n  \n 
URL:https://cbmanhattan.cityofnewyork.us/cb12/calendar/executive-committee-meeting-2-3/2023-03-20/
LOCATION:CB12 Manhattan Office\, 530 W. 166th Street\, 6th floor\, NEW YORK CITY\, NY\, 10032\, United States
ORGANIZER;CN="Community Board #12%2C Manhattan":MAILTO:ebsmith@cb.nyc.gov
END:VEVENT
BEGIN:VEVENT
DTSTART;TZID=America/New_York:20230221T183000
DTEND;TZID=America/New_York:20230221T210000
DTSTAMP:20260423T022124
CREATED:20221107T163300Z
LAST-MODIFIED:20230217T171916Z
UID:10002157-1677004200-1677013200@cbmanhattan.cityofnewyork.us
SUMMARY:Executive Committee Meeting
DESCRIPTION:When: Feb 21\, 2023 06:30 PM Eastern Time (US and Canada)\nTopic: CB12M Executive Committee Meeting \nRegister in advance for this webinar:\nhttps://us06web.zoom.us/webinar/register/WN_iJ2_CrZTRAmgFehNPXYDWA \nAfter registering\, you will receive a confirmation email containing information about joining the webinar. \n  \n  \n  \n 
URL:https://cbmanhattan.cityofnewyork.us/cb12/calendar/executive-committee-meeting-2/2023-02-21/
LOCATION:CB12 Manhattan Office\, 530 W. 166th Street\, 6th floor\, NEW YORK CITY\, NY\, 10032\, United States
ORGANIZER;CN="Community Board #12%2C Manhattan":MAILTO:ebsmith@cb.nyc.gov
END:VEVENT
BEGIN:VEVENT
DTSTART;TZID=America/New_York:20230117T183000
DTEND;TZID=America/New_York:20230117T210000
DTSTAMP:20260423T022124
CREATED:20230117T200945Z
LAST-MODIFIED:20230117T200945Z
UID:10002128-1673980200-1673989200@cbmanhattan.cityofnewyork.us
SUMMARY:Executive Committee Meeting
DESCRIPTION:When: Jan 17\, 2023 06:30 PM Eastern Time (US and Canada)\nTopic: CB12M Executive Committee Meeting \nRegister in advance for this webinar:\nhttps://us06web.zoom.us/webinar/register/WN_iJ2_CrZTRAmgFehNPXYDWA \nAfter registering\, you will receive a confirmation email containing information about joining the webinar. \n  \n  \n 
URL:https://cbmanhattan.cityofnewyork.us/cb12/calendar/executive-committee-meeting-2-2/
LOCATION:CB12 Manhattan Office\, 530 W. 166th Street\, 6th floor\, NEW YORK CITY\, NY\, 10032\, United States
ORGANIZER;CN="Community Board #12%2C Manhattan":MAILTO:ebsmith@cb.nyc.gov
END:VEVENT
BEGIN:VEVENT
DTSTART;TZID=America/New_York:20230117T080000
DTEND;TZID=America/New_York:20230117T170000
DTSTAMP:20260423T022124
CREATED:20221107T163300Z
LAST-MODIFIED:20230217T171916Z
UID:10002156-1673942400-1673974800@cbmanhattan.cityofnewyork.us
SUMMARY:Executive Committee Meeting
DESCRIPTION:When: Feb 21\, 2023 06:30 PM Eastern Time (US and Canada)\nTopic: CB12M Executive Committee Meeting \nRegister in advance for this webinar:\nhttps://us06web.zoom.us/webinar/register/WN_iJ2_CrZTRAmgFehNPXYDWA \nAfter registering\, you will receive a confirmation email containing information about joining the webinar. \n  \n  \n  \n 
URL:https://cbmanhattan.cityofnewyork.us/cb12/calendar/executive-committee-meeting-2/2023-01-17/
LOCATION:CB12 Manhattan Office\, 530 W. 166th Street\, 6th floor\, NEW YORK CITY\, NY\, 10032\, United States
ORGANIZER;CN="Community Board #12%2C Manhattan":MAILTO:ebsmith@cb.nyc.gov
END:VEVENT
END:VCALENDAR