BEGIN:VCALENDAR
VERSION:2.0
PRODID:-//Community Board 12-Manhattan - ECPv6.15.20//NONSGML v1.0//EN
CALSCALE:GREGORIAN
METHOD:PUBLISH
X-ORIGINAL-URL:https://cbmanhattan.cityofnewyork.us/cb12
X-WR-CALDESC:Events for Community Board 12-Manhattan
REFRESH-INTERVAL;VALUE=DURATION:PT1H
X-Robots-Tag:noindex
X-PUBLISHED-TTL:PT1H
BEGIN:VTIMEZONE
TZID:America/New_York
BEGIN:DAYLIGHT
TZOFFSETFROM:-0500
TZOFFSETTO:-0400
TZNAME:EDT
DTSTART:20250309T070000
END:DAYLIGHT
BEGIN:STANDARD
TZOFFSETFROM:-0400
TZOFFSETTO:-0500
TZNAME:EST
DTSTART:20251102T060000
END:STANDARD
BEGIN:DAYLIGHT
TZOFFSETFROM:-0500
TZOFFSETTO:-0400
TZNAME:EDT
DTSTART:20260308T070000
END:DAYLIGHT
BEGIN:STANDARD
TZOFFSETFROM:-0400
TZOFFSETTO:-0500
TZNAME:EST
DTSTART:20261101T060000
END:STANDARD
BEGIN:DAYLIGHT
TZOFFSETFROM:-0500
TZOFFSETTO:-0400
TZNAME:EDT
DTSTART:20270314T070000
END:DAYLIGHT
BEGIN:STANDARD
TZOFFSETFROM:-0400
TZOFFSETTO:-0500
TZNAME:EST
DTSTART:20271107T060000
END:STANDARD
END:VTIMEZONE
BEGIN:VEVENT
DTSTART;TZID=America/New_York:20260413T100000
DTEND;TZID=America/New_York:20260413T120000
DTSTAMP:20260425T193205
CREATED:20260220T173814Z
LAST-MODIFIED:20260220T174410Z
UID:10006686-1776074400-1776081600@cbmanhattan.cityofnewyork.us
SUMMARY:District Service Cabinet
DESCRIPTION:This meeting will occur in person at the CB12 Office on 530 W 166th Street\, New York\, NY\, and remotely via Zoom.  \nMeeting Information \nhttps://zoom.us/webinar/register/WN_NsOOTTNWQ0K4mgm9baC1Zw \n  \nMeeting Agenda
URL:https://cbmanhattan.cityofnewyork.us/cb12/calendar/district-service-cabinet-4/2026-04-13/
END:VEVENT
BEGIN:VEVENT
DTSTART;TZID=America/New_York:20260414T183000
DTEND;TZID=America/New_York:20260414T210000
DTSTAMP:20260425T193205
CREATED:20260406T161946Z
LAST-MODIFIED:20260406T161946Z
UID:10006281-1776191400-1776200400@cbmanhattan.cityofnewyork.us
SUMMARY:Parks and Cultural Affairs Committee
DESCRIPTION:This meeting will take place both in person at the CB12 Office on 530 W 166th Street\, New York\, NY\, and remotely via Zoom. A quorum of Committee Members will gather in person\, with some exceptions.  \nTopic: CB12M Parks and Cultural Affairs Committee\nRegister in advance for this webinar:\nhttps://us06web.zoom.us/webinar/register/WN_FOG8MEZZQaaxckwsCsMsmQ \nAfter registering\, you will receive a confirmation email with details on how to join the webinar. \nMeeting information and agenda. \n  \n  \n  \n  \n  \n 
URL:https://cbmanhattan.cityofnewyork.us/cb12/calendar/parks-and-cultural-affairs-committee-15-5/
LOCATION:Community Board #12\, M Office\, 530 West 166th Street 6th Floor\, New York\, NY\, 10032\, United States
END:VEVENT
BEGIN:VEVENT
DTSTART;TZID=America/New_York:20260415T183000
DTEND;TZID=America/New_York:20260415T210000
DTSTAMP:20260425T193205
CREATED:20251124T202050Z
LAST-MODIFIED:20260325T171728Z
UID:10006818-1776277800-1776286800@cbmanhattan.cityofnewyork.us
SUMMARY:Licensing Committee Meeting
DESCRIPTION:This meeting will take place both in person and via Zoom.  At least a quorum of Committee Members will gather in person\, subject to a few exceptions.The in-person portion of the meeting will take place in the CB12 Conference room at 530 W 166th Street\, Suite 6B \nTopic: Licensing Committee Meeting\nRegister in advance for this webinar:\nhttps://us02web.zoom.us/webinar/register/WN_0fioETGDQ4K4Vr-Oz1SNtQ \nAfter registering\, you will receive a confirmation email containing information about joining the webinar. \nMeeting information and agenda \n  \n  \n  \n  \n  \n  \n 
URL:https://cbmanhattan.cityofnewyork.us/cb12/calendar/licensing-committee-meeting-15/2026-04-15/
LOCATION:Community Board #12\, M Office\, 530 West 166th Street 6th Floor\, New York\, NY\, 10032\, United States
END:VEVENT
BEGIN:VEVENT
DTSTART;TZID=America/New_York:20260415T190000
DTEND;TZID=America/New_York:20260415T210000
DTSTAMP:20260425T193205
CREATED:20251124T201644Z
LAST-MODIFIED:20260325T172054Z
UID:10006939-1776279600-1776286800@cbmanhattan.cityofnewyork.us
SUMMARY:Health & Environment Committee
DESCRIPTION:This meeting will take place both in person at the CB12 Office on 530 W 166th Street\, New York\, NY\, and remotely via Zoom. A quorum of Committee Members will gather in person\, with some exceptions. \nTopic: CB12M Health and Environment Committee\nRegister in advance for this webinar:\nhttps://us06web.zoom.us/webinar/register/WN_cDrU_GK3QHG7THfqXYIkyQ \nAfter registering\, you will receive a confirmation email with details on how to join the webinar. \nMeeting information and agenda. \n  \n  \n  \n  \n 
URL:https://cbmanhattan.cityofnewyork.us/cb12/calendar/health-environment-committee-18/2026-04-15/
END:VEVENT
BEGIN:VEVENT
DTSTART;TZID=America/New_York:20260416T183000
DTEND;TZID=America/New_York:20260416T210000
DTSTAMP:20260425T193205
CREATED:20251223T161516Z
LAST-MODIFIED:20260325T161349Z
UID:10006437-1776364200-1776373200@cbmanhattan.cityofnewyork.us
SUMMARY:Housing & Human Services Committee
DESCRIPTION:This meeting will take place both in person at the CB12 Office on 530 W 166th Street\, New York\, NY\, and remotely via Zoom. A quorum of Committee Members will gather in person\, with some exceptions. \nTopic: Housing & Human Services Committee Meeting\nRegister in advance for this webinar:\nhttps://us02web.zoom.us/webinar/register/WN_3huLGAPOSoyzVjfLv2G-8Q \nAfter registering\, you will receive a confirmation email containing information about joining the webinar. \n  \n  \n  \n  \n 
URL:https://cbmanhattan.cityofnewyork.us/cb12/calendar/housing-human-services-committee-4-2-2-10-8/
END:VEVENT
END:VCALENDAR