BEGIN:VCALENDAR
VERSION:2.0
PRODID:-//Community Board 12-Manhattan - ECPv6.15.20//NONSGML v1.0//EN
CALSCALE:GREGORIAN
METHOD:PUBLISH
X-WR-CALNAME:Community Board 12-Manhattan
X-ORIGINAL-URL:https://cbmanhattan.cityofnewyork.us/cb12
X-WR-CALDESC:Events for Community Board 12-Manhattan
REFRESH-INTERVAL;VALUE=DURATION:PT1H
X-Robots-Tag:noindex
X-PUBLISHED-TTL:PT1H
BEGIN:VTIMEZONE
TZID:America/New_York
BEGIN:DAYLIGHT
TZOFFSETFROM:-0500
TZOFFSETTO:-0400
TZNAME:EDT
DTSTART:20240310T070000
END:DAYLIGHT
BEGIN:STANDARD
TZOFFSETFROM:-0400
TZOFFSETTO:-0500
TZNAME:EST
DTSTART:20241103T060000
END:STANDARD
BEGIN:DAYLIGHT
TZOFFSETFROM:-0500
TZOFFSETTO:-0400
TZNAME:EDT
DTSTART:20250309T070000
END:DAYLIGHT
BEGIN:STANDARD
TZOFFSETFROM:-0400
TZOFFSETTO:-0500
TZNAME:EST
DTSTART:20251102T060000
END:STANDARD
BEGIN:DAYLIGHT
TZOFFSETFROM:-0500
TZOFFSETTO:-0400
TZNAME:EDT
DTSTART:20260308T070000
END:DAYLIGHT
BEGIN:STANDARD
TZOFFSETFROM:-0400
TZOFFSETTO:-0500
TZNAME:EST
DTSTART:20261101T060000
END:STANDARD
END:VTIMEZONE
BEGIN:VEVENT
DTSTART;TZID=America/New_York:20250303T183000
DTEND;TZID=America/New_York:20250303T210000
DTSTAMP:20260421T045427
CREATED:20240913T181931Z
LAST-MODIFIED:20241028T175701Z
UID:10004098-1741026600-1741035600@cbmanhattan.cityofnewyork.us
SUMMARY:Cannabis Task Force
DESCRIPTION:Cannabis Task Force \nAttend in person or register in advance for this webinar:\nhttps://us06web.zoom.us/webinar/register/WN_uzFN89ecSiCuyEq2F4XwzA \nAfter registering\, you will receive a confirmation email containing information about joining the webinar. \nMeeting Information and Materials
URL:https://cbmanhattan.cityofnewyork.us/cb12/calendar/cannabis-task-force-2-6-3/2025-03-03/
LOCATION:CB12 Manhattan Office\, 530 W. 166th Street\, 6th floor\, NEW YORK CITY\, NY\, 10032\, United States
END:VEVENT
BEGIN:VEVENT
DTSTART;TZID=America/New_York:20250303T190000
DTEND;TZID=America/New_York:20250303T210000
DTSTAMP:20260421T045427
CREATED:20250228T184933Z
LAST-MODIFIED:20250228T184934Z
UID:10003538-1741028400-1741035600@cbmanhattan.cityofnewyork.us
SUMMARY:Traffic and Transportation
DESCRIPTION:Deals with local issues involving the NYC Department of Transportation. \nThis meeting will take place both in person at the CB12 Office on 530 W 166th Street\, New York\, NY\, and remotely via Zoom. A quorum of Committee Members will gather in person\, with some exceptions. \nTopic: Traffic & Transportation Committee Meeting\nRegister in advance for this webinar:\nhttps://us02web.zoom.us/webinar/register/WN_TUfD1N1WQfKT9Z64F710iQ \nAfter registering\, you will receive a confirmation email containing information about joining the webinar. \nMeeting information and agenda \n  \n  \n  \n  \n 
URL:https://cbmanhattan.cityofnewyork.us/cb12/calendar/traffic-and-transportation-4-2-2-2-2-2-7-5/
LOCATION:Main Office\, 530 W 166th Street\, 6th Fl\, New York\, NY\, 10032\, United States
END:VEVENT
BEGIN:VEVENT
DTSTART;TZID=America/New_York:20250304T190000
DTEND;TZID=America/New_York:20250304T210000
DTSTAMP:20260421T045427
CREATED:20241127T183406Z
LAST-MODIFIED:20241127T183406Z
UID:10004625-1741114800-1741122000@cbmanhattan.cityofnewyork.us
SUMMARY:Business Development Committee
DESCRIPTION:This meeting will take place both in person at the CB12 Office on 530 W 166th Street\, New York\, NY\, and remotely via Zoom. A quorum of Committee Members will gather in person\, with some exceptions. \nTopic: Business Development Committee Meeting\nRegister in advance for this webinar:\nhttps://us02web.zoom.us/webinar/register/WN_uzO78g76RuqlcU-Fd3LNhg \nAfter registering\, you will receive a confirmation email containing information about joining the webinar. \nMeeting information and agenda \n  \n  \n  \n  \n  \n  \n  \n  \n 
URL:https://cbmanhattan.cityofnewyork.us/cb12/calendar/business-development-committee/2025-03-04/
END:VEVENT
BEGIN:VEVENT
DTSTART;TZID=America/New_York:20250305T183000
DTEND;TZID=America/New_York:20250305T210000
DTSTAMP:20260421T045427
CREATED:20250228T190300Z
LAST-MODIFIED:20250305T224513Z
UID:10005014-1741199400-1741208400@cbmanhattan.cityofnewyork.us
SUMMARY:Public Safety Committee
DESCRIPTION:This meeting will take place both in person at the CB12 Office on 530 W 166th Street\, New York\, NY\, and remotely via Zoom. A quorum of Committee Members will gather in person\, with some exceptions. \nTopic: CB12M Public Safety Committee Meeting\nRegister in advance for this webinar:  \nhttps://us02web.zoom.us/webinar/register/WN_wElzkCjXSXGO82PdxxDGug \nAfter registering\, you will receive a confirmation email containing information about joining the webinar. \nMeeting information and agenda \n  \n  \n  \n  \n 
URL:https://cbmanhattan.cityofnewyork.us/cb12/calendar/public-safety-committee-11/
END:VEVENT
BEGIN:VEVENT
DTSTART;TZID=America/New_York:20250305T190000
DTEND;TZID=America/New_York:20250305T210000
DTSTAMP:20260421T045427
CREATED:20250228T185156Z
LAST-MODIFIED:20250228T193938Z
UID:10005013-1741201200-1741208400@cbmanhattan.cityofnewyork.us
SUMMARY:Land Use Committee
DESCRIPTION:This meeting will take place both in person at the CB12 Office on 530 W 166th Street\, New York\, NY\, and remotely via Zoom. A quorum of Committee Members will gather in person\, with some exceptions. \nRegister in advance for this webinar: \nhttps://us06web.zoom.us/webinar/register/WN_NkK0Iqc8SGi1HxgTntzZ3A \nAfter registering\, you will receive a confirmation email containing information about joining the webinar. \nMeeting information and agenda
URL:https://cbmanhattan.cityofnewyork.us/cb12/calendar/land-use-committee-6/
LOCATION:CB12 Manhattan Office\, 530 W. 166th Street\, 6th floor\, NEW YORK CITY\, NY\, 10032\, United States
END:VEVENT
BEGIN:VEVENT
DTSTART;TZID=America/New_York:20250306T103000
DTEND;TZID=America/New_York:20250306T120000
DTSTAMP:20260421T045427
CREATED:20250228T190902Z
LAST-MODIFIED:20250228T190902Z
UID:10005016-1741257000-1741262400@cbmanhattan.cityofnewyork.us
SUMMARY:Concerns of the Aging Committee
DESCRIPTION:This meeting will occur in person at the CB12 Office on 530 W 166th Street\, New York\, NY\, and remotely via Zoom. A quorum of Committee Members will gather in person\, with some exceptions. \nTopic: Aging Committee Meeting\nRegister in advance for this webinar:\nhttps://us06web.zoom.us/webinar/register/WN_vqQLupPoQc67y-IlvFxUXQ \nAfter registering\, you will receive a confirmation email containing information about joining the webinar. \nMeeting information and agenda. \n  \n  \n 
URL:https://cbmanhattan.cityofnewyork.us/cb12/calendar/concerns-of-the-aging-committee-6/
END:VEVENT
BEGIN:VEVENT
DTSTART;TZID=America/New_York:20250306T190000
DTEND;TZID=America/New_York:20250306T210000
DTSTAMP:20260421T045427
CREATED:20250904T154159Z
LAST-MODIFIED:20250904T154200Z
UID:10002443-1741287600-1741294800@cbmanhattan.cityofnewyork.us
SUMMARY:Housing & Human Services Committee
DESCRIPTION:This meeting will take place both in person at the CB12 Office on 530 W 166th Street\, New York\, NY\, and remotely via Zoom. A quorum of Committee Members will gather in person\, with some exceptions. \nTopic: Housing & Human Services Committee Meeting\nRegister in advance for this webinar:\nhttps://us02web.zoom.us/webinar/register/WN_3huLGAPOSoyzVjfLv2G-8Q \nAfter registering\, you will receive a confirmation email containing information about joining the webinar. \nMeeting agenda \n  \n  \n  \n 
URL:https://cbmanhattan.cityofnewyork.us/cb12/calendar/housing-human-services-committee-4-2-2-10-5/
END:VEVENT
BEGIN:VEVENT
DTSTART;TZID=America/New_York:20250306T190000
DTEND;TZID=America/New_York:20250306T213000
DTSTAMP:20260421T045427
CREATED:20250228T190749Z
LAST-MODIFIED:20250306T155246Z
UID:10005015-1741287600-1741296600@cbmanhattan.cityofnewyork.us
SUMMARY:Health & Environment Committee
DESCRIPTION:This meeting will take place both in person at the CB12 Office on 530 W 166th Street\, New York\, NY\, and remotely via Zoom. A quorum of Committee Members will gather in person\, with some exceptions. \nTopic: CB12M Health and Environment Committee\nRegister in advance for this webinar:\nhttps://us06web.zoom.us/webinar/register/WN_cDrU_GK3QHG7THfqXYIkyQ \nAfter registering\, you will receive a confirmation email containing information about joining the webinar. \nMeeting information and agenda. \n  \n  \n  \n  \n 
URL:https://cbmanhattan.cityofnewyork.us/cb12/calendar/health-environment-committee-12/
END:VEVENT
END:VCALENDAR