BEGIN:VCALENDAR
VERSION:2.0
PRODID:-//Community Board 12-Manhattan - ECPv6.15.20//NONSGML v1.0//EN
CALSCALE:GREGORIAN
METHOD:PUBLISH
X-WR-CALNAME:Community Board 12-Manhattan
X-ORIGINAL-URL:https://cbmanhattan.cityofnewyork.us/cb12
X-WR-CALDESC:Events for Community Board 12-Manhattan
REFRESH-INTERVAL;VALUE=DURATION:PT1H
X-Robots-Tag:noindex
X-PUBLISHED-TTL:PT1H
BEGIN:VTIMEZONE
TZID:America/New_York
BEGIN:DAYLIGHT
TZOFFSETFROM:-0500
TZOFFSETTO:-0400
TZNAME:EDT
DTSTART:20240310T070000
END:DAYLIGHT
BEGIN:STANDARD
TZOFFSETFROM:-0400
TZOFFSETTO:-0500
TZNAME:EST
DTSTART:20241103T060000
END:STANDARD
BEGIN:DAYLIGHT
TZOFFSETFROM:-0500
TZOFFSETTO:-0400
TZNAME:EDT
DTSTART:20250309T070000
END:DAYLIGHT
BEGIN:STANDARD
TZOFFSETFROM:-0400
TZOFFSETTO:-0500
TZNAME:EST
DTSTART:20251102T060000
END:STANDARD
BEGIN:DAYLIGHT
TZOFFSETFROM:-0500
TZOFFSETTO:-0400
TZNAME:EDT
DTSTART:20260308T070000
END:DAYLIGHT
BEGIN:STANDARD
TZOFFSETFROM:-0400
TZOFFSETTO:-0500
TZNAME:EST
DTSTART:20261101T060000
END:STANDARD
END:VTIMEZONE
BEGIN:VEVENT
DTSTART;TZID=America/New_York:20250128T183000
DTEND;TZID=America/New_York:20250128T213000
DTSTAMP:20260421T013545
CREATED:20250113T164925Z
LAST-MODIFIED:20250128T193305Z
UID:10004878-1738089000-1738099800@cbmanhattan.cityofnewyork.us
SUMMARY:General Board Meeting
DESCRIPTION:Monthly Board meetings provide a public forum for members to address community concerns and allow residents to express their opinions. Additionally\, Boards regularly conduct public hearings on the City’s budget\, land use matters\, and other issues of concern. \nTopic: CB12M General Meeting\nRegister in advance for this webinar: \nhttps://us06web.zoom.us/webinar/register/WN_pkWyhmInRpy9Bp_0Dxv2JQ \nAfter registering\, you will receive a confirmation email containing information about joining the webinar. \nCB12M  General Meeting information and agenda \nHammer Health Sciences Building\, Columbia University Irving Medical Center\, 701 W. 168th Street\, Room 301\, New York\, NY 10032. \n  \n  \n  \n  \n  \n  \n  \n 
URL:https://cbmanhattan.cityofnewyork.us/cb12/calendar/general-board-meeting-3/
CATEGORIES:Monthly Board Meeting
END:VEVENT
END:VCALENDAR