BEGIN:VCALENDAR
VERSION:2.0
PRODID:-//Community Board 12-Manhattan - ECPv6.15.20//NONSGML v1.0//EN
CALSCALE:GREGORIAN
METHOD:PUBLISH
X-WR-CALNAME:Community Board 12-Manhattan
X-ORIGINAL-URL:https://cbmanhattan.cityofnewyork.us/cb12
X-WR-CALDESC:Events for Community Board 12-Manhattan
REFRESH-INTERVAL;VALUE=DURATION:PT1H
X-Robots-Tag:noindex
X-PUBLISHED-TTL:PT1H
BEGIN:VTIMEZONE
TZID:America/New_York
BEGIN:DAYLIGHT
TZOFFSETFROM:-0500
TZOFFSETTO:-0400
TZNAME:EDT
DTSTART:20230312T070000
END:DAYLIGHT
BEGIN:STANDARD
TZOFFSETFROM:-0400
TZOFFSETTO:-0500
TZNAME:EST
DTSTART:20231105T060000
END:STANDARD
BEGIN:DAYLIGHT
TZOFFSETFROM:-0500
TZOFFSETTO:-0400
TZNAME:EDT
DTSTART:20240310T070000
END:DAYLIGHT
BEGIN:STANDARD
TZOFFSETFROM:-0400
TZOFFSETTO:-0500
TZNAME:EST
DTSTART:20241103T060000
END:STANDARD
BEGIN:DAYLIGHT
TZOFFSETFROM:-0500
TZOFFSETTO:-0400
TZNAME:EDT
DTSTART:20250309T070000
END:DAYLIGHT
BEGIN:STANDARD
TZOFFSETFROM:-0400
TZOFFSETTO:-0500
TZNAME:EST
DTSTART:20251102T060000
END:STANDARD
END:VTIMEZONE
BEGIN:VEVENT
DTSTART;TZID=America/New_York:20240610T190000
DTEND;TZID=America/New_York:20240610T210000
DTSTAMP:20260422T043629
CREATED:20240610T221412Z
LAST-MODIFIED:20240610T221418Z
UID:10003580-1718046000-1718053200@cbmanhattan.cityofnewyork.us
SUMMARY:Youth & Education Committee Meeting
DESCRIPTION:This meeting will take place both in person at the CB12 Office on 530 W 166th Street\, New York\, NY\, and remotely via Zoom. A quorum of Committee Members will gather in person\, with some exceptions. \nTopic: Youth & Education Committee Meeting\nRegister in advance for this webinar:\nhttps://us06web.zoom.us/webinar/register/WN_CizUqUAUQDuRI4W4k_H-GQ \nAfter registering\, you will receive a confirmation email containing information about joining the webinar. \nMeeting information and agenda \n  \n  \n  \n 
URL:https://cbmanhattan.cityofnewyork.us/cb12/calendar/youth-education-committee-meeting-3-3-2-2-4/
LOCATION:CB12 Manhattan Office\, 530 W. 166th Street\, 6th floor\, NEW YORK CITY\, NY\, 10032\, United States
END:VEVENT
BEGIN:VEVENT
DTSTART;TZID=America/New_York:20240611T183000
DTEND;TZID=America/New_York:20240611T210000
DTSTAMP:20260422T043629
CREATED:20240610T220959Z
LAST-MODIFIED:20240610T221041Z
UID:10002794-1718130600-1718139600@cbmanhattan.cityofnewyork.us
SUMMARY:Parks and Cultural Affairs Committee
DESCRIPTION:This meeting will take place both in person at the CB12 Office on 530 W 166th Street\, New York\, NY\, and remotely via Zoom. A quorum of Committee Members will gather in person\, with some exceptions.  \nTopic: CB12M Parks and Cultural Affairs Committee\nRegister in advance for this webinar:\nhttps://us06web.zoom.us/webinar/register/WN_FOG8MEZZQaaxckwsCsMsmQ \nAfter registering\, you will receive a confirmation email containing information about joining the webinar. \nMeeting information and agenda. \n  \n  \n  \n  \n 
URL:https://cbmanhattan.cityofnewyork.us/cb12/calendar/parks-and-cultural-affairs-committee-2-2-2-2-5/
LOCATION:Community Board #12\, M Office\, 530 West 166th Street 6th Floor\, New York\, NY\, 10032\, United States
END:VEVENT
BEGIN:VEVENT
DTSTART;TZID=America/New_York:20240611T183000
DTEND;TZID=America/New_York:20240611T210000
DTSTAMP:20260422T043629
CREATED:20240909T213321Z
LAST-MODIFIED:20240909T213631Z
UID:10004091-1718130600-1718139600@cbmanhattan.cityofnewyork.us
SUMMARY:Parks and Cultural Affairs Committee
DESCRIPTION:This meeting will take place both in person at the CB12 Office on 530 W 166th Street\, New York\, NY\, and remotely via Zoom. A quorum of Committee Members will gather in person\, with some exceptions.  \nTopic: CB12M Parks and Cultural Affairs Committee\nRegister in advance for this webinar:\nhttps://us06web.zoom.us/webinar/register/WN_FOG8MEZZQaaxckwsCsMsmQ \nAfter registering\, you will receive a confirmation email containing information about joining the webinar. \nMeeting information and agenda. \n  \n  \n  \n  \n 
URL:https://cbmanhattan.cityofnewyork.us/cb12/calendar/parks-and-cultural-affairs-committee-3/
LOCATION:Community Board #12\, M Office\, 530 West 166th Street 6th Floor\, New York\, NY\, 10032\, United States
END:VEVENT
BEGIN:VEVENT
DTSTART;TZID=America/New_York:20240612T183000
DTEND;TZID=America/New_York:20240612T210000
DTSTAMP:20260422T043629
CREATED:20240610T221537Z
LAST-MODIFIED:20240610T221538Z
UID:10002775-1718217000-1718226000@cbmanhattan.cityofnewyork.us
SUMMARY:Licensing Committee Meeting
DESCRIPTION:This meeting will take place both in person and via Zoom.  At least a quorum of Committee Members will gather in person\, subject to a few exceptions.The in-person portion of the meeting will take place in the CB12 Conference room at 530 W 166th Street\, Suite 6B \nTopic: Licensing Committee Meeting\nRegister in advance for this webinar:\nhttps://us02web.zoom.us/webinar/register/WN_0fioETGDQ4K4Vr-Oz1SNtQ \nAfter registering\, you will receive a confirmation email containing information about joining the webinar. \nMeeting information and agenda \n  \n  \n  \n  \n  \n  \n 
URL:https://cbmanhattan.cityofnewyork.us/cb12/calendar/licensing-committee-meeting-2-3-2-2-2-2-6/
LOCATION:Community Board #12\, M Office\, 530 West 166th Street 6th Floor\, New York\, NY\, 10032\, United States
END:VEVENT
END:VCALENDAR