BEGIN:VCALENDAR
VERSION:2.0
PRODID:-//Community Board 12-Manhattan - ECPv6.15.20//NONSGML v1.0//EN
CALSCALE:GREGORIAN
METHOD:PUBLISH
X-ORIGINAL-URL:https://cbmanhattan.cityofnewyork.us/cb12
X-WR-CALDESC:Events for Community Board 12-Manhattan
REFRESH-INTERVAL;VALUE=DURATION:PT1H
X-Robots-Tag:noindex
X-PUBLISHED-TTL:PT1H
BEGIN:VTIMEZONE
TZID:America/New_York
BEGIN:DAYLIGHT
TZOFFSETFROM:-0500
TZOFFSETTO:-0400
TZNAME:EDT
DTSTART:20230312T070000
END:DAYLIGHT
BEGIN:STANDARD
TZOFFSETFROM:-0400
TZOFFSETTO:-0500
TZNAME:EST
DTSTART:20231105T060000
END:STANDARD
BEGIN:DAYLIGHT
TZOFFSETFROM:-0500
TZOFFSETTO:-0400
TZNAME:EDT
DTSTART:20240310T070000
END:DAYLIGHT
BEGIN:STANDARD
TZOFFSETFROM:-0400
TZOFFSETTO:-0500
TZNAME:EST
DTSTART:20241103T060000
END:STANDARD
BEGIN:DAYLIGHT
TZOFFSETFROM:-0500
TZOFFSETTO:-0400
TZNAME:EDT
DTSTART:20250309T070000
END:DAYLIGHT
BEGIN:STANDARD
TZOFFSETFROM:-0400
TZOFFSETTO:-0500
TZNAME:EST
DTSTART:20251102T060000
END:STANDARD
END:VTIMEZONE
BEGIN:VEVENT
DTSTART;TZID=America/New_York:20240501T183000
DTEND;TZID=America/New_York:20240501T210000
DTSTAMP:20260424T134254
CREATED:20240426T175927Z
LAST-MODIFIED:20240426T175927Z
UID:10003742-1714588200-1714597200@cbmanhattan.cityofnewyork.us
SUMMARY:Public Safety Committee
DESCRIPTION:This meeting will take place both in person at the CB12 Office on 530 W 166th Street\, New York\, NY\, and remotely via Zoom. A quorum of Committee Members will gather in person\, with some exceptions. \nTopic: CB12M Public Safety Committee Meeting\nRegister in advance for this webinar:  \nhttps://us02web.zoom.us/webinar/register/WN_wElzkCjXSXGO82PdxxDGug \nAfter registering\, you will receive a confirmation email containing information about joining the webinar. \nMeeting information and agenda \n  \n  \n  \n  \n 
URL:https://cbmanhattan.cityofnewyork.us/cb12/calendar/public-safety-committee-4-2-2-2-3/
END:VEVENT
BEGIN:VEVENT
DTSTART;TZID=America/New_York:20240501T190000
DTEND;TZID=America/New_York:20240501T210000
DTSTAMP:20260424T134254
CREATED:20240426T175553Z
LAST-MODIFIED:20240501T212628Z
UID:10002809-1714590000-1714597200@cbmanhattan.cityofnewyork.us
SUMMARY:Land Use Committee
DESCRIPTION:This meeting will take place both in person at the CB12 Office on 530 W 166th Street\, New York\, NY\, and remotely via Zoom. A quorum of Committee Members will gather in person\, with some exceptions. \nRegister in advance for this webinar: \nhttps://us06web.zoom.us/webinar/register/WN_NkK0Iqc8SGi1HxgTntzZ3A \nAfter registering\, you will receive a confirmation email containing information about joining the webinar. \nMeeting information and agenda
URL:https://cbmanhattan.cityofnewyork.us/cb12/calendar/land-use-committee-meeting-4-2-2-2-5/
LOCATION:CB12 Manhattan Office\, 530 W. 166th Street\, 6th floor\, NEW YORK CITY\, NY\, 10032\, United States
END:VEVENT
BEGIN:VEVENT
DTSTART;TZID=America/New_York:20240502T103000
DTEND;TZID=America/New_York:20240502T120000
DTSTAMP:20260424T134254
CREATED:20240426T180119Z
LAST-MODIFIED:20240426T180119Z
UID:10002929-1714645800-1714651200@cbmanhattan.cityofnewyork.us
SUMMARY:Concerns of the Aging Committee
DESCRIPTION:This meeting will take place both in person at the CB12 Office on 530 W 166th Street\, New York\, NY\, and remotely via Zoom. A quorum of Committee Members will gather in person\, with some exceptions. \nTopic: Aging Committee Meeting\nRegister in advance for this webinar:\nhttps://us06web.zoom.us/webinar/register/WN_vqQLupPoQc67y-IlvFxUXQ \nAfter registering\, you will receive a confirmation email containing information about joining the webinar. \nMeeting information and agenda \n  \n 
URL:https://cbmanhattan.cityofnewyork.us/cb12/calendar/aging-committee-4-2-2-2-4/
END:VEVENT
BEGIN:VEVENT
DTSTART;TZID=America/New_York:20240502T190000
DTEND;TZID=America/New_York:20240502T210000
DTSTAMP:20260424T134254
CREATED:20240426T180625Z
LAST-MODIFIED:20240426T180625Z
UID:10002930-1714676400-1714683600@cbmanhattan.cityofnewyork.us
SUMMARY:Housing & Human Services Committee
DESCRIPTION:This meeting will take place both in person at the CB12 Office on 530 W 166th Street\, New York\, NY\, and remotely via Zoom. A quorum of Committee Members will gather in person\, with some exceptions. \nTopic: Housing & Human Services Committee Meeting\nRegister in advance for this webinar:\nhttps://us02web.zoom.us/webinar/register/WN_3huLGAPOSoyzVjfLv2G-8Q \nAfter registering\, you will receive a confirmation email containing information about joining the webinar. \nMeeting information and agenda \n  \n  \n  \n 
URL:https://cbmanhattan.cityofnewyork.us/cb12/calendar/housing-human-services-committee-4-2-2-5/
END:VEVENT
BEGIN:VEVENT
DTSTART;TZID=America/New_York:20240502T190000
DTEND;TZID=America/New_York:20240502T213000
DTSTAMP:20260424T134254
CREATED:20240426T180258Z
LAST-MODIFIED:20240426T180258Z
UID:10003827-1714676400-1714685400@cbmanhattan.cityofnewyork.us
SUMMARY:Health & Environment Committee
DESCRIPTION:This meeting will take place both in person at the CB12 Office on 530 W 166th Street\, New York\, NY\, and remotely via Zoom. A quorum of Committee Members will gather in person\, with some exceptions. \nTopic: CB12M Health and Environment Committee\nRegister in advance for this webinar:\nhttps://us06web.zoom.us/webinar/register/WN_cDrU_GK3QHG7THfqXYIkyQ \nAfter registering\, you will receive a confirmation email containing information about joining the webinar. \nMeeting information and agenda \n  \n  \n  \n 
URL:https://cbmanhattan.cityofnewyork.us/cb12/calendar/health-environment-committee-4-2-2-2-6/
END:VEVENT
END:VCALENDAR