BEGIN:VCALENDAR
VERSION:2.0
PRODID:-//Community Board 12-Manhattan - ECPv6.15.20//NONSGML v1.0//EN
CALSCALE:GREGORIAN
METHOD:PUBLISH
X-ORIGINAL-URL:https://cbmanhattan.cityofnewyork.us/cb12
X-WR-CALDESC:Events for Community Board 12-Manhattan
REFRESH-INTERVAL;VALUE=DURATION:PT1H
X-Robots-Tag:noindex
X-PUBLISHED-TTL:PT1H
BEGIN:VTIMEZONE
TZID:America/New_York
BEGIN:DAYLIGHT
TZOFFSETFROM:-0500
TZOFFSETTO:-0400
TZNAME:EDT
DTSTART:20230312T070000
END:DAYLIGHT
BEGIN:STANDARD
TZOFFSETFROM:-0400
TZOFFSETTO:-0500
TZNAME:EST
DTSTART:20231105T060000
END:STANDARD
BEGIN:DAYLIGHT
TZOFFSETFROM:-0500
TZOFFSETTO:-0400
TZNAME:EDT
DTSTART:20240310T070000
END:DAYLIGHT
BEGIN:STANDARD
TZOFFSETFROM:-0400
TZOFFSETTO:-0500
TZNAME:EST
DTSTART:20241103T060000
END:STANDARD
BEGIN:DAYLIGHT
TZOFFSETFROM:-0500
TZOFFSETTO:-0400
TZNAME:EDT
DTSTART:20250309T070000
END:DAYLIGHT
BEGIN:STANDARD
TZOFFSETFROM:-0400
TZOFFSETTO:-0500
TZNAME:EST
DTSTART:20251102T060000
END:STANDARD
END:VTIMEZONE
BEGIN:VEVENT
DTSTART;TZID=America/New_York:20240101T080000
DTEND;TZID=America/New_York:20240101T170000
DTSTAMP:20260422T002504
CREATED:20231227T194752Z
LAST-MODIFIED:20231227T194800Z
UID:10003907-1704096000-1704128400@cbmanhattan.cityofnewyork.us
SUMMARY:New Year Day Office is Closed
DESCRIPTION:Traffic & Transportation will take place on Monday\, January 8\, 2024
URL:https://cbmanhattan.cityofnewyork.us/cb12/calendar/new-year-day-office-is-closed/
END:VEVENT
BEGIN:VEVENT
DTSTART;TZID=America/New_York:20240101T190000
DTEND;TZID=America/New_York:20240101T210000
DTSTAMP:20260422T002504
CREATED:20231201T195043Z
LAST-MODIFIED:20231201T195044Z
UID:10003526-1704135600-1704142800@cbmanhattan.cityofnewyork.us
SUMMARY:Traffic and Transportation
DESCRIPTION:Deals with local issues involving the NYC Department of Transportation. \nThis meeting will take place both in person at the CB12 Office on 530 W 166th Street\, New York\, NY\, and remotely via Zoom. A quorum of Committee Members will gather in person\, with some exceptions. \nTopic: Traffic & Transportation Committee Meeting\nRegister in advance for this webinar:\nhttps://us02web.zoom.us/webinar/register/WN_TUfD1N1WQfKT9Z64F710iQ \nAfter registering\, you will receive a confirmation email containing information about joining the webinar. \n  \n  \n  \n  \n 
URL:https://cbmanhattan.cityofnewyork.us/cb12/calendar/traffic-and-transportation-4-2-2-2-2-2/2024-01-01/
LOCATION:Main Office\, 530 W 166th Street\, 6th Fl\, New York\, NY\, 10032\, United States
END:VEVENT
BEGIN:VEVENT
DTSTART;TZID=America/New_York:20240102T190000
DTEND;TZID=America/New_York:20240102T210000
DTSTAMP:20260422T002504
CREATED:20231201T183140Z
LAST-MODIFIED:20240126T163410Z
UID:10003795-1704222000-1704229200@cbmanhattan.cityofnewyork.us
SUMMARY:Cannabis Task Force
DESCRIPTION:Cannabis Task Force \nAttend in person or register in advance for this webinar:\nhttps://us06web.zoom.us/webinar/register/WN_uzFN89ecSiCuyEq2F4XwzA \nAfter registering\, you will receive a confirmation email containing information about joining the webinar. \nMeeting Information and Materials
URL:https://cbmanhattan.cityofnewyork.us/cb12/calendar/cannabis-task-force-2/2024-01-02/
LOCATION:CB12 Manhattan Office\, 530 W. 166th Street\, 6th floor\, NEW YORK CITY\, NY\, 10032\, United States
END:VEVENT
BEGIN:VEVENT
DTSTART;TZID=America/New_York:20240102T190000
DTEND;TZID=America/New_York:20240102T210000
DTSTAMP:20260422T002504
CREATED:20231201T204521Z
LAST-MODIFIED:20231201T204647Z
UID:10003829-1704222000-1704229200@cbmanhattan.cityofnewyork.us
SUMMARY:Business Development Committee
DESCRIPTION:This meeting will take place both in person at the CB12 Office on 530 W 166th Street\, New York\, NY\, and remotely via Zoom. A quorum of Committee Members will gather in person\, with some exceptions. \nTopic: Business Development Committee Meeting\nRegister in advance for this webinar:\nhttps://us02web.zoom.us/webinar/register/WN_uzO78g76RuqlcU-Fd3LNhg \nAfter registering\, you will receive a confirmation email containing information about joining the webinar. \n  \n  \n  \n  \n  \n  \n  \n  \n  \n 
URL:https://cbmanhattan.cityofnewyork.us/cb12/calendar/business-development-committee-2-2-2/2024-01-02/
END:VEVENT
BEGIN:VEVENT
DTSTART;TZID=America/New_York:20240103T183000
DTEND;TZID=America/New_York:20240103T210000
DTSTAMP:20260422T002504
CREATED:20231201T195942Z
LAST-MODIFIED:20231201T195943Z
UID:10003738-1704306600-1704315600@cbmanhattan.cityofnewyork.us
SUMMARY:Public Safety Committee
DESCRIPTION:This meeting will take place both in person at the CB12 Office on 530 W 166th Street\, New York\, NY\, and remotely via Zoom. A quorum of Committee Members will gather in person\, with some exceptions. \nTopic: CB12M Public Safety Committee Meeting\nRegister in advance for this webinar:  \nhttps://us02web.zoom.us/webinar/register/WN_wElzkCjXSXGO82PdxxDGug \nAfter registering\, you will receive a confirmation email containing information about joining the webinar. \n  \n  \n  \n  \n  \n 
URL:https://cbmanhattan.cityofnewyork.us/cb12/calendar/public-safety-committee-4-2-2-2/2024-01-03/
END:VEVENT
BEGIN:VEVENT
DTSTART;TZID=America/New_York:20240103T190000
DTEND;TZID=America/New_York:20240103T210000
DTSTAMP:20260422T002504
CREATED:20231201T190655Z
LAST-MODIFIED:20231201T202758Z
UID:10002720-1704308400-1704315600@cbmanhattan.cityofnewyork.us
SUMMARY:Land Use Committee
DESCRIPTION:This meeting will take place both in person at the CB12 Office on 530 W 166th Street\, New York\, NY\, and remotely via Zoom. A quorum of Committee Members will gather in person\, with some exceptions. \nRegister in advance for this webinar: \nhttps://us06web.zoom.us/webinar/register/WN_NkK0Iqc8SGi1HxgTntzZ3A \nAfter registering\, you will receive a confirmation email containing information about joining the webinar.
URL:https://cbmanhattan.cityofnewyork.us/cb12/calendar/land-use-committee-meeting-4-2-2-2/2024-01-03/
LOCATION:CB12 Manhattan Office\, 530 W. 166th Street\, 6th floor\, NEW YORK CITY\, NY\, 10032\, United States
END:VEVENT
BEGIN:VEVENT
DTSTART;TZID=America/New_York:20240104T103000
DTEND;TZID=America/New_York:20240104T120000
DTSTAMP:20260422T002504
CREATED:20231201T192346Z
LAST-MODIFIED:20231201T192451Z
UID:10002739-1704364200-1704369600@cbmanhattan.cityofnewyork.us
SUMMARY:Concerns of the Aging Committee
DESCRIPTION:This meeting will take place both in person at the CB12 Office on 530 W 166th Street\, New York\, NY\, and remotely via Zoom. A quorum of Committee Members will gather in person\, with some exceptions. \nTopic: Aging Committee Meeting\nRegister in advance for this webinar:\nhttps://us06web.zoom.us/webinar/register/WN_vqQLupPoQc67y-IlvFxUXQ \nAfter registering\, you will receive a confirmation email containing information about joining the webinar. \n  \n  \n 
URL:https://cbmanhattan.cityofnewyork.us/cb12/calendar/aging-committee-4-2-2-2/2024-01-04/
END:VEVENT
BEGIN:VEVENT
DTSTART;TZID=America/New_York:20240104T190000
DTEND;TZID=America/New_York:20240104T213000
DTSTAMP:20260422T002504
CREATED:20231201T203054Z
LAST-MODIFIED:20231201T203054Z
UID:10003990-1704394800-1704403800@cbmanhattan.cityofnewyork.us
SUMMARY:Health & Environment Committee
DESCRIPTION:This meeting will take place both in person at the CB12 Office on 530 W 166th Street\, New York\, NY\, and remotely via Zoom. A quorum of Committee Members will gather in person\, with some exceptions. \nTopic: CB12M Health and Environment Committee\nRegister in advance for this webinar:\nhttps://us06web.zoom.us/webinar/register/WN_cDrU_GK3QHG7THfqXYIkyQ \nAfter registering\, you will receive a confirmation email containing information about joining the webinar. \n  \n  \n  \n  \n 
URL:https://cbmanhattan.cityofnewyork.us/cb12/calendar/health-environment-committee-4-2-2-2/2024-01-04/
END:VEVENT
BEGIN:VEVENT
DTSTART;TZID=America/New_York:20240104T190000
DTEND;TZID=America/New_York:20240104T213000
DTSTAMP:20260422T002504
CREATED:20240102T221923Z
LAST-MODIFIED:20240102T222540Z
UID:10003823-1704394800-1704403800@cbmanhattan.cityofnewyork.us
SUMMARY:Health & Environment Committee
DESCRIPTION:This meeting will take place both in person at the CB12 Office on 530 W 166th Street\, New York\, NY\, and remotely via Zoom. A quorum of Committee Members will gather in person\, with some exceptions. \nTopic: CB12M Health and Environment Committee\nRegister in advance for this webinar:\nhttps://us06web.zoom.us/webinar/register/WN_cDrU_GK3QHG7THfqXYIkyQ \nAfter registering\, you will receive a confirmation email containing information about joining the webinar. \nMeeting Materials \nMeeting Agenda  \n  \n 
URL:https://cbmanhattan.cityofnewyork.us/cb12/calendar/health-environment-committee-4-2-2-2-2/
END:VEVENT
END:VCALENDAR