BEGIN:VCALENDAR
VERSION:2.0
PRODID:-//Community Board 12-Manhattan - ECPv6.15.20//NONSGML v1.0//EN
CALSCALE:GREGORIAN
METHOD:PUBLISH
X-WR-CALNAME:Community Board 12-Manhattan
X-ORIGINAL-URL:https://cbmanhattan.cityofnewyork.us/cb12
X-WR-CALDESC:Events for Community Board 12-Manhattan
REFRESH-INTERVAL;VALUE=DURATION:PT1H
X-Robots-Tag:noindex
X-PUBLISHED-TTL:PT1H
BEGIN:VTIMEZONE
TZID:America/New_York
BEGIN:DAYLIGHT
TZOFFSETFROM:-0500
TZOFFSETTO:-0400
TZNAME:EDT
DTSTART:20220313T070000
END:DAYLIGHT
BEGIN:STANDARD
TZOFFSETFROM:-0400
TZOFFSETTO:-0500
TZNAME:EST
DTSTART:20221106T060000
END:STANDARD
BEGIN:DAYLIGHT
TZOFFSETFROM:-0500
TZOFFSETTO:-0400
TZNAME:EDT
DTSTART:20230312T070000
END:DAYLIGHT
BEGIN:STANDARD
TZOFFSETFROM:-0400
TZOFFSETTO:-0500
TZNAME:EST
DTSTART:20231105T060000
END:STANDARD
BEGIN:DAYLIGHT
TZOFFSETFROM:-0500
TZOFFSETTO:-0400
TZNAME:EDT
DTSTART:20240310T070000
END:DAYLIGHT
BEGIN:STANDARD
TZOFFSETFROM:-0400
TZOFFSETTO:-0500
TZNAME:EST
DTSTART:20241103T060000
END:STANDARD
END:VTIMEZONE
BEGIN:VEVENT
DTSTART;TZID=America/New_York:20231212T183000
DTEND;TZID=America/New_York:20231212T210000
DTSTAMP:20260420T113735
CREATED:20231201T194102Z
LAST-MODIFIED:20231201T194103Z
UID:10002788-1702405800-1702414800@cbmanhattan.cityofnewyork.us
SUMMARY:Parks and Cultural Affairs Committee
DESCRIPTION:This meeting will take place both in person at the CB12 Office on 530 W 166th Street\, New York\, NY\, and remotely via Zoom. A quorum of Committee Members will gather in person\, with some exceptions.  \nTopic: CB12M Parks and Cultural Affairs Committee\nRegister in advance for this webinar:\nhttps://us06web.zoom.us/webinar/register/WN_FOG8MEZZQaaxckwsCsMsmQ \nAfter registering\, you will receive a confirmation email containing information about joining the webinar. \n  \n  \n  \n  \n 
URL:https://cbmanhattan.cityofnewyork.us/cb12/calendar/parks-and-cultural-affairs-committee-2-2-2-2/2023-12-12/
LOCATION:Community Board #12\, M Office\, 530 West 166th Street 6th Floor\, New York\, NY\, 10032\, United States
END:VEVENT
BEGIN:VEVENT
DTSTART;TZID=America/New_York:20231213T183000
DTEND;TZID=America/New_York:20231213T210000
DTSTAMP:20260420T113735
CREATED:20231211T165008Z
LAST-MODIFIED:20231211T165756Z
UID:10002769-1702492200-1702501200@cbmanhattan.cityofnewyork.us
SUMMARY:Licensing Committee Meeting
DESCRIPTION:This meeting will take place both in person and via Zoom.  At least a quorum of Committee Members will gather in person\, subject to a few exceptions.The in-person portion of the meeting will take place in the CB12 Conference room at 530 W 166th Street\, Suite 6B \nTopic: Licensing Committee Meeting\nRegister in advance for this webinar:\nhttps://us02web.zoom.us/webinar/register/WN_0fioETGDQ4K4Vr-Oz1SNtQ \nAfter registering\, you will receive a confirmation email containing information about joining the webinar. \nMeeting Materials \nDecember 2023 Committee Agenda \n  \n  \n  \n  \n 
URL:https://cbmanhattan.cityofnewyork.us/cb12/calendar/licensing-committee-meeting-2-3-2-2-2-2-2/
LOCATION:Community Board #12\, M Office\, 530 West 166th Street 6th Floor\, New York\, NY\, 10032\, United States
END:VEVENT
BEGIN:VEVENT
DTSTART;TZID=America/New_York:20231214T183000
DTEND;TZID=America/New_York:20231214T210000
DTSTAMP:20260420T113735
CREATED:20231211T211827Z
LAST-MODIFIED:20231211T212145Z
UID:10003879-1702578600-1702587600@cbmanhattan.cityofnewyork.us
SUMMARY:Executive Committee Meeting
DESCRIPTION:Topic: CB12M Executive Committee meeting\nRegister in advance for this webinar: \nhttps://us02web.zoom.us/webinar/register/WN_nyTcH4iTT3CNFsNEpl9AZw \nAfter registering\, you will receive a confirmation email containing information about joining the webinar. \nMeeting Materials \nDecember 2023 Executive Committee Agenda \n  \n 
URL:https://cbmanhattan.cityofnewyork.us/cb12/calendar/executive-committee-meeting-2-3-2-2-2-2-2/
LOCATION:CB12 Manhattan Office\, 530 W. 166th Street\, 6th floor\, NEW YORK CITY\, NY\, 10032\, United States
ORGANIZER;CN="Community Board #12%2C Manhattan":MAILTO:ebsmith@cb.nyc.gov
END:VEVENT
END:VCALENDAR