BEGIN:VCALENDAR
VERSION:2.0
PRODID:-//Community Board 12-Manhattan - ECPv6.15.20//NONSGML v1.0//EN
CALSCALE:GREGORIAN
METHOD:PUBLISH
X-ORIGINAL-URL:https://cbmanhattan.cityofnewyork.us/cb12
X-WR-CALDESC:Events for Community Board 12-Manhattan
REFRESH-INTERVAL;VALUE=DURATION:PT1H
X-Robots-Tag:noindex
X-PUBLISHED-TTL:PT1H
BEGIN:VTIMEZONE
TZID:America/New_York
BEGIN:DAYLIGHT
TZOFFSETFROM:-0500
TZOFFSETTO:-0400
TZNAME:EDT
DTSTART:20220313T070000
END:DAYLIGHT
BEGIN:STANDARD
TZOFFSETFROM:-0400
TZOFFSETTO:-0500
TZNAME:EST
DTSTART:20221106T060000
END:STANDARD
BEGIN:DAYLIGHT
TZOFFSETFROM:-0500
TZOFFSETTO:-0400
TZNAME:EDT
DTSTART:20230312T070000
END:DAYLIGHT
BEGIN:STANDARD
TZOFFSETFROM:-0400
TZOFFSETTO:-0500
TZNAME:EST
DTSTART:20231105T060000
END:STANDARD
BEGIN:DAYLIGHT
TZOFFSETFROM:-0500
TZOFFSETTO:-0400
TZNAME:EDT
DTSTART:20240310T070000
END:DAYLIGHT
BEGIN:STANDARD
TZOFFSETFROM:-0400
TZOFFSETTO:-0500
TZNAME:EST
DTSTART:20241103T060000
END:STANDARD
END:VTIMEZONE
BEGIN:VEVENT
DTSTART;TZID=America/New_York:20230612T190000
DTEND;TZID=America/New_York:20230612T210000
DTSTAMP:20260425T132741
CREATED:20230309T183721Z
LAST-MODIFIED:20230629T184131Z
UID:10002342-1686596400-1686603600@cbmanhattan.cityofnewyork.us
SUMMARY:Youth & Education Committee Meeting
DESCRIPTION:  \n  \n  \n 
URL:https://cbmanhattan.cityofnewyork.us/cb12/calendar/youth-education-committee-meeting-3/2023-06-12/
LOCATION:CB12 Manhattan Office\, 530 W. 166th Street\, 6th floor\, NEW YORK CITY\, NY\, 10032\, United States
END:VEVENT
BEGIN:VEVENT
DTSTART;TZID=America/New_York:20230613T183000
DTEND;TZID=America/New_York:20230613T210000
DTSTAMP:20260425T132741
CREATED:20230424T134930Z
LAST-MODIFIED:20230629T184210Z
UID:10002784-1686681000-1686690000@cbmanhattan.cityofnewyork.us
SUMMARY:Parks and Cultural Affairs Committee
DESCRIPTION:  \n  \n  \n  \n 
URL:https://cbmanhattan.cityofnewyork.us/cb12/calendar/parks-and-cultural-affairs-committee-2-2/2023-06-13/
LOCATION:Community Board #12\, M Office\, 530 West 166th Street 6th Floor\, New York\, NY\, 10032\, United States
END:VEVENT
BEGIN:VEVENT
DTSTART;TZID=America/New_York:20230614T183000
DTEND;TZID=America/New_York:20230614T210000
DTSTAMP:20260425T132741
CREATED:20230424T134830Z
LAST-MODIFIED:20230821T184631Z
UID:10002763-1686767400-1686776400@cbmanhattan.cityofnewyork.us
SUMMARY:Licensing Committee Meeting
DESCRIPTION:This meeting will take place both in person and via Zoom.  At least a quorum of Committee Members will gather in person\, subject to a few exceptions. \nThe in-person portion of the meeting will take place in the CB12 Conference room at 530 W 166th Street\, Suite 6B \nPlease register to attend in person by clicking here. (Seating may be limited\, so please register in advance to participate in person.) \nThe remote option for the meeting is via the Zoom platform. See details below.  \nWhen: Sep 13\, 2023 06:30 PM Eastern Time (US and Canada)\nTopic: Licensing Committee Meeting\nRegister in advance for this webinar:\nhttps://us06web.zoom.us/webinar/register/WN_ZXOkXjiBSxqf90ovy5ErtQ \nAfter registering\, you will receive a confirmation email containing information about joining the webinar. \n  \n  \n  \n  \n  \n  \n 
URL:https://cbmanhattan.cityofnewyork.us/cb12/calendar/licensing-committee-meeting-2-3-2/2023-06-14/
LOCATION:Community Board #12\, M Office\, 530 West 166th Street 6th Floor\, New York\, NY\, 10032\, United States
END:VEVENT
BEGIN:VEVENT
DTSTART;TZID=America/New_York:20230615T100000
DTEND;TZID=America/New_York:20230615T120000
DTSTAMP:20260425T132741
CREATED:20220706T161540Z
LAST-MODIFIED:20230602T160251Z
UID:10002085-1686823200-1686830400@cbmanhattan.cityofnewyork.us
SUMMARY:District Service Cabinet
DESCRIPTION:
URL:https://cbmanhattan.cityofnewyork.us/cb12/calendar/district-service-cabinet/2023-06-15/
END:VEVENT
END:VCALENDAR