BEGIN:VCALENDAR
VERSION:2.0
PRODID:-//Community Board 12-Manhattan - ECPv6.15.20//NONSGML v1.0//EN
CALSCALE:GREGORIAN
METHOD:PUBLISH
X-ORIGINAL-URL:https://cbmanhattan.cityofnewyork.us/cb12
X-WR-CALDESC:Events for Community Board 12-Manhattan
REFRESH-INTERVAL;VALUE=DURATION:PT1H
X-Robots-Tag:noindex
X-PUBLISHED-TTL:PT1H
BEGIN:VTIMEZONE
TZID:America/New_York
BEGIN:DAYLIGHT
TZOFFSETFROM:-0500
TZOFFSETTO:-0400
TZNAME:EDT
DTSTART:20200308T070000
END:DAYLIGHT
BEGIN:STANDARD
TZOFFSETFROM:-0400
TZOFFSETTO:-0500
TZNAME:EST
DTSTART:20201101T060000
END:STANDARD
BEGIN:DAYLIGHT
TZOFFSETFROM:-0500
TZOFFSETTO:-0400
TZNAME:EDT
DTSTART:20210314T070000
END:DAYLIGHT
BEGIN:STANDARD
TZOFFSETFROM:-0400
TZOFFSETTO:-0500
TZNAME:EST
DTSTART:20211107T060000
END:STANDARD
BEGIN:DAYLIGHT
TZOFFSETFROM:-0500
TZOFFSETTO:-0400
TZNAME:EDT
DTSTART:20220313T070000
END:DAYLIGHT
BEGIN:STANDARD
TZOFFSETFROM:-0400
TZOFFSETTO:-0500
TZNAME:EST
DTSTART:20221106T060000
END:STANDARD
END:VTIMEZONE
BEGIN:VEVENT
DTSTART;TZID=America/New_York:20211018T190000
DTEND;TZID=America/New_York:20211018T210000
DTSTAMP:20260422T204223
CREATED:20200520T205035Z
LAST-MODIFIED:20200520T205035Z
UID:10001800-1634583600-1634590800@cbmanhattan.cityofnewyork.us
SUMMARY:Youth & Education Committee Meeting
DESCRIPTION:
URL:https://cbmanhattan.cityofnewyork.us/cb12/calendar/youth-education-committee-meeting-2/2021-10-18/
LOCATION:CB12 Manhattan Office\, 530 W. 166th Street\, 6th floor\, NEW YORK CITY\, NY\, 10032\, United States
END:VEVENT
BEGIN:VEVENT
DTSTART;TZID=America/New_York:20211018T190000
DTEND;TZID=America/New_York:20211018T220000
DTSTAMP:20260422T204223
CREATED:20200423T202609Z
LAST-MODIFIED:20200423T202609Z
UID:10001716-1634583600-1634594400@cbmanhattan.cityofnewyork.us
SUMMARY:Executive Committee Meeting
DESCRIPTION:
URL:https://cbmanhattan.cityofnewyork.us/cb12/calendar/executive-committee-meeting/2021-10-18/
LOCATION:CB12 Manhattan Office\, 530 W. 166th Street\, 6th floor\, NEW YORK CITY\, NY\, 10032\, United States
ORGANIZER;CN="Community Board #12%2C Manhattan":MAILTO:ebsmith@cb.nyc.gov
END:VEVENT
BEGIN:VEVENT
DTSTART;TZID=America/New_York:20211020T183000
DTEND;TZID=America/New_York:20211020T210000
DTSTAMP:20260422T204223
CREATED:20210930T204417Z
LAST-MODIFIED:20211015T191055Z
UID:10001941-1634754600-1634763600@cbmanhattan.cityofnewyork.us
SUMMARY:Budget Ranking Public Hearing
DESCRIPTION:Discussion of FY23 Budget Priorities. \nPlease click the link below to join the webinar:\nhttps://zoom.us/j/98322180668?pwd=bDJyV0liVSt2eE00a1JibE5JckVnQT09\nPasscode: 260630\nOr One tap mobile :\nUS: +16465189805\,\,98322180668# or +19292056099\,\,98322180668#\nOr Telephone:\nDial(for higher quality\, dial a number based on your current location):\nUS: +1 646 518 9805 or +1 929 205 6099 or +1 312 626 6799 or +1 470 250 9358 or +1 470 381 2552 or +1 651 372 8299 or +1 786 635 1003 or +1 267 831 0333 or +1 301 715 8592 or +1 669 219 2599 or +1 669 900 6833 or +1 720 928 9299 or +1 971 247 1195 or +1 213 338 8477 or +1 253 215 8782 or +1 346 248 7799 or +1 602 753 0140\nWebinar ID: 983 2218 0668\nInternational numbers available: https://zoom.us/u/aKNmNtlb0 \n 
URL:https://cbmanhattan.cityofnewyork.us/cb12/calendar/budget-ranking-public-hearing/
LOCATION:Community Board #12\, M Office\, 530 West 166th Street 6th Floor\, New York\, NY\, 10032\, United States
END:VEVENT
BEGIN:VEVENT
DTSTART;TZID=America/New_York:20211021T100000
DTEND;TZID=America/New_York:20211021T120000
DTSTAMP:20260422T204223
CREATED:20200414T153904Z
LAST-MODIFIED:20230112T210910Z
UID:10001496-1634810400-1634817600@cbmanhattan.cityofnewyork.us
SUMMARY:District Service Cabinet Meeting
DESCRIPTION:This is a working meeting between the CB #12\, M District Manager and City Agencies Representatives.
URL:https://cbmanhattan.cityofnewyork.us/cb12/calendar/district-service-cabinet-meeting/2021-10-21/
LOCATION:Community Board #12\, M Office\, 530 West 166th Street 6th Floor\, New York\, NY\, 10032\, United States
ORGANIZER;CN="Community Board #12%2C Manhattan":MAILTO:ebsmith@cb.nyc.gov
END:VEVENT
BEGIN:VEVENT
DTSTART;TZID=America/New_York:20211021T100000
DTEND;TZID=America/New_York:20211021T123000
DTSTAMP:20260422T204223
CREATED:20200520T204152Z
LAST-MODIFIED:20200520T204152Z
UID:10001743-1634810400-1634819400@cbmanhattan.cityofnewyork.us
SUMMARY:District Service Cabinet Meeting
DESCRIPTION:
URL:https://cbmanhattan.cityofnewyork.us/cb12/calendar/district-service-cabinet-meeting-2/2021-10-21/
LOCATION:Community Board #12\, M Office\, 530 West 166th Street 6th Floor\, New York\, NY\, 10032\, United States
END:VEVENT
END:VCALENDAR