BEGIN:VCALENDAR
VERSION:2.0
PRODID:-//Community Board 12-Manhattan - ECPv6.15.20//NONSGML v1.0//EN
CALSCALE:GREGORIAN
METHOD:PUBLISH
X-WR-CALNAME:Community Board 12-Manhattan
X-ORIGINAL-URL:https://cbmanhattan.cityofnewyork.us/cb12
X-WR-CALDESC:Events for Community Board 12-Manhattan
REFRESH-INTERVAL;VALUE=DURATION:PT1H
X-Robots-Tag:noindex
X-PUBLISHED-TTL:PT1H
BEGIN:VTIMEZONE
TZID:America/New_York
BEGIN:DAYLIGHT
TZOFFSETFROM:-0500
TZOFFSETTO:-0400
TZNAME:EDT
DTSTART:20250309T070000
END:DAYLIGHT
BEGIN:STANDARD
TZOFFSETFROM:-0400
TZOFFSETTO:-0500
TZNAME:EST
DTSTART:20251102T060000
END:STANDARD
BEGIN:DAYLIGHT
TZOFFSETFROM:-0500
TZOFFSETTO:-0400
TZNAME:EDT
DTSTART:20260308T070000
END:DAYLIGHT
BEGIN:STANDARD
TZOFFSETFROM:-0400
TZOFFSETTO:-0500
TZNAME:EST
DTSTART:20261101T060000
END:STANDARD
BEGIN:DAYLIGHT
TZOFFSETFROM:-0500
TZOFFSETTO:-0400
TZNAME:EDT
DTSTART:20270314T070000
END:DAYLIGHT
BEGIN:STANDARD
TZOFFSETFROM:-0400
TZOFFSETTO:-0500
TZNAME:EST
DTSTART:20271107T060000
END:STANDARD
BEGIN:DAYLIGHT
TZOFFSETFROM:-0500
TZOFFSETTO:-0400
TZNAME:EDT
DTSTART:20280312T070000
END:DAYLIGHT
BEGIN:STANDARD
TZOFFSETFROM:-0400
TZOFFSETTO:-0500
TZNAME:EST
DTSTART:20281105T060000
END:STANDARD
END:VTIMEZONE
BEGIN:VEVENT
DTSTART;TZID=America/New_York:20260506T103000
DTEND;TZID=America/New_York:20260506T120000
DTSTAMP:20260423T160218
CREATED:20251124T201717Z
LAST-MODIFIED:20260325T171802Z
UID:10006879-1778063400-1778068800@cbmanhattan.cityofnewyork.us
SUMMARY:Concerns of the Aging Committee
DESCRIPTION:This meeting will occur in person at the CB12 Office on 530 W 166th Street\, New York\, NY\, and remotely via Zoom. A quorum of Committee Members will gather in person\, with some exceptions. \nTopic: Aging Committee Meeting\nRegister in advance for this webinar:\nhttps://us06web.zoom.us/webinar/register/WN_vqQLupPoQc67y-IlvFxUXQ \nAfter registering\, you will receive a confirmation email with details on how to join the webinar. \nMeeting information and agenda. \n  \n  \n  \n 
URL:https://cbmanhattan.cityofnewyork.us/cb12/calendar/concerns-of-the-aging-committee-12/2026-05-06/
END:VEVENT
BEGIN:VEVENT
DTSTART;TZID=America/New_York:20260506T103000
DTEND;TZID=America/New_York:20260506T120000
DTSTAMP:20260423T160218
CREATED:20260220T173332Z
LAST-MODIFIED:20260325T171556Z
UID:10006761-1778063400-1778068800@cbmanhattan.cityofnewyork.us
SUMMARY:Concerns of the Aging Committee
DESCRIPTION:This meeting will occur in person at the CB12 Office on 530 W 166th Street\, New York\, NY\, and remotely via Zoom. A quorum of Committee Members will gather in person\, with some exceptions. \nTopic: Aging Committee Meeting\nRegister in advance for this webinar:\nhttps://us06web.zoom.us/webinar/register/WN_vqQLupPoQc67y-IlvFxUXQ \nAfter registering\, you will receive a confirmation email with details on how to join the webinar. \nMeeting information and agenda. \n  \n  \n  \n 
URL:https://cbmanhattan.cityofnewyork.us/cb12/calendar/concerns-of-the-aging-committee-13/2026-05-06/
END:VEVENT
BEGIN:VEVENT
DTSTART;TZID=America/New_York:20260606T103000
DTEND;TZID=America/New_York:20260606T120000
DTSTAMP:20260423T160218
CREATED:20251124T201717Z
LAST-MODIFIED:20260325T171802Z
UID:10006880-1780741800-1780747200@cbmanhattan.cityofnewyork.us
SUMMARY:Concerns of the Aging Committee
DESCRIPTION:This meeting will occur in person at the CB12 Office on 530 W 166th Street\, New York\, NY\, and remotely via Zoom. A quorum of Committee Members will gather in person\, with some exceptions. \nTopic: Aging Committee Meeting\nRegister in advance for this webinar:\nhttps://us06web.zoom.us/webinar/register/WN_vqQLupPoQc67y-IlvFxUXQ \nAfter registering\, you will receive a confirmation email with details on how to join the webinar. \nMeeting information and agenda. \n  \n  \n  \n 
URL:https://cbmanhattan.cityofnewyork.us/cb12/calendar/concerns-of-the-aging-committee-12/2026-06-06/
END:VEVENT
BEGIN:VEVENT
DTSTART;TZID=America/New_York:20260606T103000
DTEND;TZID=America/New_York:20260606T120000
DTSTAMP:20260423T160218
CREATED:20260220T173332Z
LAST-MODIFIED:20260325T171556Z
UID:10006762-1780741800-1780747200@cbmanhattan.cityofnewyork.us
SUMMARY:Concerns of the Aging Committee
DESCRIPTION:This meeting will occur in person at the CB12 Office on 530 W 166th Street\, New York\, NY\, and remotely via Zoom. A quorum of Committee Members will gather in person\, with some exceptions. \nTopic: Aging Committee Meeting\nRegister in advance for this webinar:\nhttps://us06web.zoom.us/webinar/register/WN_vqQLupPoQc67y-IlvFxUXQ \nAfter registering\, you will receive a confirmation email with details on how to join the webinar. \nMeeting information and agenda. \n  \n  \n  \n 
URL:https://cbmanhattan.cityofnewyork.us/cb12/calendar/concerns-of-the-aging-committee-13/2026-06-06/
END:VEVENT
BEGIN:VEVENT
DTSTART;TZID=America/New_York:20260806T103000
DTEND;TZID=America/New_York:20260806T120000
DTSTAMP:20260423T160218
CREATED:20251124T201717Z
LAST-MODIFIED:20260325T171802Z
UID:10006881-1786012200-1786017600@cbmanhattan.cityofnewyork.us
SUMMARY:Concerns of the Aging Committee
DESCRIPTION:This meeting will occur in person at the CB12 Office on 530 W 166th Street\, New York\, NY\, and remotely via Zoom. A quorum of Committee Members will gather in person\, with some exceptions. \nTopic: Aging Committee Meeting\nRegister in advance for this webinar:\nhttps://us06web.zoom.us/webinar/register/WN_vqQLupPoQc67y-IlvFxUXQ \nAfter registering\, you will receive a confirmation email with details on how to join the webinar. \nMeeting information and agenda. \n  \n  \n  \n 
URL:https://cbmanhattan.cityofnewyork.us/cb12/calendar/concerns-of-the-aging-committee-12/2026-08-06/
END:VEVENT
BEGIN:VEVENT
DTSTART;TZID=America/New_York:20260806T103000
DTEND;TZID=America/New_York:20260806T120000
DTSTAMP:20260423T160218
CREATED:20260220T173332Z
LAST-MODIFIED:20260325T171556Z
UID:10006763-1786012200-1786017600@cbmanhattan.cityofnewyork.us
SUMMARY:Concerns of the Aging Committee
DESCRIPTION:This meeting will occur in person at the CB12 Office on 530 W 166th Street\, New York\, NY\, and remotely via Zoom. A quorum of Committee Members will gather in person\, with some exceptions. \nTopic: Aging Committee Meeting\nRegister in advance for this webinar:\nhttps://us06web.zoom.us/webinar/register/WN_vqQLupPoQc67y-IlvFxUXQ \nAfter registering\, you will receive a confirmation email with details on how to join the webinar. \nMeeting information and agenda. \n  \n  \n  \n 
URL:https://cbmanhattan.cityofnewyork.us/cb12/calendar/concerns-of-the-aging-committee-13/2026-08-06/
END:VEVENT
BEGIN:VEVENT
DTSTART;TZID=America/New_York:20260906T103000
DTEND;TZID=America/New_York:20260906T120000
DTSTAMP:20260423T160218
CREATED:20251124T201717Z
LAST-MODIFIED:20260325T171802Z
UID:10006882-1788690600-1788696000@cbmanhattan.cityofnewyork.us
SUMMARY:Concerns of the Aging Committee
DESCRIPTION:This meeting will occur in person at the CB12 Office on 530 W 166th Street\, New York\, NY\, and remotely via Zoom. A quorum of Committee Members will gather in person\, with some exceptions. \nTopic: Aging Committee Meeting\nRegister in advance for this webinar:\nhttps://us06web.zoom.us/webinar/register/WN_vqQLupPoQc67y-IlvFxUXQ \nAfter registering\, you will receive a confirmation email with details on how to join the webinar. \nMeeting information and agenda. \n  \n  \n  \n 
URL:https://cbmanhattan.cityofnewyork.us/cb12/calendar/concerns-of-the-aging-committee-12/2026-09-06/
END:VEVENT
BEGIN:VEVENT
DTSTART;TZID=America/New_York:20260906T103000
DTEND;TZID=America/New_York:20260906T120000
DTSTAMP:20260423T160218
CREATED:20260220T173332Z
LAST-MODIFIED:20260325T171556Z
UID:10006764-1788690600-1788696000@cbmanhattan.cityofnewyork.us
SUMMARY:Concerns of the Aging Committee
DESCRIPTION:This meeting will occur in person at the CB12 Office on 530 W 166th Street\, New York\, NY\, and remotely via Zoom. A quorum of Committee Members will gather in person\, with some exceptions. \nTopic: Aging Committee Meeting\nRegister in advance for this webinar:\nhttps://us06web.zoom.us/webinar/register/WN_vqQLupPoQc67y-IlvFxUXQ \nAfter registering\, you will receive a confirmation email with details on how to join the webinar. \nMeeting information and agenda. \n  \n  \n  \n 
URL:https://cbmanhattan.cityofnewyork.us/cb12/calendar/concerns-of-the-aging-committee-13/2026-09-06/
END:VEVENT
BEGIN:VEVENT
DTSTART;TZID=America/New_York:20261006T103000
DTEND;TZID=America/New_York:20261006T120000
DTSTAMP:20260423T160218
CREATED:20251124T201717Z
LAST-MODIFIED:20260325T171802Z
UID:10006883-1791282600-1791288000@cbmanhattan.cityofnewyork.us
SUMMARY:Concerns of the Aging Committee
DESCRIPTION:This meeting will occur in person at the CB12 Office on 530 W 166th Street\, New York\, NY\, and remotely via Zoom. A quorum of Committee Members will gather in person\, with some exceptions. \nTopic: Aging Committee Meeting\nRegister in advance for this webinar:\nhttps://us06web.zoom.us/webinar/register/WN_vqQLupPoQc67y-IlvFxUXQ \nAfter registering\, you will receive a confirmation email with details on how to join the webinar. \nMeeting information and agenda. \n  \n  \n  \n 
URL:https://cbmanhattan.cityofnewyork.us/cb12/calendar/concerns-of-the-aging-committee-12/2026-10-06/
END:VEVENT
BEGIN:VEVENT
DTSTART;TZID=America/New_York:20261006T103000
DTEND;TZID=America/New_York:20261006T120000
DTSTAMP:20260423T160218
CREATED:20260220T173332Z
LAST-MODIFIED:20260325T171556Z
UID:10006765-1791282600-1791288000@cbmanhattan.cityofnewyork.us
SUMMARY:Concerns of the Aging Committee
DESCRIPTION:This meeting will occur in person at the CB12 Office on 530 W 166th Street\, New York\, NY\, and remotely via Zoom. A quorum of Committee Members will gather in person\, with some exceptions. \nTopic: Aging Committee Meeting\nRegister in advance for this webinar:\nhttps://us06web.zoom.us/webinar/register/WN_vqQLupPoQc67y-IlvFxUXQ \nAfter registering\, you will receive a confirmation email with details on how to join the webinar. \nMeeting information and agenda. \n  \n  \n  \n 
URL:https://cbmanhattan.cityofnewyork.us/cb12/calendar/concerns-of-the-aging-committee-13/2026-10-06/
END:VEVENT
BEGIN:VEVENT
DTSTART;TZID=America/New_York:20261106T103000
DTEND;TZID=America/New_York:20261106T120000
DTSTAMP:20260423T160218
CREATED:20251124T201717Z
LAST-MODIFIED:20260325T171802Z
UID:10006884-1793961000-1793966400@cbmanhattan.cityofnewyork.us
SUMMARY:Concerns of the Aging Committee
DESCRIPTION:This meeting will occur in person at the CB12 Office on 530 W 166th Street\, New York\, NY\, and remotely via Zoom. A quorum of Committee Members will gather in person\, with some exceptions. \nTopic: Aging Committee Meeting\nRegister in advance for this webinar:\nhttps://us06web.zoom.us/webinar/register/WN_vqQLupPoQc67y-IlvFxUXQ \nAfter registering\, you will receive a confirmation email with details on how to join the webinar. \nMeeting information and agenda. \n  \n  \n  \n 
URL:https://cbmanhattan.cityofnewyork.us/cb12/calendar/concerns-of-the-aging-committee-12/2026-11-06/
END:VEVENT
BEGIN:VEVENT
DTSTART;TZID=America/New_York:20261106T103000
DTEND;TZID=America/New_York:20261106T120000
DTSTAMP:20260423T160218
CREATED:20260220T173332Z
LAST-MODIFIED:20260325T171556Z
UID:10006766-1793961000-1793966400@cbmanhattan.cityofnewyork.us
SUMMARY:Concerns of the Aging Committee
DESCRIPTION:This meeting will occur in person at the CB12 Office on 530 W 166th Street\, New York\, NY\, and remotely via Zoom. A quorum of Committee Members will gather in person\, with some exceptions. \nTopic: Aging Committee Meeting\nRegister in advance for this webinar:\nhttps://us06web.zoom.us/webinar/register/WN_vqQLupPoQc67y-IlvFxUXQ \nAfter registering\, you will receive a confirmation email with details on how to join the webinar. \nMeeting information and agenda. \n  \n  \n  \n 
URL:https://cbmanhattan.cityofnewyork.us/cb12/calendar/concerns-of-the-aging-committee-13/2026-11-06/
END:VEVENT
BEGIN:VEVENT
DTSTART;TZID=America/New_York:20261206T103000
DTEND;TZID=America/New_York:20261206T120000
DTSTAMP:20260423T160218
CREATED:20251124T201717Z
LAST-MODIFIED:20260325T171802Z
UID:10006885-1796553000-1796558400@cbmanhattan.cityofnewyork.us
SUMMARY:Concerns of the Aging Committee
DESCRIPTION:This meeting will occur in person at the CB12 Office on 530 W 166th Street\, New York\, NY\, and remotely via Zoom. A quorum of Committee Members will gather in person\, with some exceptions. \nTopic: Aging Committee Meeting\nRegister in advance for this webinar:\nhttps://us06web.zoom.us/webinar/register/WN_vqQLupPoQc67y-IlvFxUXQ \nAfter registering\, you will receive a confirmation email with details on how to join the webinar. \nMeeting information and agenda. \n  \n  \n  \n 
URL:https://cbmanhattan.cityofnewyork.us/cb12/calendar/concerns-of-the-aging-committee-12/2026-12-06/
END:VEVENT
BEGIN:VEVENT
DTSTART;TZID=America/New_York:20261206T103000
DTEND;TZID=America/New_York:20261206T120000
DTSTAMP:20260423T160218
CREATED:20260220T173332Z
LAST-MODIFIED:20260325T171556Z
UID:10006767-1796553000-1796558400@cbmanhattan.cityofnewyork.us
SUMMARY:Concerns of the Aging Committee
DESCRIPTION:This meeting will occur in person at the CB12 Office on 530 W 166th Street\, New York\, NY\, and remotely via Zoom. A quorum of Committee Members will gather in person\, with some exceptions. \nTopic: Aging Committee Meeting\nRegister in advance for this webinar:\nhttps://us06web.zoom.us/webinar/register/WN_vqQLupPoQc67y-IlvFxUXQ \nAfter registering\, you will receive a confirmation email with details on how to join the webinar. \nMeeting information and agenda. \n  \n  \n  \n 
URL:https://cbmanhattan.cityofnewyork.us/cb12/calendar/concerns-of-the-aging-committee-13/2026-12-06/
END:VEVENT
BEGIN:VEVENT
DTSTART;TZID=America/New_York:20270106T103000
DTEND;TZID=America/New_York:20270106T120000
DTSTAMP:20260423T160218
CREATED:20251124T201717Z
LAST-MODIFIED:20260325T171802Z
UID:10006886-1799231400-1799236800@cbmanhattan.cityofnewyork.us
SUMMARY:Concerns of the Aging Committee
DESCRIPTION:This meeting will occur in person at the CB12 Office on 530 W 166th Street\, New York\, NY\, and remotely via Zoom. A quorum of Committee Members will gather in person\, with some exceptions. \nTopic: Aging Committee Meeting\nRegister in advance for this webinar:\nhttps://us06web.zoom.us/webinar/register/WN_vqQLupPoQc67y-IlvFxUXQ \nAfter registering\, you will receive a confirmation email with details on how to join the webinar. \nMeeting information and agenda. \n  \n  \n  \n 
URL:https://cbmanhattan.cityofnewyork.us/cb12/calendar/concerns-of-the-aging-committee-12/2027-01-06/
END:VEVENT
BEGIN:VEVENT
DTSTART;TZID=America/New_York:20270106T103000
DTEND;TZID=America/New_York:20270106T120000
DTSTAMP:20260423T160218
CREATED:20260220T173332Z
LAST-MODIFIED:20260325T171556Z
UID:10006768-1799231400-1799236800@cbmanhattan.cityofnewyork.us
SUMMARY:Concerns of the Aging Committee
DESCRIPTION:This meeting will occur in person at the CB12 Office on 530 W 166th Street\, New York\, NY\, and remotely via Zoom. A quorum of Committee Members will gather in person\, with some exceptions. \nTopic: Aging Committee Meeting\nRegister in advance for this webinar:\nhttps://us06web.zoom.us/webinar/register/WN_vqQLupPoQc67y-IlvFxUXQ \nAfter registering\, you will receive a confirmation email with details on how to join the webinar. \nMeeting information and agenda. \n  \n  \n  \n 
URL:https://cbmanhattan.cityofnewyork.us/cb12/calendar/concerns-of-the-aging-committee-13/2027-01-06/
END:VEVENT
BEGIN:VEVENT
DTSTART;TZID=America/New_York:20270206T103000
DTEND;TZID=America/New_York:20270206T120000
DTSTAMP:20260423T160218
CREATED:20251124T201717Z
LAST-MODIFIED:20260325T171802Z
UID:10006887-1801909800-1801915200@cbmanhattan.cityofnewyork.us
SUMMARY:Concerns of the Aging Committee
DESCRIPTION:This meeting will occur in person at the CB12 Office on 530 W 166th Street\, New York\, NY\, and remotely via Zoom. A quorum of Committee Members will gather in person\, with some exceptions. \nTopic: Aging Committee Meeting\nRegister in advance for this webinar:\nhttps://us06web.zoom.us/webinar/register/WN_vqQLupPoQc67y-IlvFxUXQ \nAfter registering\, you will receive a confirmation email with details on how to join the webinar. \nMeeting information and agenda. \n  \n  \n  \n 
URL:https://cbmanhattan.cityofnewyork.us/cb12/calendar/concerns-of-the-aging-committee-12/2027-02-06/
END:VEVENT
BEGIN:VEVENT
DTSTART;TZID=America/New_York:20270206T103000
DTEND;TZID=America/New_York:20270206T120000
DTSTAMP:20260423T160218
CREATED:20260220T173332Z
LAST-MODIFIED:20260325T171556Z
UID:10006769-1801909800-1801915200@cbmanhattan.cityofnewyork.us
SUMMARY:Concerns of the Aging Committee
DESCRIPTION:This meeting will occur in person at the CB12 Office on 530 W 166th Street\, New York\, NY\, and remotely via Zoom. A quorum of Committee Members will gather in person\, with some exceptions. \nTopic: Aging Committee Meeting\nRegister in advance for this webinar:\nhttps://us06web.zoom.us/webinar/register/WN_vqQLupPoQc67y-IlvFxUXQ \nAfter registering\, you will receive a confirmation email with details on how to join the webinar. \nMeeting information and agenda. \n  \n  \n  \n 
URL:https://cbmanhattan.cityofnewyork.us/cb12/calendar/concerns-of-the-aging-committee-13/2027-02-06/
END:VEVENT
BEGIN:VEVENT
DTSTART;TZID=America/New_York:20270306T103000
DTEND;TZID=America/New_York:20270306T120000
DTSTAMP:20260423T160218
CREATED:20251124T201717Z
LAST-MODIFIED:20260325T171802Z
UID:10006888-1804329000-1804334400@cbmanhattan.cityofnewyork.us
SUMMARY:Concerns of the Aging Committee
DESCRIPTION:This meeting will occur in person at the CB12 Office on 530 W 166th Street\, New York\, NY\, and remotely via Zoom. A quorum of Committee Members will gather in person\, with some exceptions. \nTopic: Aging Committee Meeting\nRegister in advance for this webinar:\nhttps://us06web.zoom.us/webinar/register/WN_vqQLupPoQc67y-IlvFxUXQ \nAfter registering\, you will receive a confirmation email with details on how to join the webinar. \nMeeting information and agenda. \n  \n  \n  \n 
URL:https://cbmanhattan.cityofnewyork.us/cb12/calendar/concerns-of-the-aging-committee-12/2027-03-06/
END:VEVENT
BEGIN:VEVENT
DTSTART;TZID=America/New_York:20270306T103000
DTEND;TZID=America/New_York:20270306T120000
DTSTAMP:20260423T160218
CREATED:20260220T173332Z
LAST-MODIFIED:20260325T171556Z
UID:10006770-1804329000-1804334400@cbmanhattan.cityofnewyork.us
SUMMARY:Concerns of the Aging Committee
DESCRIPTION:This meeting will occur in person at the CB12 Office on 530 W 166th Street\, New York\, NY\, and remotely via Zoom. A quorum of Committee Members will gather in person\, with some exceptions. \nTopic: Aging Committee Meeting\nRegister in advance for this webinar:\nhttps://us06web.zoom.us/webinar/register/WN_vqQLupPoQc67y-IlvFxUXQ \nAfter registering\, you will receive a confirmation email with details on how to join the webinar. \nMeeting information and agenda. \n  \n  \n  \n 
URL:https://cbmanhattan.cityofnewyork.us/cb12/calendar/concerns-of-the-aging-committee-13/2027-03-06/
END:VEVENT
BEGIN:VEVENT
DTSTART;TZID=America/New_York:20270406T103000
DTEND;TZID=America/New_York:20270406T120000
DTSTAMP:20260423T160218
CREATED:20251124T201717Z
LAST-MODIFIED:20260325T171802Z
UID:10006889-1807007400-1807012800@cbmanhattan.cityofnewyork.us
SUMMARY:Concerns of the Aging Committee
DESCRIPTION:This meeting will occur in person at the CB12 Office on 530 W 166th Street\, New York\, NY\, and remotely via Zoom. A quorum of Committee Members will gather in person\, with some exceptions. \nTopic: Aging Committee Meeting\nRegister in advance for this webinar:\nhttps://us06web.zoom.us/webinar/register/WN_vqQLupPoQc67y-IlvFxUXQ \nAfter registering\, you will receive a confirmation email with details on how to join the webinar. \nMeeting information and agenda. \n  \n  \n  \n 
URL:https://cbmanhattan.cityofnewyork.us/cb12/calendar/concerns-of-the-aging-committee-12/2027-04-06/
END:VEVENT
BEGIN:VEVENT
DTSTART;TZID=America/New_York:20270406T103000
DTEND;TZID=America/New_York:20270406T120000
DTSTAMP:20260423T160218
CREATED:20260220T173332Z
LAST-MODIFIED:20260325T171556Z
UID:10006771-1807007400-1807012800@cbmanhattan.cityofnewyork.us
SUMMARY:Concerns of the Aging Committee
DESCRIPTION:This meeting will occur in person at the CB12 Office on 530 W 166th Street\, New York\, NY\, and remotely via Zoom. A quorum of Committee Members will gather in person\, with some exceptions. \nTopic: Aging Committee Meeting\nRegister in advance for this webinar:\nhttps://us06web.zoom.us/webinar/register/WN_vqQLupPoQc67y-IlvFxUXQ \nAfter registering\, you will receive a confirmation email with details on how to join the webinar. \nMeeting information and agenda. \n  \n  \n  \n 
URL:https://cbmanhattan.cityofnewyork.us/cb12/calendar/concerns-of-the-aging-committee-13/2027-04-06/
END:VEVENT
BEGIN:VEVENT
DTSTART;TZID=America/New_York:20270506T103000
DTEND;TZID=America/New_York:20270506T120000
DTSTAMP:20260423T160218
CREATED:20251124T201717Z
LAST-MODIFIED:20260325T171802Z
UID:10006890-1809599400-1809604800@cbmanhattan.cityofnewyork.us
SUMMARY:Concerns of the Aging Committee
DESCRIPTION:This meeting will occur in person at the CB12 Office on 530 W 166th Street\, New York\, NY\, and remotely via Zoom. A quorum of Committee Members will gather in person\, with some exceptions. \nTopic: Aging Committee Meeting\nRegister in advance for this webinar:\nhttps://us06web.zoom.us/webinar/register/WN_vqQLupPoQc67y-IlvFxUXQ \nAfter registering\, you will receive a confirmation email with details on how to join the webinar. \nMeeting information and agenda. \n  \n  \n  \n 
URL:https://cbmanhattan.cityofnewyork.us/cb12/calendar/concerns-of-the-aging-committee-12/2027-05-06/
END:VEVENT
BEGIN:VEVENT
DTSTART;TZID=America/New_York:20270506T103000
DTEND;TZID=America/New_York:20270506T120000
DTSTAMP:20260423T160218
CREATED:20260220T173332Z
LAST-MODIFIED:20260325T171556Z
UID:10006772-1809599400-1809604800@cbmanhattan.cityofnewyork.us
SUMMARY:Concerns of the Aging Committee
DESCRIPTION:This meeting will occur in person at the CB12 Office on 530 W 166th Street\, New York\, NY\, and remotely via Zoom. A quorum of Committee Members will gather in person\, with some exceptions. \nTopic: Aging Committee Meeting\nRegister in advance for this webinar:\nhttps://us06web.zoom.us/webinar/register/WN_vqQLupPoQc67y-IlvFxUXQ \nAfter registering\, you will receive a confirmation email with details on how to join the webinar. \nMeeting information and agenda. \n  \n  \n  \n 
URL:https://cbmanhattan.cityofnewyork.us/cb12/calendar/concerns-of-the-aging-committee-13/2027-05-06/
END:VEVENT
BEGIN:VEVENT
DTSTART;TZID=America/New_York:20270606T103000
DTEND;TZID=America/New_York:20270606T120000
DTSTAMP:20260423T160218
CREATED:20251124T201717Z
LAST-MODIFIED:20260325T171802Z
UID:10006891-1812277800-1812283200@cbmanhattan.cityofnewyork.us
SUMMARY:Concerns of the Aging Committee
DESCRIPTION:This meeting will occur in person at the CB12 Office on 530 W 166th Street\, New York\, NY\, and remotely via Zoom. A quorum of Committee Members will gather in person\, with some exceptions. \nTopic: Aging Committee Meeting\nRegister in advance for this webinar:\nhttps://us06web.zoom.us/webinar/register/WN_vqQLupPoQc67y-IlvFxUXQ \nAfter registering\, you will receive a confirmation email with details on how to join the webinar. \nMeeting information and agenda. \n  \n  \n  \n 
URL:https://cbmanhattan.cityofnewyork.us/cb12/calendar/concerns-of-the-aging-committee-12/2027-06-06/
END:VEVENT
BEGIN:VEVENT
DTSTART;TZID=America/New_York:20270606T103000
DTEND;TZID=America/New_York:20270606T120000
DTSTAMP:20260423T160218
CREATED:20260220T173332Z
LAST-MODIFIED:20260325T171556Z
UID:10006773-1812277800-1812283200@cbmanhattan.cityofnewyork.us
SUMMARY:Concerns of the Aging Committee
DESCRIPTION:This meeting will occur in person at the CB12 Office on 530 W 166th Street\, New York\, NY\, and remotely via Zoom. A quorum of Committee Members will gather in person\, with some exceptions. \nTopic: Aging Committee Meeting\nRegister in advance for this webinar:\nhttps://us06web.zoom.us/webinar/register/WN_vqQLupPoQc67y-IlvFxUXQ \nAfter registering\, you will receive a confirmation email with details on how to join the webinar. \nMeeting information and agenda. \n  \n  \n  \n 
URL:https://cbmanhattan.cityofnewyork.us/cb12/calendar/concerns-of-the-aging-committee-13/2027-06-06/
END:VEVENT
BEGIN:VEVENT
DTSTART;TZID=America/New_York:20270706T103000
DTEND;TZID=America/New_York:20270706T120000
DTSTAMP:20260423T160218
CREATED:20251124T201717Z
LAST-MODIFIED:20260325T171802Z
UID:10006892-1814869800-1814875200@cbmanhattan.cityofnewyork.us
SUMMARY:Concerns of the Aging Committee
DESCRIPTION:This meeting will occur in person at the CB12 Office on 530 W 166th Street\, New York\, NY\, and remotely via Zoom. A quorum of Committee Members will gather in person\, with some exceptions. \nTopic: Aging Committee Meeting\nRegister in advance for this webinar:\nhttps://us06web.zoom.us/webinar/register/WN_vqQLupPoQc67y-IlvFxUXQ \nAfter registering\, you will receive a confirmation email with details on how to join the webinar. \nMeeting information and agenda. \n  \n  \n  \n 
URL:https://cbmanhattan.cityofnewyork.us/cb12/calendar/concerns-of-the-aging-committee-12/2027-07-06/
END:VEVENT
BEGIN:VEVENT
DTSTART;TZID=America/New_York:20270706T103000
DTEND;TZID=America/New_York:20270706T120000
DTSTAMP:20260423T160218
CREATED:20260220T173332Z
LAST-MODIFIED:20260325T171556Z
UID:10006774-1814869800-1814875200@cbmanhattan.cityofnewyork.us
SUMMARY:Concerns of the Aging Committee
DESCRIPTION:This meeting will occur in person at the CB12 Office on 530 W 166th Street\, New York\, NY\, and remotely via Zoom. A quorum of Committee Members will gather in person\, with some exceptions. \nTopic: Aging Committee Meeting\nRegister in advance for this webinar:\nhttps://us06web.zoom.us/webinar/register/WN_vqQLupPoQc67y-IlvFxUXQ \nAfter registering\, you will receive a confirmation email with details on how to join the webinar. \nMeeting information and agenda. \n  \n  \n  \n 
URL:https://cbmanhattan.cityofnewyork.us/cb12/calendar/concerns-of-the-aging-committee-13/2027-07-06/
END:VEVENT
BEGIN:VEVENT
DTSTART;TZID=America/New_York:20270806T103000
DTEND;TZID=America/New_York:20270806T120000
DTSTAMP:20260423T160218
CREATED:20251124T201717Z
LAST-MODIFIED:20260325T171802Z
UID:10006893-1817548200-1817553600@cbmanhattan.cityofnewyork.us
SUMMARY:Concerns of the Aging Committee
DESCRIPTION:This meeting will occur in person at the CB12 Office on 530 W 166th Street\, New York\, NY\, and remotely via Zoom. A quorum of Committee Members will gather in person\, with some exceptions. \nTopic: Aging Committee Meeting\nRegister in advance for this webinar:\nhttps://us06web.zoom.us/webinar/register/WN_vqQLupPoQc67y-IlvFxUXQ \nAfter registering\, you will receive a confirmation email with details on how to join the webinar. \nMeeting information and agenda. \n  \n  \n  \n 
URL:https://cbmanhattan.cityofnewyork.us/cb12/calendar/concerns-of-the-aging-committee-12/2027-08-06/
END:VEVENT
BEGIN:VEVENT
DTSTART;TZID=America/New_York:20270806T103000
DTEND;TZID=America/New_York:20270806T120000
DTSTAMP:20260423T160218
CREATED:20260220T173332Z
LAST-MODIFIED:20260325T171556Z
UID:10006775-1817548200-1817553600@cbmanhattan.cityofnewyork.us
SUMMARY:Concerns of the Aging Committee
DESCRIPTION:This meeting will occur in person at the CB12 Office on 530 W 166th Street\, New York\, NY\, and remotely via Zoom. A quorum of Committee Members will gather in person\, with some exceptions. \nTopic: Aging Committee Meeting\nRegister in advance for this webinar:\nhttps://us06web.zoom.us/webinar/register/WN_vqQLupPoQc67y-IlvFxUXQ \nAfter registering\, you will receive a confirmation email with details on how to join the webinar. \nMeeting information and agenda. \n  \n  \n  \n 
URL:https://cbmanhattan.cityofnewyork.us/cb12/calendar/concerns-of-the-aging-committee-13/2027-08-06/
END:VEVENT
END:VCALENDAR