BEGIN:VCALENDAR
VERSION:2.0
PRODID:-//Community Board 12-Manhattan - ECPv6.15.20//NONSGML v1.0//EN
CALSCALE:GREGORIAN
METHOD:PUBLISH
X-ORIGINAL-URL:https://cbmanhattan.cityofnewyork.us/cb12
X-WR-CALDESC:Events for Community Board 12-Manhattan
REFRESH-INTERVAL;VALUE=DURATION:PT1H
X-Robots-Tag:noindex
X-PUBLISHED-TTL:PT1H
BEGIN:VTIMEZONE
TZID:America/New_York
BEGIN:DAYLIGHT
TZOFFSETFROM:-0500
TZOFFSETTO:-0400
TZNAME:EDT
DTSTART:20230312T070000
END:DAYLIGHT
BEGIN:STANDARD
TZOFFSETFROM:-0400
TZOFFSETTO:-0500
TZNAME:EST
DTSTART:20231105T060000
END:STANDARD
BEGIN:DAYLIGHT
TZOFFSETFROM:-0500
TZOFFSETTO:-0400
TZNAME:EDT
DTSTART:20240310T070000
END:DAYLIGHT
BEGIN:STANDARD
TZOFFSETFROM:-0400
TZOFFSETTO:-0500
TZNAME:EST
DTSTART:20241103T060000
END:STANDARD
BEGIN:DAYLIGHT
TZOFFSETFROM:-0500
TZOFFSETTO:-0400
TZNAME:EDT
DTSTART:20250309T070000
END:DAYLIGHT
BEGIN:STANDARD
TZOFFSETFROM:-0400
TZOFFSETTO:-0500
TZNAME:EST
DTSTART:20251102T060000
END:STANDARD
END:VTIMEZONE
BEGIN:VEVENT
DTSTART;TZID=America/New_York:20240201T103000
DTEND;TZID=America/New_York:20240201T120000
DTSTAMP:20260421T054129
CREATED:20240126T171326Z
LAST-MODIFIED:20240126T171327Z
UID:10002740-1706783400-1706788800@cbmanhattan.cityofnewyork.us
SUMMARY:Concerns of the Aging Committee
DESCRIPTION:This meeting will take place both in person at the CB12 Office on 530 W 166th Street\, New York\, NY\, and remotely via Zoom. A quorum of Committee Members will gather in person\, with some exceptions. \nTopic: Aging Committee Meeting\nRegister in advance for this webinar:\nhttps://us06web.zoom.us/webinar/register/WN_vqQLupPoQc67y-IlvFxUXQ \nAfter registering\, you will receive a confirmation email containing information about joining the webinar. \nMeeting Information and Materials  \nFebruary 2024 Agenda  \n 
URL:https://cbmanhattan.cityofnewyork.us/cb12/calendar/aging-committee-4-2-2-2-2/
END:VEVENT
BEGIN:VEVENT
DTSTART;TZID=America/New_York:20240201T190000
DTEND;TZID=America/New_York:20240201T210000
DTSTAMP:20260421T054129
CREATED:20240131T163321Z
LAST-MODIFIED:20240201T213949Z
UID:10002432-1706814000-1706821200@cbmanhattan.cityofnewyork.us
SUMMARY:Housing & Human Services Committee
DESCRIPTION:This meeting will take place both in person at the CB12 Office on 530 W 166th Street\, New York\, NY\, and remotely via Zoom. A quorum of Committee Members will gather in person\, with some exceptions. \nTopic: Housing & Human Services Committee Meeting\nRegister in advance for this webinar:\nhttps://us02web.zoom.us/webinar/register/WN_3huLGAPOSoyzVjfLv2G-8Q \nAfter registering\, you will receive a confirmation email containing information about joining the webinar. \n  \nFebruary 2024 Agenda \n  \n  \n  \n 
URL:https://cbmanhattan.cityofnewyork.us/cb12/calendar/housing-human-services-committee-4-2-2-2/
END:VEVENT
BEGIN:VEVENT
DTSTART;TZID=America/New_York:20240201T190000
DTEND;TZID=America/New_York:20240201T213000
DTSTAMP:20260421T054129
CREATED:20231201T203054Z
LAST-MODIFIED:20231201T203054Z
UID:10003991-1706814000-1706823000@cbmanhattan.cityofnewyork.us
SUMMARY:Health & Environment Committee
DESCRIPTION:This meeting will take place both in person at the CB12 Office on 530 W 166th Street\, New York\, NY\, and remotely via Zoom. A quorum of Committee Members will gather in person\, with some exceptions. \nTopic: CB12M Health and Environment Committee\nRegister in advance for this webinar:\nhttps://us06web.zoom.us/webinar/register/WN_cDrU_GK3QHG7THfqXYIkyQ \nAfter registering\, you will receive a confirmation email containing information about joining the webinar. \n  \n  \n  \n  \n 
URL:https://cbmanhattan.cityofnewyork.us/cb12/calendar/health-environment-committee-4-2-2-2/2024-02-01/
END:VEVENT
BEGIN:VEVENT
DTSTART;TZID=America/New_York:20240201T190000
DTEND;TZID=America/New_York:20240201T213000
DTSTAMP:20260421T054129
CREATED:20240130T183741Z
LAST-MODIFIED:20240201T163218Z
UID:10003824-1706814000-1706823000@cbmanhattan.cityofnewyork.us
SUMMARY:Health & Environment Committee
DESCRIPTION:This meeting will take place both in person at the CB12 Office on 530 W 166th Street\, New York\, NY\, and remotely via Zoom. A quorum of Committee Members will gather in person\, with some exceptions. \nTopic: CB12M Health and Environment Committee\nRegister in advance for this webinar:\nhttps://us06web.zoom.us/webinar/register/WN_cDrU_GK3QHG7THfqXYIkyQ \nAfter registering\, you will receive a confirmation email containing information about joining the webinar. \n  \nFebruary Agenda \n  \n 
URL:https://cbmanhattan.cityofnewyork.us/cb12/calendar/health-environment-committee-4-2-2-2-3/
END:VEVENT
BEGIN:VEVENT
DTSTART;TZID=America/New_York:20240205T183000
DTEND;TZID=America/New_York:20240205T210000
DTSTAMP:20260421T054129
CREATED:20240126T174539Z
LAST-MODIFIED:20240201T192512Z
UID:10003911-1707157800-1707166800@cbmanhattan.cityofnewyork.us
SUMMARY:Cannabis Task Force
DESCRIPTION:Cannabis Task Force \nAttend in person or register in advance for this webinar:\nhttps://us06web.zoom.us/webinar/register/WN_uzFN89ecSiCuyEq2F4XwzA \nAfter registering\, you will receive a confirmation email containing information about joining the webinar. \nMeeting Information and Materials \nFebruary 2024 Agenda
URL:https://cbmanhattan.cityofnewyork.us/cb12/calendar/cannabis-task-force-2-2/
LOCATION:CB12 Manhattan Office\, 530 W. 166th Street\, 6th floor\, NEW YORK CITY\, NY\, 10032\, United States
END:VEVENT
BEGIN:VEVENT
DTSTART;TZID=America/New_York:20240205T190000
DTEND;TZID=America/New_York:20240205T210000
DTSTAMP:20260421T054129
CREATED:20231201T195043Z
LAST-MODIFIED:20231201T195044Z
UID:10003976-1707159600-1707166800@cbmanhattan.cityofnewyork.us
SUMMARY:Traffic and Transportation
DESCRIPTION:Deals with local issues involving the NYC Department of Transportation. \nThis meeting will take place both in person at the CB12 Office on 530 W 166th Street\, New York\, NY\, and remotely via Zoom. A quorum of Committee Members will gather in person\, with some exceptions. \nTopic: Traffic & Transportation Committee Meeting\nRegister in advance for this webinar:\nhttps://us02web.zoom.us/webinar/register/WN_TUfD1N1WQfKT9Z64F710iQ \nAfter registering\, you will receive a confirmation email containing information about joining the webinar. \n  \n  \n  \n  \n 
URL:https://cbmanhattan.cityofnewyork.us/cb12/calendar/traffic-and-transportation-4-2-2-2-2-2/2024-02-05/
LOCATION:Main Office\, 530 W 166th Street\, 6th Fl\, New York\, NY\, 10032\, United States
END:VEVENT
BEGIN:VEVENT
DTSTART;TZID=America/New_York:20240205T190000
DTEND;TZID=America/New_York:20240205T210000
DTSTAMP:20260421T054129
CREATED:20240201T163759Z
LAST-MODIFIED:20240201T163759Z
UID:10003527-1707159600-1707166800@cbmanhattan.cityofnewyork.us
SUMMARY:Traffic and Transportation
DESCRIPTION:Deals with local issues involving the NYC Department of Transportation. \nThis meeting will take place both in person at the CB12 Office on 530 W 166th Street\, New York\, NY\, and remotely via Zoom. A quorum of Committee Members will gather in person\, with some exceptions. \nTopic: Traffic & Transportation Committee Meeting\nRegister in advance for this webinar:\nhttps://us02web.zoom.us/webinar/register/WN_TUfD1N1WQfKT9Z64F710iQ \nAfter registering\, you will receive a confirmation email containing information about joining the webinar. \n  \nFebruary 2024 Agenda \n  \n  \n 
URL:https://cbmanhattan.cityofnewyork.us/cb12/calendar/traffic-and-transportation-4-2-2-2-2-2-2/
LOCATION:Main Office\, 530 W 166th Street\, 6th Fl\, New York\, NY\, 10032\, United States
END:VEVENT
BEGIN:VEVENT
DTSTART;TZID=America/New_York:20240206T190000
DTEND;TZID=America/New_York:20240206T210000
DTSTAMP:20260421T054129
CREATED:20231201T204521Z
LAST-MODIFIED:20231201T204647Z
UID:10003982-1707246000-1707253200@cbmanhattan.cityofnewyork.us
SUMMARY:Business Development Committee
DESCRIPTION:This meeting will take place both in person at the CB12 Office on 530 W 166th Street\, New York\, NY\, and remotely via Zoom. A quorum of Committee Members will gather in person\, with some exceptions. \nTopic: Business Development Committee Meeting\nRegister in advance for this webinar:\nhttps://us02web.zoom.us/webinar/register/WN_uzO78g76RuqlcU-Fd3LNhg \nAfter registering\, you will receive a confirmation email containing information about joining the webinar. \n  \n  \n  \n  \n  \n  \n  \n  \n  \n 
URL:https://cbmanhattan.cityofnewyork.us/cb12/calendar/business-development-committee-2-2-2/2024-02-06/
END:VEVENT
BEGIN:VEVENT
DTSTART;TZID=America/New_York:20240206T190000
DTEND;TZID=America/New_York:20240206T210000
DTSTAMP:20260421T054129
CREATED:20240126T175126Z
LAST-MODIFIED:20240201T180844Z
UID:10003830-1707246000-1707253200@cbmanhattan.cityofnewyork.us
SUMMARY:Business Development Committee
DESCRIPTION:This meeting will take place both in person at the CB12 Office on 530 W 166th Street\, New York\, NY\, and remotely via Zoom. A quorum of Committee Members will gather in person\, with some exceptions. \nTopic: Business Development Committee Meeting\nRegister in advance for this webinar:\nhttps://us02web.zoom.us/webinar/register/WN_uzO78g76RuqlcU-Fd3LNhg \nAfter registering\, you will receive a confirmation email containing information about joining the webinar. \nMeeting Information and Materials  \nFebruary 2024 Agenda \n  \n  \n  \n  \n  \n  \n  \n  \n 
URL:https://cbmanhattan.cityofnewyork.us/cb12/calendar/business-development-committee-2-2-2-2/
END:VEVENT
BEGIN:VEVENT
DTSTART;TZID=America/New_York:20240207T183000
DTEND;TZID=America/New_York:20240207T210000
DTSTAMP:20260421T054129
CREATED:20231201T195942Z
LAST-MODIFIED:20231201T195943Z
UID:10003739-1707330600-1707339600@cbmanhattan.cityofnewyork.us
SUMMARY:Public Safety Committee
DESCRIPTION:This meeting will take place both in person at the CB12 Office on 530 W 166th Street\, New York\, NY\, and remotely via Zoom. A quorum of Committee Members will gather in person\, with some exceptions. \nTopic: CB12M Public Safety Committee Meeting\nRegister in advance for this webinar:  \nhttps://us02web.zoom.us/webinar/register/WN_wElzkCjXSXGO82PdxxDGug \nAfter registering\, you will receive a confirmation email containing information about joining the webinar. \n  \n  \n  \n  \n  \n 
URL:https://cbmanhattan.cityofnewyork.us/cb12/calendar/public-safety-committee-4-2-2-2/2024-02-07/
END:VEVENT
BEGIN:VEVENT
DTSTART;TZID=America/New_York:20240207T190000
DTEND;TZID=America/New_York:20240207T210000
DTSTAMP:20260421T054129
CREATED:20231201T190655Z
LAST-MODIFIED:20231201T202758Z
UID:10003988-1707332400-1707339600@cbmanhattan.cityofnewyork.us
SUMMARY:Land Use Committee
DESCRIPTION:This meeting will take place both in person at the CB12 Office on 530 W 166th Street\, New York\, NY\, and remotely via Zoom. A quorum of Committee Members will gather in person\, with some exceptions. \nRegister in advance for this webinar: \nhttps://us06web.zoom.us/webinar/register/WN_NkK0Iqc8SGi1HxgTntzZ3A \nAfter registering\, you will receive a confirmation email containing information about joining the webinar.
URL:https://cbmanhattan.cityofnewyork.us/cb12/calendar/land-use-committee-meeting-4-2-2-2/2024-02-07/
LOCATION:CB12 Manhattan Office\, 530 W. 166th Street\, 6th floor\, NEW YORK CITY\, NY\, 10032\, United States
END:VEVENT
BEGIN:VEVENT
DTSTART;TZID=America/New_York:20240207T190000
DTEND;TZID=America/New_York:20240207T210000
DTSTAMP:20260421T054129
CREATED:20240126T180247Z
LAST-MODIFIED:20240201T181642Z
UID:10002807-1707332400-1707339600@cbmanhattan.cityofnewyork.us
SUMMARY:Land Use Committee
DESCRIPTION:This meeting will take place both in person at the CB12 Office on 530 W 166th Street\, New York\, NY\, and remotely via Zoom. A quorum of Committee Members will gather in person\, with some exceptions. \nRegister in advance for this webinar: \nhttps://us06web.zoom.us/webinar/register/WN_NkK0Iqc8SGi1HxgTntzZ3A \nAfter registering\, you will receive a confirmation email containing information about joining the webinar. \nMeeting information and materials \nFebruary 2024 Agenda
URL:https://cbmanhattan.cityofnewyork.us/cb12/calendar/land-use-committee-meeting-4-2-2-2-2/
LOCATION:CB12 Manhattan Office\, 530 W. 166th Street\, 6th floor\, NEW YORK CITY\, NY\, 10032\, United States
END:VEVENT
BEGIN:VEVENT
DTSTART;TZID=America/New_York:20240212T190000
DTEND;TZID=America/New_York:20240212T210000
DTSTAMP:20260421T054129
CREATED:20231019T164408Z
LAST-MODIFIED:20240909T212012Z
UID:10003971-1707764400-1707771600@cbmanhattan.cityofnewyork.us
SUMMARY:Youth & Education Committee Meeting
DESCRIPTION:This meeting will take place both in person at the CB12 Office on 530 W 166th Street\, New York\, NY\, and remotely via Zoom. A quorum of Committee Members will gather in person\, with some exceptions. \nTopic: Youth & Education Committee Meeting\nRegister in advance for this webinar:\nhttps://us06web.zoom.us/webinar/register/WN_CizUqUAUQDuRI4W4k_H-GQ \nAfter registering\, you will receive a confirmation email containing information about joining the webinar. \n  \n  \n  \n  \n 
URL:https://cbmanhattan.cityofnewyork.us/cb12/calendar/youth-education-committee-meeting-3-3-2-2/2024-02-12/
LOCATION:CB12 Manhattan Office\, 530 W. 166th Street\, 6th floor\, NEW YORK CITY\, NY\, 10032\, United States
END:VEVENT
BEGIN:VEVENT
DTSTART;TZID=America/New_York:20240212T190000
DTEND;TZID=America/New_York:20240212T210000
DTSTAMP:20260421T054129
CREATED:20240126T182303Z
LAST-MODIFIED:20240126T182303Z
UID:10003576-1707764400-1707771600@cbmanhattan.cityofnewyork.us
SUMMARY:Youth & Education Committee Meeting
DESCRIPTION:This meeting will take place both in person at the CB12 Office on 530 W 166th Street\, New York\, NY\, and remotely via Zoom. A quorum of Committee Members will gather in person\, with some exceptions. \nTopic: Youth & Education Committee Meeting\nRegister in advance for this webinar:\nhttps://us06web.zoom.us/webinar/register/WN_CizUqUAUQDuRI4W4k_H-GQ \nAfter registering\, you will receive a confirmation email containing information about joining the webinar. \nMeeting information and materials \nhttps://cbmanhattan.cityofnewyork.us/cb12/wp-content/uploads/sites/2/2024/01/Youth-Ed-Agenda-2-12-24.pdf \n  \n  \n  \n  \n  \n  \n 
URL:https://cbmanhattan.cityofnewyork.us/cb12/calendar/youth-education-committee-meeting-3-3-2-2-2/
LOCATION:CB12 Manhattan Office\, 530 W. 166th Street\, 6th floor\, NEW YORK CITY\, NY\, 10032\, United States
END:VEVENT
BEGIN:VEVENT
DTSTART;TZID=America/New_York:20240213T183000
DTEND;TZID=America/New_York:20240213T210000
DTSTAMP:20260421T054129
CREATED:20240126T183503Z
LAST-MODIFIED:20240126T183503Z
UID:10002790-1707849000-1707858000@cbmanhattan.cityofnewyork.us
SUMMARY:Parks and Cultural Affairs Committee
DESCRIPTION:This meeting will take place both in person at the CB12 Office on 530 W 166th Street\, New York\, NY\, and remotely via Zoom. A quorum of Committee Members will gather in person\, with some exceptions.  \nTopic: CB12M Parks and Cultural Affairs Committee\nRegister in advance for this webinar:\nhttps://us06web.zoom.us/webinar/register/WN_FOG8MEZZQaaxckwsCsMsmQ \nAfter registering\, you will receive a confirmation email containing information about joining the webinar. \nMeeting materials and information \nFebruary 2024 agenda \n  \n  \n  \n  \n 
URL:https://cbmanhattan.cityofnewyork.us/cb12/calendar/parks-and-cultural-affairs-committee-2-2-2-2-2/
LOCATION:Community Board #12\, M Office\, 530 West 166th Street 6th Floor\, New York\, NY\, 10032\, United States
END:VEVENT
BEGIN:VEVENT
DTSTART;TZID=America/New_York:20240214T183000
DTEND;TZID=America/New_York:20240214T210000
DTSTAMP:20260421T054129
CREATED:20240126T184135Z
LAST-MODIFIED:20240202T211447Z
UID:10002771-1707935400-1707944400@cbmanhattan.cityofnewyork.us
SUMMARY:Licensing Committee Meeting
DESCRIPTION:This meeting will take place both in person and via Zoom.  At least a quorum of Committee Members will gather in person\, subject to a few exceptions. The in-person portion of the meeting will take place in the CB12 Conference room at 530 W 166th Street\, Suite 6B \nTopic: Licensing Committee Meeting\nRegister in advance for this webinar:\nhttps://us02web.zoom.us/webinar/register/WN_0fioETGDQ4K4Vr-Oz1SNtQ \nAfter registering\, you will receive a confirmation email containing information about joining the webinar. \nMeeting information and materials \nFebruary 2024 Agenda \n  \n  \n  \n  \n  \n  \n 
URL:https://cbmanhattan.cityofnewyork.us/cb12/calendar/licensing-committee-meeting-2-3-2-2-2-2-3/
LOCATION:Community Board #12\, M Office\, 530 West 166th Street 6th Floor\, New York\, NY\, 10032\, United States
END:VEVENT
BEGIN:VEVENT
DTSTART;TZID=America/New_York:20240219T183000
DTEND;TZID=America/New_York:20240219T210000
DTSTAMP:20260421T054129
CREATED:20231201T205400Z
LAST-MODIFIED:20231201T205504Z
UID:10003248-1708367400-1708376400@cbmanhattan.cityofnewyork.us
SUMMARY:Executive Committee Meeting
DESCRIPTION:Topic: CB12M Executive Committee meeting\nRegister in advance for this webinar: \nhttps://us02web.zoom.us/webinar/register/WN_nyTcH4iTT3CNFsNEpl9AZw \nAfter registering\, you will receive a confirmation email containing information about joining the webinar. \n  \n  \n  \n 
URL:https://cbmanhattan.cityofnewyork.us/cb12/calendar/executive-committee-meeting-2-3-2-2-2-2/2024-02-19/
LOCATION:CB12 Manhattan Office\, 530 W. 166th Street\, 6th floor\, NEW YORK CITY\, NY\, 10032\, United States
ORGANIZER;CN="Community Board #12%2C Manhattan":MAILTO:ebsmith@cb.nyc.gov
END:VEVENT
BEGIN:VEVENT
DTSTART;TZID=America/New_York:20240304T183000
DTEND;TZID=America/New_York:20240304T210000
DTSTAMP:20260421T054129
CREATED:20240304T020454Z
LAST-MODIFIED:20240304T020455Z
UID:10003912-1709577000-1709586000@cbmanhattan.cityofnewyork.us
SUMMARY:Cannabis Task Force
DESCRIPTION:Cannabis Task Force- CANCELLED \nMeeting Information and Materials \nMarch 2024 meeting has been cancelled.
URL:https://cbmanhattan.cityofnewyork.us/cb12/calendar/cannabis-task-force-2-3/
LOCATION:CB12 Manhattan Office\, 530 W. 166th Street\, 6th floor\, NEW YORK CITY\, NY\, 10032\, United States
END:VEVENT
BEGIN:VEVENT
DTSTART;TZID=America/New_York:20240304T190000
DTEND;TZID=America/New_York:20240304T210000
DTSTAMP:20260421T054129
CREATED:20231201T195043Z
LAST-MODIFIED:20231201T195044Z
UID:10003977-1709578800-1709586000@cbmanhattan.cityofnewyork.us
SUMMARY:Traffic and Transportation
DESCRIPTION:Deals with local issues involving the NYC Department of Transportation. \nThis meeting will take place both in person at the CB12 Office on 530 W 166th Street\, New York\, NY\, and remotely via Zoom. A quorum of Committee Members will gather in person\, with some exceptions. \nTopic: Traffic & Transportation Committee Meeting\nRegister in advance for this webinar:\nhttps://us02web.zoom.us/webinar/register/WN_TUfD1N1WQfKT9Z64F710iQ \nAfter registering\, you will receive a confirmation email containing information about joining the webinar. \n  \n  \n  \n  \n 
URL:https://cbmanhattan.cityofnewyork.us/cb12/calendar/traffic-and-transportation-4-2-2-2-2-2/2024-03-04/
LOCATION:Main Office\, 530 W 166th Street\, 6th Fl\, New York\, NY\, 10032\, United States
END:VEVENT
BEGIN:VEVENT
DTSTART;TZID=America/New_York:20240304T190000
DTEND;TZID=America/New_York:20240304T210000
DTSTAMP:20260421T054129
CREATED:20240304T170110Z
LAST-MODIFIED:20240304T170110Z
UID:10003528-1709578800-1709586000@cbmanhattan.cityofnewyork.us
SUMMARY:Traffic and Transportation
DESCRIPTION:Deals with local issues involving the NYC Department of Transportation. \nThis meeting will take place both in person at the CB12 Office on 530 W 166th Street\, New York\, NY\, and remotely via Zoom. A quorum of Committee Members will gather in person\, with some exceptions. \nTopic: Traffic & Transportation Committee Meeting\nRegister in advance for this webinar:\nhttps://us02web.zoom.us/webinar/register/WN_TUfD1N1WQfKT9Z64F710iQ \nAfter registering\, you will receive a confirmation email containing information about joining the webinar. \n  \nT&T Agenda March 2024 \n  \n  \n  \n  \n 
URL:https://cbmanhattan.cityofnewyork.us/cb12/calendar/traffic-and-transportation-4-2-2-2-2-2-4/
LOCATION:Main Office\, 530 W 166th Street\, 6th Fl\, New York\, NY\, 10032\, United States
END:VEVENT
BEGIN:VEVENT
DTSTART;TZID=America/New_York:20240305T190000
DTEND;TZID=America/New_York:20240305T210000
DTSTAMP:20260421T054129
CREATED:20231201T204521Z
LAST-MODIFIED:20231201T204647Z
UID:10003983-1709665200-1709672400@cbmanhattan.cityofnewyork.us
SUMMARY:Business Development Committee
DESCRIPTION:This meeting will take place both in person at the CB12 Office on 530 W 166th Street\, New York\, NY\, and remotely via Zoom. A quorum of Committee Members will gather in person\, with some exceptions. \nTopic: Business Development Committee Meeting\nRegister in advance for this webinar:\nhttps://us02web.zoom.us/webinar/register/WN_uzO78g76RuqlcU-Fd3LNhg \nAfter registering\, you will receive a confirmation email containing information about joining the webinar. \n  \n  \n  \n  \n  \n  \n  \n  \n  \n 
URL:https://cbmanhattan.cityofnewyork.us/cb12/calendar/business-development-committee-2-2-2/2024-03-05/
END:VEVENT
BEGIN:VEVENT
DTSTART;TZID=America/New_York:20240305T190000
DTEND;TZID=America/New_York:20240305T210000
DTSTAMP:20260421T054129
CREATED:20240304T173817Z
LAST-MODIFIED:20240304T173817Z
UID:10003831-1709665200-1709672400@cbmanhattan.cityofnewyork.us
SUMMARY:Business Development Committee
DESCRIPTION:This meeting will take place both in person at the CB12 Office on 530 W 166th Street\, New York\, NY\, and remotely via Zoom. A quorum of Committee Members will gather in person\, with some exceptions. \nTopic: Business Development Committee Meeting\nRegister in advance for this webinar:\nhttps://us02web.zoom.us/webinar/register/WN_uzO78g76RuqlcU-Fd3LNhg \nAfter registering\, you will receive a confirmation email containing information about joining the webinar. \nBDC March 2024 Agenda \n  \n  \n  \n  \n  \n  \n  \n  \n  \n 
URL:https://cbmanhattan.cityofnewyork.us/cb12/calendar/business-development-committee-2-2-2-3/
END:VEVENT
BEGIN:VEVENT
DTSTART;TZID=America/New_York:20240306T183000
DTEND;TZID=America/New_York:20240306T210000
DTSTAMP:20260421T054129
CREATED:20231201T195942Z
LAST-MODIFIED:20231201T195943Z
UID:10003740-1709749800-1709758800@cbmanhattan.cityofnewyork.us
SUMMARY:Public Safety Committee
DESCRIPTION:This meeting will take place both in person at the CB12 Office on 530 W 166th Street\, New York\, NY\, and remotely via Zoom. A quorum of Committee Members will gather in person\, with some exceptions. \nTopic: CB12M Public Safety Committee Meeting\nRegister in advance for this webinar:  \nhttps://us02web.zoom.us/webinar/register/WN_wElzkCjXSXGO82PdxxDGug \nAfter registering\, you will receive a confirmation email containing information about joining the webinar. \n  \n  \n  \n  \n  \n 
URL:https://cbmanhattan.cityofnewyork.us/cb12/calendar/public-safety-committee-4-2-2-2/2024-03-06/
END:VEVENT
BEGIN:VEVENT
DTSTART;TZID=America/New_York:20240306T190000
DTEND;TZID=America/New_York:20240306T210000
DTSTAMP:20260421T054129
CREATED:20231201T190655Z
LAST-MODIFIED:20231201T202758Z
UID:10003989-1709751600-1709758800@cbmanhattan.cityofnewyork.us
SUMMARY:Land Use Committee
DESCRIPTION:This meeting will take place both in person at the CB12 Office on 530 W 166th Street\, New York\, NY\, and remotely via Zoom. A quorum of Committee Members will gather in person\, with some exceptions. \nRegister in advance for this webinar: \nhttps://us06web.zoom.us/webinar/register/WN_NkK0Iqc8SGi1HxgTntzZ3A \nAfter registering\, you will receive a confirmation email containing information about joining the webinar.
URL:https://cbmanhattan.cityofnewyork.us/cb12/calendar/land-use-committee-meeting-4-2-2-2/2024-03-06/
LOCATION:CB12 Manhattan Office\, 530 W. 166th Street\, 6th floor\, NEW YORK CITY\, NY\, 10032\, United States
END:VEVENT
BEGIN:VEVENT
DTSTART;TZID=America/New_York:20240306T190000
DTEND;TZID=America/New_York:20240306T210000
DTSTAMP:20260421T054129
CREATED:20240304T174258Z
LAST-MODIFIED:20240304T174259Z
UID:10002808-1709751600-1709758800@cbmanhattan.cityofnewyork.us
SUMMARY:Land Use Committee
DESCRIPTION:This meeting will take place both in person at the CB12 Office on 530 W 166th Street\, New York\, NY\, and remotely via Zoom. A quorum of Committee Members will gather in person\, with some exceptions. \nRegister in advance for this webinar: \nhttps://us06web.zoom.us/webinar/register/WN_NkK0Iqc8SGi1HxgTntzZ3A \nAfter registering\, you will receive a confirmation email containing information about joining the webinar. \nLand Use March 2024 Agenda
URL:https://cbmanhattan.cityofnewyork.us/cb12/calendar/land-use-committee-meeting-4-2-2-2-3/
LOCATION:CB12 Manhattan Office\, 530 W. 166th Street\, 6th floor\, NEW YORK CITY\, NY\, 10032\, United States
END:VEVENT
BEGIN:VEVENT
DTSTART;TZID=America/New_York:20240307T103000
DTEND;TZID=America/New_York:20240307T120000
DTSTAMP:20260421T054129
CREATED:20231201T192346Z
LAST-MODIFIED:20231201T192451Z
UID:10002741-1709807400-1709812800@cbmanhattan.cityofnewyork.us
SUMMARY:Concerns of the Aging Committee
DESCRIPTION:This meeting will take place both in person at the CB12 Office on 530 W 166th Street\, New York\, NY\, and remotely via Zoom. A quorum of Committee Members will gather in person\, with some exceptions. \nTopic: Aging Committee Meeting\nRegister in advance for this webinar:\nhttps://us06web.zoom.us/webinar/register/WN_vqQLupPoQc67y-IlvFxUXQ \nAfter registering\, you will receive a confirmation email containing information about joining the webinar. \n  \n  \n 
URL:https://cbmanhattan.cityofnewyork.us/cb12/calendar/aging-committee-4-2-2-2/2024-03-07/
END:VEVENT
BEGIN:VEVENT
DTSTART;TZID=America/New_York:20240307T190000
DTEND;TZID=America/New_York:20240307T210000
DTSTAMP:20260421T054129
CREATED:20240307T155947Z
LAST-MODIFIED:20240312T165448Z
UID:10002433-1709838000-1709845200@cbmanhattan.cityofnewyork.us
SUMMARY:Housing & Human Services Committee
DESCRIPTION:This meeting will take place both in person at the CB12 Office on 530 W 166th Street\, New York\, NY\, and remotely via Zoom. A quorum of Committee Members will gather in person\, with some exceptions. \nTopic: Housing & Human Services Committee Meeting\nRegister in advance for this webinar:\nhttps://us02web.zoom.us/webinar/register/WN_3huLGAPOSoyzVjfLv2G-8Q \nAfter registering\, you will receive a confirmation email containing information about joining the webinar. \nMarch 2024 Agenda \n  \n  \n  \n  \n 
URL:https://cbmanhattan.cityofnewyork.us/cb12/calendar/housing-human-services-committee-4-2-2-3/
CATEGORIES:Monthly Board Meeting
END:VEVENT
BEGIN:VEVENT
DTSTART;TZID=America/New_York:20240307T190000
DTEND;TZID=America/New_York:20240307T213000
DTSTAMP:20260421T054129
CREATED:20231201T203054Z
LAST-MODIFIED:20231201T203054Z
UID:10003992-1709838000-1709847000@cbmanhattan.cityofnewyork.us
SUMMARY:Health & Environment Committee
DESCRIPTION:This meeting will take place both in person at the CB12 Office on 530 W 166th Street\, New York\, NY\, and remotely via Zoom. A quorum of Committee Members will gather in person\, with some exceptions. \nTopic: CB12M Health and Environment Committee\nRegister in advance for this webinar:\nhttps://us06web.zoom.us/webinar/register/WN_cDrU_GK3QHG7THfqXYIkyQ \nAfter registering\, you will receive a confirmation email containing information about joining the webinar. \n  \n  \n  \n  \n 
URL:https://cbmanhattan.cityofnewyork.us/cb12/calendar/health-environment-committee-4-2-2-2/2024-03-07/
END:VEVENT
BEGIN:VEVENT
DTSTART;TZID=America/New_York:20240307T190000
DTEND;TZID=America/New_York:20240307T213000
DTSTAMP:20260421T054129
CREATED:20240307T155832Z
LAST-MODIFIED:20240307T155833Z
UID:10003825-1709838000-1709847000@cbmanhattan.cityofnewyork.us
SUMMARY:Health & Environment Committee
DESCRIPTION:This meeting will take place both in person at the CB12 Office on 530 W 166th Street\, New York\, NY\, and remotely via Zoom. A quorum of Committee Members will gather in person\, with some exceptions. \nTopic: CB12M Health and Environment Committee\nRegister in advance for this webinar:\nhttps://us06web.zoom.us/webinar/register/WN_cDrU_GK3QHG7THfqXYIkyQ \nAfter registering\, you will receive a confirmation email containing information about joining the webinar. \nMarch 2024 Agenda \n  \n  \n  \n  \n 
URL:https://cbmanhattan.cityofnewyork.us/cb12/calendar/health-environment-committee-4-2-2-2-4/
END:VEVENT
BEGIN:VEVENT
DTSTART;TZID=America/New_York:20240311T190000
DTEND;TZID=America/New_York:20240311T210000
DTSTAMP:20260421T054129
CREATED:20231019T164408Z
LAST-MODIFIED:20240909T212012Z
UID:10003577-1710183600-1710190800@cbmanhattan.cityofnewyork.us
SUMMARY:Youth & Education Committee Meeting
DESCRIPTION:This meeting will take place both in person at the CB12 Office on 530 W 166th Street\, New York\, NY\, and remotely via Zoom. A quorum of Committee Members will gather in person\, with some exceptions. \nTopic: Youth & Education Committee Meeting\nRegister in advance for this webinar:\nhttps://us06web.zoom.us/webinar/register/WN_CizUqUAUQDuRI4W4k_H-GQ \nAfter registering\, you will receive a confirmation email containing information about joining the webinar. \n  \n  \n  \n  \n 
URL:https://cbmanhattan.cityofnewyork.us/cb12/calendar/youth-education-committee-meeting-3-3-2-2/2024-03-11/
LOCATION:CB12 Manhattan Office\, 530 W. 166th Street\, 6th floor\, NEW YORK CITY\, NY\, 10032\, United States
END:VEVENT
END:VCALENDAR