BEGIN:VCALENDAR
VERSION:2.0
PRODID:-//Community Board 12-Manhattan - ECPv6.15.20//NONSGML v1.0//EN
CALSCALE:GREGORIAN
METHOD:PUBLISH
X-ORIGINAL-URL:https://cbmanhattan.cityofnewyork.us/cb12
X-WR-CALDESC:Events for Community Board 12-Manhattan
REFRESH-INTERVAL;VALUE=DURATION:PT1H
X-Robots-Tag:noindex
X-PUBLISHED-TTL:PT1H
BEGIN:VTIMEZONE
TZID:America/New_York
BEGIN:DAYLIGHT
TZOFFSETFROM:-0500
TZOFFSETTO:-0400
TZNAME:EDT
DTSTART:20260308T070000
END:DAYLIGHT
BEGIN:STANDARD
TZOFFSETFROM:-0400
TZOFFSETTO:-0500
TZNAME:EST
DTSTART:20261101T060000
END:STANDARD
BEGIN:DAYLIGHT
TZOFFSETFROM:-0500
TZOFFSETTO:-0400
TZNAME:EDT
DTSTART:20270314T070000
END:DAYLIGHT
BEGIN:STANDARD
TZOFFSETFROM:-0400
TZOFFSETTO:-0500
TZNAME:EST
DTSTART:20271107T060000
END:STANDARD
BEGIN:DAYLIGHT
TZOFFSETFROM:-0500
TZOFFSETTO:-0400
TZNAME:EDT
DTSTART:20280312T070000
END:DAYLIGHT
BEGIN:STANDARD
TZOFFSETFROM:-0400
TZOFFSETTO:-0500
TZNAME:EST
DTSTART:20281105T060000
END:STANDARD
END:VTIMEZONE
BEGIN:VEVENT
DTSTART;TZID=America/New_York:20270707T190000
DTEND;TZID=America/New_York:20270707T210000
DTSTAMP:20260421T054222
CREATED:20251124T201503Z
LAST-MODIFIED:20251223T162504Z
UID:10006113-1814986800-1814994000@cbmanhattan.cityofnewyork.us
SUMMARY:Land Use Committee
DESCRIPTION:This meeting will take place both in person at the CB12 Office on 530 W 166th Street\, New York\, NY\, and remotely via Zoom. A quorum of Committee Members will gather in person\, with some exceptions. \nRegister in advance for this webinar: \nhttps://us06web.zoom.us/webinar/register/WN_NkK0Iqc8SGi1HxgTntzZ3A \nAfter registering\, you will receive a confirmation email with details on how to join the webinar. \nMeeting information and agenda
URL:https://cbmanhattan.cityofnewyork.us/cb12/calendar/land-use-committee-13/2027-07-07/
LOCATION:CB12 Manhattan Office\, 530 W. 166th Street\, 6th floor\, NEW YORK CITY\, NY\, 10032\, United States
END:VEVENT
BEGIN:VEVENT
DTSTART;TZID=America/New_York:20270708T183000
DTEND;TZID=America/New_York:20270708T210000
DTSTAMP:20260421T054222
CREATED:20241227T181631Z
LAST-MODIFIED:20250610T142728Z
UID:10004721-1815071400-1815080400@cbmanhattan.cityofnewyork.us
SUMMARY:Youth & Education Committee Meeting
DESCRIPTION:This meeting will take place both in person at the CB12 Office on 530 W 166th Street\, New York\, NY\, and remotely via Zoom. A quorum of Committee Members will gather in person\, with some exceptions. \nTopic: Youth & Education Committee Meeting\nRegister in advance for this webinar:\nhttps://us06web.zoom.us/webinar/register/WN_CizUqUAUQDuRI4W4k_H-GQ \nAfter registering\, you will receive a confirmation email containing information about joining the webinar. \n  \n  \n  \n  \n 
URL:https://cbmanhattan.cityofnewyork.us/cb12/calendar/youth-education-committee-meeting-3-3-2-2-7/2027-07-08/
LOCATION:CB12 Manhattan Office\, 530 W. 166th Street\, 6th floor\, NEW YORK CITY\, NY\, 10032\, United States
END:VEVENT
BEGIN:VEVENT
DTSTART;TZID=America/New_York:20270712T100000
DTEND;TZID=America/New_York:20270712T120000
DTSTAMP:20260421T054222
CREATED:20260220T173814Z
LAST-MODIFIED:20260220T174410Z
UID:10006701-1815386400-1815393600@cbmanhattan.cityofnewyork.us
SUMMARY:District Service Cabinet
DESCRIPTION:This meeting will occur in person at the CB12 Office on 530 W 166th Street\, New York\, NY\, and remotely via Zoom.  \nMeeting Information \nhttps://zoom.us/webinar/register/WN_NsOOTTNWQ0K4mgm9baC1Zw \n  \nMeeting Agenda
URL:https://cbmanhattan.cityofnewyork.us/cb12/calendar/district-service-cabinet-4/2027-07-12/
END:VEVENT
BEGIN:VEVENT
DTSTART;TZID=America/New_York:20270713T190000
DTEND;TZID=America/New_York:20270713T210000
DTSTAMP:20260421T054222
CREATED:20241028T193721Z
LAST-MODIFIED:20241028T193721Z
UID:10004529-1815505200-1815512400@cbmanhattan.cityofnewyork.us
SUMMARY:Business Development Committee
DESCRIPTION:This meeting will take place both in person at the CB12 Office on 530 W 166th Street\, New York\, NY\, and remotely via Zoom. A quorum of Committee Members will gather in person\, with some exceptions. \nTopic: Business Development Committee Meeting\nRegister in advance for this webinar:\nhttps://us02web.zoom.us/webinar/register/WN_uzO78g76RuqlcU-Fd3LNhg \nAfter registering\, you will receive a confirmation email containing information about joining the webinar. \n  \n  \n  \n  \n  \n  \n  \n  \n  \n 
URL:https://cbmanhattan.cityofnewyork.us/cb12/calendar/business-development-committee-3/2027-07-13/
END:VEVENT
BEGIN:VEVENT
DTSTART;TZID=America/New_York:20270714T183000
DTEND;TZID=America/New_York:20270714T210000
DTSTAMP:20260421T054222
CREATED:20260327T195832Z
LAST-MODIFIED:20260327T195833Z
UID:10007013-1815589800-1815598800@cbmanhattan.cityofnewyork.us
SUMMARY:Public Safety Committee
DESCRIPTION:This meeting will take place both in person at the CB12 Office on 530 W 166th Street\, New York\, NY\, and remotely via Zoom. A quorum of Committee Members will gather in person\, with some exceptions. \nTopic: CB12M Public Safety Committee Meeting\nRegister in advance for this webinar:  \nhttps://us02web.zoom.us/webinar/register/WN_wElzkCjXSXGO82PdxxDGug \nAfter registering\, you will receive a confirmation email containing information about joining the webinar. \nMeeting information and agenda \n  \n  \n  \n  \n 
URL:https://cbmanhattan.cityofnewyork.us/cb12/calendar/public-safety-committee-18-4/2027-07-14/
END:VEVENT
BEGIN:VEVENT
DTSTART;TZID=America/New_York:20270721T183000
DTEND;TZID=America/New_York:20270721T210000
DTSTAMP:20260421T054222
CREATED:20251124T202050Z
LAST-MODIFIED:20260325T171728Z
UID:10006833-1816194600-1816203600@cbmanhattan.cityofnewyork.us
SUMMARY:Licensing Committee Meeting
DESCRIPTION:This meeting will take place both in person and via Zoom.  At least a quorum of Committee Members will gather in person\, subject to a few exceptions.The in-person portion of the meeting will take place in the CB12 Conference room at 530 W 166th Street\, Suite 6B \nTopic: Licensing Committee Meeting\nRegister in advance for this webinar:\nhttps://us02web.zoom.us/webinar/register/WN_0fioETGDQ4K4Vr-Oz1SNtQ \nAfter registering\, you will receive a confirmation email containing information about joining the webinar. \nMeeting information and agenda \n  \n  \n  \n  \n  \n  \n 
URL:https://cbmanhattan.cityofnewyork.us/cb12/calendar/licensing-committee-meeting-15/2027-07-21/
LOCATION:Community Board #12\, M Office\, 530 West 166th Street 6th Floor\, New York\, NY\, 10032\, United States
END:VEVENT
BEGIN:VEVENT
DTSTART;TZID=America/New_York:20270721T190000
DTEND;TZID=America/New_York:20270721T210000
DTSTAMP:20260421T054222
CREATED:20251124T201644Z
LAST-MODIFIED:20260325T172054Z
UID:10006954-1816196400-1816203600@cbmanhattan.cityofnewyork.us
SUMMARY:Health & Environment Committee
DESCRIPTION:This meeting will take place both in person at the CB12 Office on 530 W 166th Street\, New York\, NY\, and remotely via Zoom. A quorum of Committee Members will gather in person\, with some exceptions. \nTopic: CB12M Health and Environment Committee\nRegister in advance for this webinar:\nhttps://us06web.zoom.us/webinar/register/WN_cDrU_GK3QHG7THfqXYIkyQ \nAfter registering\, you will receive a confirmation email with details on how to join the webinar. \nMeeting information and agenda. \n  \n  \n  \n  \n 
URL:https://cbmanhattan.cityofnewyork.us/cb12/calendar/health-environment-committee-18/2027-07-21/
END:VEVENT
BEGIN:VEVENT
DTSTART;TZID=America/New_York:20270804T190000
DTEND;TZID=America/New_York:20270804T210000
DTSTAMP:20260421T054222
CREATED:20251124T201503Z
LAST-MODIFIED:20251223T162504Z
UID:10006114-1817406000-1817413200@cbmanhattan.cityofnewyork.us
SUMMARY:Land Use Committee
DESCRIPTION:This meeting will take place both in person at the CB12 Office on 530 W 166th Street\, New York\, NY\, and remotely via Zoom. A quorum of Committee Members will gather in person\, with some exceptions. \nRegister in advance for this webinar: \nhttps://us06web.zoom.us/webinar/register/WN_NkK0Iqc8SGi1HxgTntzZ3A \nAfter registering\, you will receive a confirmation email with details on how to join the webinar. \nMeeting information and agenda
URL:https://cbmanhattan.cityofnewyork.us/cb12/calendar/land-use-committee-13/2027-08-04/
LOCATION:CB12 Manhattan Office\, 530 W. 166th Street\, 6th floor\, NEW YORK CITY\, NY\, 10032\, United States
END:VEVENT
BEGIN:VEVENT
DTSTART;TZID=America/New_York:20270806T103000
DTEND;TZID=America/New_York:20270806T120000
DTSTAMP:20260421T054222
CREATED:20251124T201717Z
LAST-MODIFIED:20260325T171802Z
UID:10006893-1817548200-1817553600@cbmanhattan.cityofnewyork.us
SUMMARY:Concerns of the Aging Committee
DESCRIPTION:This meeting will occur in person at the CB12 Office on 530 W 166th Street\, New York\, NY\, and remotely via Zoom. A quorum of Committee Members will gather in person\, with some exceptions. \nTopic: Aging Committee Meeting\nRegister in advance for this webinar:\nhttps://us06web.zoom.us/webinar/register/WN_vqQLupPoQc67y-IlvFxUXQ \nAfter registering\, you will receive a confirmation email with details on how to join the webinar. \nMeeting information and agenda. \n  \n  \n  \n 
URL:https://cbmanhattan.cityofnewyork.us/cb12/calendar/concerns-of-the-aging-committee-12/2027-08-06/
END:VEVENT
BEGIN:VEVENT
DTSTART;TZID=America/New_York:20270806T103000
DTEND;TZID=America/New_York:20270806T120000
DTSTAMP:20260421T054222
CREATED:20260220T173332Z
LAST-MODIFIED:20260325T171556Z
UID:10006775-1817548200-1817553600@cbmanhattan.cityofnewyork.us
SUMMARY:Concerns of the Aging Committee
DESCRIPTION:This meeting will occur in person at the CB12 Office on 530 W 166th Street\, New York\, NY\, and remotely via Zoom. A quorum of Committee Members will gather in person\, with some exceptions. \nTopic: Aging Committee Meeting\nRegister in advance for this webinar:\nhttps://us06web.zoom.us/webinar/register/WN_vqQLupPoQc67y-IlvFxUXQ \nAfter registering\, you will receive a confirmation email with details on how to join the webinar. \nMeeting information and agenda. \n  \n  \n  \n 
URL:https://cbmanhattan.cityofnewyork.us/cb12/calendar/concerns-of-the-aging-committee-13/2027-08-06/
END:VEVENT
BEGIN:VEVENT
DTSTART;TZID=America/New_York:20270809T100000
DTEND;TZID=America/New_York:20270809T120000
DTSTAMP:20260421T054222
CREATED:20260220T173814Z
LAST-MODIFIED:20260220T174410Z
UID:10006702-1817805600-1817812800@cbmanhattan.cityofnewyork.us
SUMMARY:District Service Cabinet
DESCRIPTION:This meeting will occur in person at the CB12 Office on 530 W 166th Street\, New York\, NY\, and remotely via Zoom.  \nMeeting Information \nhttps://zoom.us/webinar/register/WN_NsOOTTNWQ0K4mgm9baC1Zw \n  \nMeeting Agenda
URL:https://cbmanhattan.cityofnewyork.us/cb12/calendar/district-service-cabinet-4/2027-08-09/
END:VEVENT
BEGIN:VEVENT
DTSTART;TZID=America/New_York:20270810T190000
DTEND;TZID=America/New_York:20270810T210000
DTSTAMP:20260421T054222
CREATED:20241028T193721Z
LAST-MODIFIED:20241028T193721Z
UID:10004530-1817924400-1817931600@cbmanhattan.cityofnewyork.us
SUMMARY:Business Development Committee
DESCRIPTION:This meeting will take place both in person at the CB12 Office on 530 W 166th Street\, New York\, NY\, and remotely via Zoom. A quorum of Committee Members will gather in person\, with some exceptions. \nTopic: Business Development Committee Meeting\nRegister in advance for this webinar:\nhttps://us02web.zoom.us/webinar/register/WN_uzO78g76RuqlcU-Fd3LNhg \nAfter registering\, you will receive a confirmation email containing information about joining the webinar. \n  \n  \n  \n  \n  \n  \n  \n  \n  \n 
URL:https://cbmanhattan.cityofnewyork.us/cb12/calendar/business-development-committee-3/2027-08-10/
END:VEVENT
BEGIN:VEVENT
DTSTART;TZID=America/New_York:20270811T183000
DTEND;TZID=America/New_York:20270811T210000
DTSTAMP:20260421T054222
CREATED:20260327T195832Z
LAST-MODIFIED:20260327T195833Z
UID:10007014-1818009000-1818018000@cbmanhattan.cityofnewyork.us
SUMMARY:Public Safety Committee
DESCRIPTION:This meeting will take place both in person at the CB12 Office on 530 W 166th Street\, New York\, NY\, and remotely via Zoom. A quorum of Committee Members will gather in person\, with some exceptions. \nTopic: CB12M Public Safety Committee Meeting\nRegister in advance for this webinar:  \nhttps://us02web.zoom.us/webinar/register/WN_wElzkCjXSXGO82PdxxDGug \nAfter registering\, you will receive a confirmation email containing information about joining the webinar. \nMeeting information and agenda \n  \n  \n  \n  \n 
URL:https://cbmanhattan.cityofnewyork.us/cb12/calendar/public-safety-committee-18-4/2027-08-11/
END:VEVENT
BEGIN:VEVENT
DTSTART;TZID=America/New_York:20270812T183000
DTEND;TZID=America/New_York:20270812T210000
DTSTAMP:20260421T054222
CREATED:20241227T181631Z
LAST-MODIFIED:20250610T142728Z
UID:10004722-1818095400-1818104400@cbmanhattan.cityofnewyork.us
SUMMARY:Youth & Education Committee Meeting
DESCRIPTION:This meeting will take place both in person at the CB12 Office on 530 W 166th Street\, New York\, NY\, and remotely via Zoom. A quorum of Committee Members will gather in person\, with some exceptions. \nTopic: Youth & Education Committee Meeting\nRegister in advance for this webinar:\nhttps://us06web.zoom.us/webinar/register/WN_CizUqUAUQDuRI4W4k_H-GQ \nAfter registering\, you will receive a confirmation email containing information about joining the webinar. \n  \n  \n  \n  \n 
URL:https://cbmanhattan.cityofnewyork.us/cb12/calendar/youth-education-committee-meeting-3-3-2-2-7/2027-08-12/
LOCATION:CB12 Manhattan Office\, 530 W. 166th Street\, 6th floor\, NEW YORK CITY\, NY\, 10032\, United States
END:VEVENT
BEGIN:VEVENT
DTSTART;TZID=America/New_York:20270818T183000
DTEND;TZID=America/New_York:20270818T210000
DTSTAMP:20260421T054222
CREATED:20251124T202050Z
LAST-MODIFIED:20260325T171728Z
UID:10006834-1818613800-1818622800@cbmanhattan.cityofnewyork.us
SUMMARY:Licensing Committee Meeting
DESCRIPTION:This meeting will take place both in person and via Zoom.  At least a quorum of Committee Members will gather in person\, subject to a few exceptions.The in-person portion of the meeting will take place in the CB12 Conference room at 530 W 166th Street\, Suite 6B \nTopic: Licensing Committee Meeting\nRegister in advance for this webinar:\nhttps://us02web.zoom.us/webinar/register/WN_0fioETGDQ4K4Vr-Oz1SNtQ \nAfter registering\, you will receive a confirmation email containing information about joining the webinar. \nMeeting information and agenda \n  \n  \n  \n  \n  \n  \n 
URL:https://cbmanhattan.cityofnewyork.us/cb12/calendar/licensing-committee-meeting-15/2027-08-18/
LOCATION:Community Board #12\, M Office\, 530 West 166th Street 6th Floor\, New York\, NY\, 10032\, United States
END:VEVENT
BEGIN:VEVENT
DTSTART;TZID=America/New_York:20270818T190000
DTEND;TZID=America/New_York:20270818T210000
DTSTAMP:20260421T054222
CREATED:20251124T201644Z
LAST-MODIFIED:20260325T172054Z
UID:10006955-1818615600-1818622800@cbmanhattan.cityofnewyork.us
SUMMARY:Health & Environment Committee
DESCRIPTION:This meeting will take place both in person at the CB12 Office on 530 W 166th Street\, New York\, NY\, and remotely via Zoom. A quorum of Committee Members will gather in person\, with some exceptions. \nTopic: CB12M Health and Environment Committee\nRegister in advance for this webinar:\nhttps://us06web.zoom.us/webinar/register/WN_cDrU_GK3QHG7THfqXYIkyQ \nAfter registering\, you will receive a confirmation email with details on how to join the webinar. \nMeeting information and agenda. \n  \n  \n  \n  \n 
URL:https://cbmanhattan.cityofnewyork.us/cb12/calendar/health-environment-committee-18/2027-08-18/
END:VEVENT
BEGIN:VEVENT
DTSTART;TZID=America/New_York:20270901T190000
DTEND;TZID=America/New_York:20270901T210000
DTSTAMP:20260421T054222
CREATED:20251124T201503Z
LAST-MODIFIED:20251223T162504Z
UID:10006115-1819825200-1819832400@cbmanhattan.cityofnewyork.us
SUMMARY:Land Use Committee
DESCRIPTION:This meeting will take place both in person at the CB12 Office on 530 W 166th Street\, New York\, NY\, and remotely via Zoom. A quorum of Committee Members will gather in person\, with some exceptions. \nRegister in advance for this webinar: \nhttps://us06web.zoom.us/webinar/register/WN_NkK0Iqc8SGi1HxgTntzZ3A \nAfter registering\, you will receive a confirmation email with details on how to join the webinar. \nMeeting information and agenda
URL:https://cbmanhattan.cityofnewyork.us/cb12/calendar/land-use-committee-13/2027-09-01/
LOCATION:CB12 Manhattan Office\, 530 W. 166th Street\, 6th floor\, NEW YORK CITY\, NY\, 10032\, United States
END:VEVENT
BEGIN:VEVENT
DTSTART;TZID=America/New_York:20270906T103000
DTEND;TZID=America/New_York:20270906T120000
DTSTAMP:20260421T054222
CREATED:20251124T201717Z
LAST-MODIFIED:20260325T171802Z
UID:10006894-1820226600-1820232000@cbmanhattan.cityofnewyork.us
SUMMARY:Concerns of the Aging Committee
DESCRIPTION:This meeting will occur in person at the CB12 Office on 530 W 166th Street\, New York\, NY\, and remotely via Zoom. A quorum of Committee Members will gather in person\, with some exceptions. \nTopic: Aging Committee Meeting\nRegister in advance for this webinar:\nhttps://us06web.zoom.us/webinar/register/WN_vqQLupPoQc67y-IlvFxUXQ \nAfter registering\, you will receive a confirmation email with details on how to join the webinar. \nMeeting information and agenda. \n  \n  \n  \n 
URL:https://cbmanhattan.cityofnewyork.us/cb12/calendar/concerns-of-the-aging-committee-12/2027-09-06/
END:VEVENT
BEGIN:VEVENT
DTSTART;TZID=America/New_York:20270906T103000
DTEND;TZID=America/New_York:20270906T120000
DTSTAMP:20260421T054222
CREATED:20260220T173332Z
LAST-MODIFIED:20260325T171556Z
UID:10006776-1820226600-1820232000@cbmanhattan.cityofnewyork.us
SUMMARY:Concerns of the Aging Committee
DESCRIPTION:This meeting will occur in person at the CB12 Office on 530 W 166th Street\, New York\, NY\, and remotely via Zoom. A quorum of Committee Members will gather in person\, with some exceptions. \nTopic: Aging Committee Meeting\nRegister in advance for this webinar:\nhttps://us06web.zoom.us/webinar/register/WN_vqQLupPoQc67y-IlvFxUXQ \nAfter registering\, you will receive a confirmation email with details on how to join the webinar. \nMeeting information and agenda. \n  \n  \n  \n 
URL:https://cbmanhattan.cityofnewyork.us/cb12/calendar/concerns-of-the-aging-committee-13/2027-09-06/
END:VEVENT
BEGIN:VEVENT
DTSTART;TZID=America/New_York:20270906T190000
DTEND;TZID=America/New_York:20270906T210000
DTSTAMP:20260421T054222
CREATED:20240927T184420Z
LAST-MODIFIED:20260123T182156Z
UID:10003562-1820257200-1820264400@cbmanhattan.cityofnewyork.us
SUMMARY:Traffic and Transportation
DESCRIPTION:Deals with local issues involving the NYC Department of Transportation. \nThis meeting will take place both in person at the CB12 Office on 530 W 166th Street\, New York\, NY\, and remotely via Zoom. A quorum of Committee Members will gather in person\, with some exceptions. \nTopic: Traffic & Transportation Committee Meeting\nRegister in advance for this webinar:\nhttps://us02web.zoom.us/webinar/register/WN_TUfD1N1WQfKT9Z64F710iQ \nAfter registering\, you will receive a confirmation email containing information about joining the webinar. \nMeeting information and agenda \n  \n  \n  \n  \n 
URL:https://cbmanhattan.cityofnewyork.us/cb12/calendar/traffic-and-transportation-4-2-2-2-2-2-7/2027-09-06/
LOCATION:Main Office\, 530 W 166th Street\, 6th Fl\, New York\, NY\, 10032\, United States
END:VEVENT
BEGIN:VEVENT
DTSTART;TZID=America/New_York:20270907T190000
DTEND;TZID=America/New_York:20270907T210000
DTSTAMP:20260421T054222
CREATED:20251124T201324Z
LAST-MODIFIED:20251124T201324Z
UID:10005807-1820343600-1820350800@cbmanhattan.cityofnewyork.us
SUMMARY:Business Development Committee
DESCRIPTION:This meeting will take place both in person at the CB12 Office on 530 W 166th Street\, New York\, NY\, and remotely via Zoom. A quorum of Committee Members will gather in person\, with some exceptions. \nTopic: Business Development Committee Meeting\nRegister in advance for this webinar:\nhttps://us02web.zoom.us/webinar/register/WN_uzO78g76RuqlcU-Fd3LNhg \nAfter registering\, you will receive a confirmation email containing information about joining the webinar. \nMeeting information and agenda \n  \n  \n  \n  \n  \n  \n  \n  \n 
URL:https://cbmanhattan.cityofnewyork.us/cb12/calendar/business-development-committee-15/2027-09-07/
END:VEVENT
BEGIN:VEVENT
DTSTART;TZID=America/New_York:20270908T183000
DTEND;TZID=America/New_York:20270908T210000
DTSTAMP:20260421T054222
CREATED:20260327T195832Z
LAST-MODIFIED:20260327T195833Z
UID:10007015-1820428200-1820437200@cbmanhattan.cityofnewyork.us
SUMMARY:Public Safety Committee
DESCRIPTION:This meeting will take place both in person at the CB12 Office on 530 W 166th Street\, New York\, NY\, and remotely via Zoom. A quorum of Committee Members will gather in person\, with some exceptions. \nTopic: CB12M Public Safety Committee Meeting\nRegister in advance for this webinar:  \nhttps://us02web.zoom.us/webinar/register/WN_wElzkCjXSXGO82PdxxDGug \nAfter registering\, you will receive a confirmation email containing information about joining the webinar. \nMeeting information and agenda \n  \n  \n  \n  \n 
URL:https://cbmanhattan.cityofnewyork.us/cb12/calendar/public-safety-committee-18-4/2027-09-08/
END:VEVENT
BEGIN:VEVENT
DTSTART;TZID=America/New_York:20270909T183000
DTEND;TZID=America/New_York:20270909T210000
DTSTAMP:20260421T054222
CREATED:20241227T181631Z
LAST-MODIFIED:20250610T142728Z
UID:10004723-1820514600-1820523600@cbmanhattan.cityofnewyork.us
SUMMARY:Youth & Education Committee Meeting
DESCRIPTION:This meeting will take place both in person at the CB12 Office on 530 W 166th Street\, New York\, NY\, and remotely via Zoom. A quorum of Committee Members will gather in person\, with some exceptions. \nTopic: Youth & Education Committee Meeting\nRegister in advance for this webinar:\nhttps://us06web.zoom.us/webinar/register/WN_CizUqUAUQDuRI4W4k_H-GQ \nAfter registering\, you will receive a confirmation email containing information about joining the webinar. \n  \n  \n  \n  \n 
URL:https://cbmanhattan.cityofnewyork.us/cb12/calendar/youth-education-committee-meeting-3-3-2-2-7/2027-09-09/
LOCATION:CB12 Manhattan Office\, 530 W. 166th Street\, 6th floor\, NEW YORK CITY\, NY\, 10032\, United States
END:VEVENT
BEGIN:VEVENT
DTSTART;TZID=America/New_York:20270913T100000
DTEND;TZID=America/New_York:20270913T120000
DTSTAMP:20260421T054222
CREATED:20260220T173814Z
LAST-MODIFIED:20260220T174410Z
UID:10006703-1820829600-1820836800@cbmanhattan.cityofnewyork.us
SUMMARY:District Service Cabinet
DESCRIPTION:This meeting will occur in person at the CB12 Office on 530 W 166th Street\, New York\, NY\, and remotely via Zoom.  \nMeeting Information \nhttps://zoom.us/webinar/register/WN_NsOOTTNWQ0K4mgm9baC1Zw \n  \nMeeting Agenda
URL:https://cbmanhattan.cityofnewyork.us/cb12/calendar/district-service-cabinet-4/2027-09-13/
END:VEVENT
BEGIN:VEVENT
DTSTART;TZID=America/New_York:20270914T183000
DTEND;TZID=America/New_York:20270914T210000
DTSTAMP:20260421T054222
CREATED:20251124T201941Z
LAST-MODIFIED:20251223T163804Z
UID:10006294-1820946600-1820955600@cbmanhattan.cityofnewyork.us
SUMMARY:Parks and Cultural Affairs Committee
DESCRIPTION:This meeting will take place both in person at the CB12 Office on 530 W 166th Street\, New York\, NY\, and remotely via Zoom. A quorum of Committee Members will gather in person\, with some exceptions.  \nTopic: CB12M Parks and Cultural Affairs Committee\nRegister in advance for this webinar:\nhttps://us06web.zoom.us/webinar/register/WN_FOG8MEZZQaaxckwsCsMsmQ \nAfter registering\, you will receive a confirmation email with details on how to join the webinar. \nMeeting information and agenda. \n  \n  \n  \n  \n  \n 
URL:https://cbmanhattan.cityofnewyork.us/cb12/calendar/parks-and-cultural-affairs-committee-15/2027-09-14/
LOCATION:Community Board #12\, M Office\, 530 West 166th Street 6th Floor\, New York\, NY\, 10032\, United States
END:VEVENT
BEGIN:VEVENT
DTSTART;TZID=America/New_York:20270914T190000
DTEND;TZID=America/New_York:20270914T210000
DTSTAMP:20260421T054222
CREATED:20241028T193721Z
LAST-MODIFIED:20241028T193721Z
UID:10004531-1820948400-1820955600@cbmanhattan.cityofnewyork.us
SUMMARY:Business Development Committee
DESCRIPTION:This meeting will take place both in person at the CB12 Office on 530 W 166th Street\, New York\, NY\, and remotely via Zoom. A quorum of Committee Members will gather in person\, with some exceptions. \nTopic: Business Development Committee Meeting\nRegister in advance for this webinar:\nhttps://us02web.zoom.us/webinar/register/WN_uzO78g76RuqlcU-Fd3LNhg \nAfter registering\, you will receive a confirmation email containing information about joining the webinar. \n  \n  \n  \n  \n  \n  \n  \n  \n  \n 
URL:https://cbmanhattan.cityofnewyork.us/cb12/calendar/business-development-committee-3/2027-09-14/
END:VEVENT
BEGIN:VEVENT
DTSTART;TZID=America/New_York:20270915T183000
DTEND;TZID=America/New_York:20270915T210000
DTSTAMP:20260421T054222
CREATED:20251124T202050Z
LAST-MODIFIED:20260325T171728Z
UID:10006835-1821033000-1821042000@cbmanhattan.cityofnewyork.us
SUMMARY:Licensing Committee Meeting
DESCRIPTION:This meeting will take place both in person and via Zoom.  At least a quorum of Committee Members will gather in person\, subject to a few exceptions.The in-person portion of the meeting will take place in the CB12 Conference room at 530 W 166th Street\, Suite 6B \nTopic: Licensing Committee Meeting\nRegister in advance for this webinar:\nhttps://us02web.zoom.us/webinar/register/WN_0fioETGDQ4K4Vr-Oz1SNtQ \nAfter registering\, you will receive a confirmation email containing information about joining the webinar. \nMeeting information and agenda \n  \n  \n  \n  \n  \n  \n 
URL:https://cbmanhattan.cityofnewyork.us/cb12/calendar/licensing-committee-meeting-15/2027-09-15/
LOCATION:Community Board #12\, M Office\, 530 West 166th Street 6th Floor\, New York\, NY\, 10032\, United States
END:VEVENT
BEGIN:VEVENT
DTSTART;TZID=America/New_York:20270915T190000
DTEND;TZID=America/New_York:20270915T210000
DTSTAMP:20260421T054222
CREATED:20251124T201644Z
LAST-MODIFIED:20260325T172054Z
UID:10006956-1821034800-1821042000@cbmanhattan.cityofnewyork.us
SUMMARY:Health & Environment Committee
DESCRIPTION:This meeting will take place both in person at the CB12 Office on 530 W 166th Street\, New York\, NY\, and remotely via Zoom. A quorum of Committee Members will gather in person\, with some exceptions. \nTopic: CB12M Health and Environment Committee\nRegister in advance for this webinar:\nhttps://us06web.zoom.us/webinar/register/WN_cDrU_GK3QHG7THfqXYIkyQ \nAfter registering\, you will receive a confirmation email with details on how to join the webinar. \nMeeting information and agenda. \n  \n  \n  \n  \n 
URL:https://cbmanhattan.cityofnewyork.us/cb12/calendar/health-environment-committee-18/2027-09-15/
END:VEVENT
BEGIN:VEVENT
DTSTART;TZID=America/New_York:20270916T100000
DTEND;TZID=America/New_York:20270916T120000
DTSTAMP:20260421T054222
CREATED:20230828T165533Z
LAST-MODIFIED:20250113T202956Z
UID:10004908-1821088800-1821096000@cbmanhattan.cityofnewyork.us
SUMMARY:District Service Cabinet
DESCRIPTION:This meeting will take place both in person at the CB12 Office on 530 W 166th Street\, New York\, NY\, and remotely via Zoom. A quorum of Committee Members will gather in person\, with some exceptions. \n  \nMeeting Information \nhttps://zoom.us/webinar/register/WN_NsOOTTNWQ0K4mgm9baC1Zw
URL:https://cbmanhattan.cityofnewyork.us/cb12/calendar/district-service-cabinet-2/2027-09-16/
END:VEVENT
BEGIN:VEVENT
DTSTART;TZID=America/New_York:20270916T100000
DTEND;TZID=America/New_York:20270916T120000
DTSTAMP:20260421T054222
CREATED:20250113T202348Z
LAST-MODIFIED:20250113T202454Z
UID:10003452-1821088800-1821096000@cbmanhattan.cityofnewyork.us
SUMMARY:District Service Cabinet
DESCRIPTION:This meeting will occur in person at the CB12 Office on 530 W 166th Street\, New York\, NY\, and remotely via Zoom. A quorum of Committee Members will gather in person\, with some exceptions. \n  \nMeeting Information \nhttps://zoom.us/webinar/register/WN_NsOOTTNWQ0K4mgm9baC1Zw
URL:https://cbmanhattan.cityofnewyork.us/cb12/calendar/district-service-cabinet-2-2/2027-09-16/
END:VEVENT
END:VCALENDAR