BEGIN:VCALENDAR
VERSION:2.0
PRODID:-//Community Board 12-Manhattan - ECPv6.15.20//NONSGML v1.0//EN
CALSCALE:GREGORIAN
METHOD:PUBLISH
X-WR-CALNAME:Community Board 12-Manhattan
X-ORIGINAL-URL:https://cbmanhattan.cityofnewyork.us/cb12
X-WR-CALDESC:Events for Community Board 12-Manhattan
REFRESH-INTERVAL;VALUE=DURATION:PT1H
X-Robots-Tag:noindex
X-PUBLISHED-TTL:PT1H
BEGIN:VTIMEZONE
TZID:America/New_York
BEGIN:DAYLIGHT
TZOFFSETFROM:-0500
TZOFFSETTO:-0400
TZNAME:EDT
DTSTART:20230312T070000
END:DAYLIGHT
BEGIN:STANDARD
TZOFFSETFROM:-0400
TZOFFSETTO:-0500
TZNAME:EST
DTSTART:20231105T060000
END:STANDARD
BEGIN:DAYLIGHT
TZOFFSETFROM:-0500
TZOFFSETTO:-0400
TZNAME:EDT
DTSTART:20240310T070000
END:DAYLIGHT
BEGIN:STANDARD
TZOFFSETFROM:-0400
TZOFFSETTO:-0500
TZNAME:EST
DTSTART:20241103T060000
END:STANDARD
BEGIN:DAYLIGHT
TZOFFSETFROM:-0500
TZOFFSETTO:-0400
TZNAME:EDT
DTSTART:20250309T070000
END:DAYLIGHT
BEGIN:STANDARD
TZOFFSETFROM:-0400
TZOFFSETTO:-0500
TZNAME:EST
DTSTART:20251102T060000
END:STANDARD
END:VTIMEZONE
BEGIN:VEVENT
DTSTART;TZID=America/New_York:20240326T183000
DTEND;TZID=America/New_York:20240326T220000
DTSTAMP:20260421T154858
CREATED:20240126T214823Z
LAST-MODIFIED:20240312T165315Z
UID:10003895-1711477800-1711490400@cbmanhattan.cityofnewyork.us
SUMMARY:General Board Meeting
DESCRIPTION:Monthly Board meetings provide a public forum for members to address items of concern to the community and allow residents to express their opinions. Additionally\, Boards regularly conduct public hearings on the City’s budget\, land use matters\, and other items of concern. \nTopic: CB12M General Meeting\nRegister in advance for this webinar: \nhttps://us06web.zoom.us/webinar/register/WN_pkWyhmInRpy9Bp_0Dxv2JQ#/registration \nAfter registering\, you will receive a confirmation email containing information about joining the webinar. \n  \n  \n  \n  \n  \n  \n  \n  \n 
URL:https://cbmanhattan.cityofnewyork.us/cb12/calendar/monthly-board-meeting-3-2-2-3/
CATEGORIES:Monthly Board Meeting
END:VEVENT
END:VCALENDAR