BEGIN:VCALENDAR
VERSION:2.0
PRODID:-//Community Board 12-Manhattan - ECPv6.15.20//NONSGML v1.0//EN
CALSCALE:GREGORIAN
METHOD:PUBLISH
X-ORIGINAL-URL:https://cbmanhattan.cityofnewyork.us/cb12
X-WR-CALDESC:Events for Community Board 12-Manhattan
REFRESH-INTERVAL;VALUE=DURATION:PT1H
X-Robots-Tag:noindex
X-PUBLISHED-TTL:PT1H
BEGIN:VTIMEZONE
TZID:America/New_York
BEGIN:DAYLIGHT
TZOFFSETFROM:-0500
TZOFFSETTO:-0400
TZNAME:EDT
DTSTART:20250309T070000
END:DAYLIGHT
BEGIN:STANDARD
TZOFFSETFROM:-0400
TZOFFSETTO:-0500
TZNAME:EST
DTSTART:20251102T060000
END:STANDARD
BEGIN:DAYLIGHT
TZOFFSETFROM:-0500
TZOFFSETTO:-0400
TZNAME:EDT
DTSTART:20260308T070000
END:DAYLIGHT
BEGIN:STANDARD
TZOFFSETFROM:-0400
TZOFFSETTO:-0500
TZNAME:EST
DTSTART:20261101T060000
END:STANDARD
BEGIN:DAYLIGHT
TZOFFSETFROM:-0500
TZOFFSETTO:-0400
TZNAME:EDT
DTSTART:20270314T070000
END:DAYLIGHT
BEGIN:STANDARD
TZOFFSETFROM:-0400
TZOFFSETTO:-0500
TZNAME:EST
DTSTART:20271107T060000
END:STANDARD
END:VTIMEZONE
BEGIN:VEVENT
DTSTART;TZID=America/New_York:20260324T183000
DTEND;TZID=America/New_York:20260324T213000
DTSTAMP:20260421T000451
CREATED:20260310T205119Z
LAST-MODIFIED:20260324T173121Z
UID:10006380-1774377000-1774387800@cbmanhattan.cityofnewyork.us
SUMMARY:General Board Meeting
DESCRIPTION:Monthly Board meetings provide a public forum for members to address community concerns and allow residents to express their opinions. Additionally\, the Boards regularly conduct public hearings on the City’s budget\, land use matters\, and other issues of concern. \nTopic: CB12M General Meeting\nRegister in advance for this webinar: \nhttps://us06web.zoom.us/webinar/register/WN_pkWyhmInRpy9Bp_0Dxv2JQ \nAfter registering\, you will receive a confirmation email with details on how to join the webinar. \nMeeting information and agenda \n  \nCB12M General Meeting location\nCampbell Sports Center – Milstein Hospitality Pavilion Room \n505 W. 218th Street\, 5th floor\, New York\, 10034 \n  \n  \n  \n  \n  \n  \n  \n  \n  \n 
URL:https://cbmanhattan.cityofnewyork.us/cb12/calendar/general-board-meeting-11-4/
CATEGORIES:Monthly Board Meeting
END:VEVENT
END:VCALENDAR