BEGIN:VCALENDAR
VERSION:2.0
PRODID:-//Community Board 12-Manhattan - ECPv6.15.20//NONSGML v1.0//EN
CALSCALE:GREGORIAN
METHOD:PUBLISH
X-WR-CALNAME:Community Board 12-Manhattan
X-ORIGINAL-URL:https://cbmanhattan.cityofnewyork.us/cb12
X-WR-CALDESC:Events for Community Board 12-Manhattan
REFRESH-INTERVAL;VALUE=DURATION:PT1H
X-Robots-Tag:noindex
X-PUBLISHED-TTL:PT1H
BEGIN:VTIMEZONE
TZID:America/New_York
BEGIN:DAYLIGHT
TZOFFSETFROM:-0500
TZOFFSETTO:-0400
TZNAME:EDT
DTSTART:20260308T070000
END:DAYLIGHT
BEGIN:STANDARD
TZOFFSETFROM:-0400
TZOFFSETTO:-0500
TZNAME:EST
DTSTART:20261101T060000
END:STANDARD
BEGIN:DAYLIGHT
TZOFFSETFROM:-0500
TZOFFSETTO:-0400
TZNAME:EDT
DTSTART:20270314T070000
END:DAYLIGHT
BEGIN:STANDARD
TZOFFSETFROM:-0400
TZOFFSETTO:-0500
TZNAME:EST
DTSTART:20271107T060000
END:STANDARD
BEGIN:DAYLIGHT
TZOFFSETFROM:-0500
TZOFFSETTO:-0400
TZNAME:EDT
DTSTART:20280312T070000
END:DAYLIGHT
BEGIN:STANDARD
TZOFFSETFROM:-0400
TZOFFSETTO:-0500
TZNAME:EST
DTSTART:20281105T060000
END:STANDARD
END:VTIMEZONE
BEGIN:VEVENT
DTSTART;TZID=America/New_York:20271106T103000
DTEND;TZID=America/New_York:20271106T120000
DTSTAMP:20260421T153733
CREATED:20251124T201717Z
LAST-MODIFIED:20260325T171802Z
UID:10006896-1825497000-1825502400@cbmanhattan.cityofnewyork.us
SUMMARY:Concerns of the Aging Committee
DESCRIPTION:This meeting will occur in person at the CB12 Office on 530 W 166th Street\, New York\, NY\, and remotely via Zoom. A quorum of Committee Members will gather in person\, with some exceptions. \nTopic: Aging Committee Meeting\nRegister in advance for this webinar:\nhttps://us06web.zoom.us/webinar/register/WN_vqQLupPoQc67y-IlvFxUXQ \nAfter registering\, you will receive a confirmation email with details on how to join the webinar. \nMeeting information and agenda. \n  \n  \n  \n 
URL:https://cbmanhattan.cityofnewyork.us/cb12/calendar/concerns-of-the-aging-committee-12/2027-11-06/
END:VEVENT
BEGIN:VEVENT
DTSTART;TZID=America/New_York:20271106T103000
DTEND;TZID=America/New_York:20271106T120000
DTSTAMP:20260421T153733
CREATED:20260220T173332Z
LAST-MODIFIED:20260325T171556Z
UID:10006778-1825497000-1825502400@cbmanhattan.cityofnewyork.us
SUMMARY:Concerns of the Aging Committee
DESCRIPTION:This meeting will occur in person at the CB12 Office on 530 W 166th Street\, New York\, NY\, and remotely via Zoom. A quorum of Committee Members will gather in person\, with some exceptions. \nTopic: Aging Committee Meeting\nRegister in advance for this webinar:\nhttps://us06web.zoom.us/webinar/register/WN_vqQLupPoQc67y-IlvFxUXQ \nAfter registering\, you will receive a confirmation email with details on how to join the webinar. \nMeeting information and agenda. \n  \n  \n  \n 
URL:https://cbmanhattan.cityofnewyork.us/cb12/calendar/concerns-of-the-aging-committee-13/2027-11-06/
END:VEVENT
END:VCALENDAR