BEGIN:VCALENDAR
VERSION:2.0
PRODID:-//Community Board 12-Manhattan - ECPv6.15.20//NONSGML v1.0//EN
CALSCALE:GREGORIAN
METHOD:PUBLISH
X-WR-CALNAME:Community Board 12-Manhattan
X-ORIGINAL-URL:https://cbmanhattan.cityofnewyork.us/cb12
X-WR-CALDESC:Events for Community Board 12-Manhattan
REFRESH-INTERVAL;VALUE=DURATION:PT1H
X-Robots-Tag:noindex
X-PUBLISHED-TTL:PT1H
BEGIN:VTIMEZONE
TZID:America/New_York
BEGIN:DAYLIGHT
TZOFFSETFROM:-0500
TZOFFSETTO:-0400
TZNAME:EDT
DTSTART:20220313T070000
END:DAYLIGHT
BEGIN:STANDARD
TZOFFSETFROM:-0400
TZOFFSETTO:-0500
TZNAME:EST
DTSTART:20221106T060000
END:STANDARD
BEGIN:DAYLIGHT
TZOFFSETFROM:-0500
TZOFFSETTO:-0400
TZNAME:EDT
DTSTART:20230312T070000
END:DAYLIGHT
BEGIN:STANDARD
TZOFFSETFROM:-0400
TZOFFSETTO:-0500
TZNAME:EST
DTSTART:20231105T060000
END:STANDARD
BEGIN:DAYLIGHT
TZOFFSETFROM:-0500
TZOFFSETTO:-0400
TZNAME:EDT
DTSTART:20240310T070000
END:DAYLIGHT
BEGIN:STANDARD
TZOFFSETFROM:-0400
TZOFFSETTO:-0500
TZNAME:EST
DTSTART:20241103T060000
END:STANDARD
END:VTIMEZONE
BEGIN:VEVENT
DTSTART;TZID=America/New_York:20230907T103000
DTEND;TZID=America/New_York:20230907T120000
DTSTAMP:20260420T100209
CREATED:20230424T134553Z
LAST-MODIFIED:20230925T191640Z
UID:10002735-1694082600-1694088000@cbmanhattan.cityofnewyork.us
SUMMARY:Aging Committee
DESCRIPTION:This meeting will take place both in person at the CB12 Office on 530 W 166th Street\, New York\, NY\, and remotely via Zoom. A quorum of Committee Members will gather in person\, with some exceptions. \nWhen: Oct 5\, 2023 10:30 AM Eastern Time (US and Canada)\nTopic: Aging Committee Meeting\nRegister in advance for this webinar:\nhttps://us06web.zoom.us/webinar/register/WN_vqQLupPoQc67y-IlvFxUXQ \nAfter registering\, you will receive a confirmation email containing information about joining the webinar. \n  \n 
URL:https://cbmanhattan.cityofnewyork.us/cb12/calendar/aging-committee-4-2/2023-09-07/
END:VEVENT
BEGIN:VEVENT
DTSTART;TZID=America/New_York:20230907T183000
DTEND;TZID=America/New_York:20230907T210000
DTSTAMP:20260420T100209
CREATED:20230314T003822Z
LAST-MODIFIED:20230925T192704Z
UID:10002406-1694111400-1694120400@cbmanhattan.cityofnewyork.us
SUMMARY:Health & Environment Committee
DESCRIPTION:This meeting will take place both in person at the CB12 Office on 530 W 166th Street\, New York\, NY\, and remotely via Zoom. A quorum of Committee Members will gather in person\, with some exceptions. \n  \n  \n  \n 
URL:https://cbmanhattan.cityofnewyork.us/cb12/calendar/health-environment-committee-4/2023-09-07/
END:VEVENT
BEGIN:VEVENT
DTSTART;TZID=America/New_York:20230907T190000
DTEND;TZID=America/New_York:20230907T210000
DTSTAMP:20260420T100209
CREATED:20230314T003951Z
LAST-MODIFIED:20230925T193725Z
UID:10002428-1694113200-1694120400@cbmanhattan.cityofnewyork.us
SUMMARY:Housing & Human Services Committee
DESCRIPTION:This meeting will take place both in person at the CB12 Office on 530 W 166th Street\, New York\, NY\, and remotely via Zoom. A quorum of Committee Members will gather in person\, with some exceptions. \nWhen: Oct 5\, 2023 07:00 PM Eastern Time (US and Canada)\nTopic: Housing & Human Services Committee Meeting\nRegister in advance for this webinar:\nhttps://us02web.zoom.us/webinar/register/WN_3huLGAPOSoyzVjfLv2G-8Q \nAfter registering\, you will receive a confirmation email containing information about joining the webinar. \n  \n  \n  \n 
URL:https://cbmanhattan.cityofnewyork.us/cb12/calendar/housing-human-services-committee-4/2023-09-07/
END:VEVENT
END:VCALENDAR