BEGIN:VCALENDAR
VERSION:2.0
PRODID:-//Community Board 12-Manhattan - ECPv6.15.20//NONSGML v1.0//EN
CALSCALE:GREGORIAN
METHOD:PUBLISH
X-WR-CALNAME:Community Board 12-Manhattan
X-ORIGINAL-URL:https://cbmanhattan.cityofnewyork.us/cb12
X-WR-CALDESC:Events for Community Board 12-Manhattan
REFRESH-INTERVAL;VALUE=DURATION:PT1H
X-Robots-Tag:noindex
X-PUBLISHED-TTL:PT1H
BEGIN:VTIMEZONE
TZID:America/New_York
BEGIN:DAYLIGHT
TZOFFSETFROM:-0500
TZOFFSETTO:-0400
TZNAME:EDT
DTSTART:20220313T070000
END:DAYLIGHT
BEGIN:STANDARD
TZOFFSETFROM:-0400
TZOFFSETTO:-0500
TZNAME:EST
DTSTART:20221106T060000
END:STANDARD
BEGIN:DAYLIGHT
TZOFFSETFROM:-0500
TZOFFSETTO:-0400
TZNAME:EDT
DTSTART:20230312T070000
END:DAYLIGHT
BEGIN:STANDARD
TZOFFSETFROM:-0400
TZOFFSETTO:-0500
TZNAME:EST
DTSTART:20231105T060000
END:STANDARD
BEGIN:DAYLIGHT
TZOFFSETFROM:-0500
TZOFFSETTO:-0400
TZNAME:EDT
DTSTART:20240310T070000
END:DAYLIGHT
BEGIN:STANDARD
TZOFFSETFROM:-0400
TZOFFSETTO:-0500
TZNAME:EST
DTSTART:20241103T060000
END:STANDARD
END:VTIMEZONE
BEGIN:VEVENT
DTSTART;TZID=America/New_York:20230206T190000
DTEND;TZID=America/New_York:20230206T210000
DTSTAMP:20260420T223112
CREATED:20230202T172608Z
LAST-MODIFIED:20230202T172608Z
UID:10001512-1675710000-1675717200@cbmanhattan.cityofnewyork.us
SUMMARY:Traffic and Transportation
DESCRIPTION:Deals with local issues involving the NYC Department of Transportation. \nWhen: Feb 6\, 2023 07:00 PM Eastern Time (US and Canada)\nTopic: Traffic & Transportation Committee Meeting \nPlease click the link below to join the webinar:\nhttps://us02web.zoom.us/j/86756614600?pwd=Tys2WjRUU1RXWG9veURqY2hTdXRnQT09\nPasscode: 694502\nOr One tap mobile :\nUS: +16465588656\,\,86756614600#\,\,\,\,*694502# or +16469313860\,\,86756614600#\,\,\,\,*694502#\nOr Telephone:\nDial(for higher quality\, dial a number based on your current location):\nUS: +1 646 558 8656 or +1 646 931 3860 or +1 301 715 8592 or +1 305 224 1968 or +1 309 205 3325 or +1 312 626 6799 or +1 386 347 5053 or +1 507 473 4847 or +1 564 217 2000 or +1 669 444 9171 or +1 669 900 9128 or +1 689 278 1000 or +1 719 359 4580 or +1 253 205 0468 or +1 253 215 8782 or +1 346 248 7799 or +1 360 209 5623\nWebinar ID: 867 5661 4600\nInternational numbers available: https://us02web.zoom.us/u/kcGLiwxcTL \n  \n  \n  \n  \n  \n 
URL:https://cbmanhattan.cityofnewyork.us/cb12/calendar/traffic-and-transportation-2/
LOCATION:Main Office\, 530 W 166th Street\, 6th Fl\, New York\, NY\, 10032\, United States
END:VEVENT
END:VCALENDAR