BEGIN:VCALENDAR
VERSION:2.0
PRODID:-//Community Board 12-Manhattan - ECPv6.15.20//NONSGML v1.0//EN
CALSCALE:GREGORIAN
METHOD:PUBLISH
X-ORIGINAL-URL:https://cbmanhattan.cityofnewyork.us/cb12
X-WR-CALDESC:Events for Community Board 12-Manhattan
REFRESH-INTERVAL;VALUE=DURATION:PT1H
X-Robots-Tag:noindex
X-PUBLISHED-TTL:PT1H
BEGIN:VTIMEZONE
TZID:America/New_York
BEGIN:DAYLIGHT
TZOFFSETFROM:-0500
TZOFFSETTO:-0400
TZNAME:EDT
DTSTART:20190310T070000
END:DAYLIGHT
BEGIN:STANDARD
TZOFFSETFROM:-0400
TZOFFSETTO:-0500
TZNAME:EST
DTSTART:20191103T060000
END:STANDARD
BEGIN:DAYLIGHT
TZOFFSETFROM:-0500
TZOFFSETTO:-0400
TZNAME:EDT
DTSTART:20200308T070000
END:DAYLIGHT
BEGIN:STANDARD
TZOFFSETFROM:-0400
TZOFFSETTO:-0500
TZNAME:EST
DTSTART:20201101T060000
END:STANDARD
BEGIN:DAYLIGHT
TZOFFSETFROM:-0500
TZOFFSETTO:-0400
TZNAME:EDT
DTSTART:20210314T070000
END:DAYLIGHT
BEGIN:STANDARD
TZOFFSETFROM:-0400
TZOFFSETTO:-0500
TZNAME:EST
DTSTART:20211107T060000
END:STANDARD
END:VTIMEZONE
BEGIN:VEVENT
DTSTART;TZID=America/New_York:20201103T180000
DTEND;TZID=America/New_York:20201103T210000
DTSTAMP:20260421T054837
CREATED:20200414T151144Z
LAST-MODIFIED:20200414T155359Z
UID:10001430-1604426400-1604437200@cbmanhattan.cityofnewyork.us
SUMMARY:Business Development
DESCRIPTION:
URL:https://cbmanhattan.cityofnewyork.us/cb12/calendar/business-development/2020-11-03/
LOCATION:CB12 Manhattan Office\, 530 W. 166th Street\, 6th floor\, NEW YORK CITY\, NY\, 10032\, United States
CATEGORIES:Monthly Board Meeting
ORGANIZER;CN="pgarcia01@cb.nyc.gov":MAILTO:pgarcia01@cb.nyc.gov
END:VEVENT
BEGIN:VEVENT
DTSTART;TZID=America/New_York:20201103T190000
DTEND;TZID=America/New_York:20201103T210000
DTSTAMP:20260421T054837
CREATED:20200520T204536Z
LAST-MODIFIED:20200520T204536Z
UID:10001760-1604430000-1604437200@cbmanhattan.cityofnewyork.us
SUMMARY:Business Development Committee Meeting
DESCRIPTION:
URL:https://cbmanhattan.cityofnewyork.us/cb12/calendar/business-development-committee-meeting/2020-11-03/
LOCATION:CB12 Manhattan Office\, 530 W. 166th Street\, 6th floor\, NEW YORK CITY\, NY\, 10032\, United States
END:VEVENT
END:VCALENDAR