BEGIN:VCALENDAR
VERSION:2.0
PRODID:-//CB10 Manhattan Community Board - ECPv6.15.20//NONSGML v1.0//EN
CALSCALE:GREGORIAN
METHOD:PUBLISH
X-WR-CALNAME:CB10 Manhattan Community Board
X-ORIGINAL-URL:https://cbmanhattan.cityofnewyork.us/cb10
X-WR-CALDESC:Events for CB10 Manhattan Community Board
REFRESH-INTERVAL;VALUE=DURATION:PT1H
X-Robots-Tag:noindex
X-PUBLISHED-TTL:PT1H
BEGIN:VTIMEZONE
TZID:America/New_York
BEGIN:DAYLIGHT
TZOFFSETFROM:-0500
TZOFFSETTO:-0400
TZNAME:EDT
DTSTART:20210314T070000
END:DAYLIGHT
BEGIN:STANDARD
TZOFFSETFROM:-0400
TZOFFSETTO:-0500
TZNAME:EST
DTSTART:20211107T060000
END:STANDARD
BEGIN:DAYLIGHT
TZOFFSETFROM:-0500
TZOFFSETTO:-0400
TZNAME:EDT
DTSTART:20220313T070000
END:DAYLIGHT
BEGIN:STANDARD
TZOFFSETFROM:-0400
TZOFFSETTO:-0500
TZNAME:EST
DTSTART:20221106T060000
END:STANDARD
BEGIN:DAYLIGHT
TZOFFSETFROM:-0500
TZOFFSETTO:-0400
TZNAME:EDT
DTSTART:20230312T070000
END:DAYLIGHT
BEGIN:STANDARD
TZOFFSETFROM:-0400
TZOFFSETTO:-0500
TZNAME:EST
DTSTART:20231105T060000
END:STANDARD
END:VTIMEZONE
BEGIN:VEVENT
DTSTART;TZID=America/New_York:20220302T180000
DTEND;TZID=America/New_York:20220302T210000
DTSTAMP:20260423T171503
CREATED:20210225T193628Z
LAST-MODIFIED:20230130T174013Z
UID:10000973-1646244000-1646254800@cbmanhattan.cityofnewyork.us
SUMMARY:General Meeting - Full Board
DESCRIPTION:The Full Board meets on the first Wednesday of each month via Zoom.\nMeetings are also livestreamed and recorded on our Facebook Live. Live feeds of zoom meetings are available for broadcasting upon request.\nClick Here to Join Zoom Meeting\nClick Here to download and import to iCalendar\nDial In +19292056099\,\,93133006057# US (New York)Register in advance for this webinar:\nhttps://zoom.us/webinar/register/WN_7JBVQ2rOSOaAkSEvy1YxSw  \nAfter registering\, you will receive a confirmation email containing information about joining the webinar. \n 
URL:https://cbmanhattan.cityofnewyork.us/cb10/event/general-board-meeting-via-zoom-2022-03-02/
LOCATION:NY\, United States
CATEGORIES:Board Meeting
END:VEVENT
END:VCALENDAR